BEGIN:VCALENDAR
VERSION:2.0
PRODID:-//InvisionCommunity Events 4.7.14//EN
METHOD:PUBLISH
CALSCALE:GREGORIAN
REFRESH-INTERVAL:PT15M
X-PUBLISHED-TTL:PT15M
X-WR-CALNAME:The Elder Scrolls Online
NAME:The Elder Scrolls Online
BEGIN:VTIMEZONE
TZID:Europe/London
TZURL:http://tzurl.org/zoneinfo/Europe/London
X-LIC-LOCATION:Europe/London
BEGIN:DAYLIGHT
TZOFFSETFROM:+0000
TZOFFSETTO:+0100
TZNAME:BST
DTSTART:20190331T020000Z
RRULE:FREQ=YEARLY;BYMONTH=3;BYDAY=-1SU
END:DAYLIGHT
BEGIN:STANDARD
TZOFFSETFROM:+0100
TZOFFSETTO:+0000
TZNAME:GMT
DTSTART:20191027T020000Z
RRULE:FREQ=YEARLY;BYMONTH=10;BYDAY=-1SU
END:STANDARD
END:VTIMEZONE
BEGIN:VEVENT
SUMMARY:(TESO) Учебный нормал-триал на выбо
	р
DTSTAMP:20190919T081759Z
SEQUENCE:0
UID:6011-1-afb15bc42254ad5fb0481ce5e9c8144d@forum.bandits-clan.ru
ORGANIZER;CN="Bandit":web@bandits-clan.ru
DESCRIPTION:С 16 00 по Мск
	 Всем нович
	кам и желаю
	щим получит
	ь заветную от
	метку в рост
	ере гильдии!
	 Добро пожал
	овать в учебны
	й триал по вашем
	у выбору! Собер
	емся в тимспике и
	 решим\, куда пойдем -
	 любой триал Крагло
	рна\, любой триал D
	LC - ваше желание 
	будет для меня 
	законом  Тебе
	 уже исполнилос
	ь 160 Чемпионски
	х очков? Пора на
	чинать взрослую ж
	изнь в игре! Захв
	ати тимспик\, табард
	 и не забудь - сбор будет в Гилд
	холле! 12 человек\, звание Thie
	f+/Soldier+ (анкета на фо
	руме и заход в тимспик
	 - получить это звание проще 
	простого!)\, от 160 ЧП - 1-2 т
	анка\, 2 хилера\, ост
	альные - любые дд. 
	Приоритет новичкам 
	\nP.S. Объясняю кратко и 
	внятно. На 1 триал у нас у
	йдет от 30 минут (Аэтериан
	ский Архив) до 1\,2-1\,5 ча
	са (это если мы п
	ойдем в ХоФ или Санспайр\, а вы там
	 кааааак начнете вылетать... )
DTSTART:20190925T130000Z
ATTENDEE;CN="Bandit";CUTYPE=INDIVIDUAL;PARTSTAT=ACCEPTED:web
	@bandits-clan.ru
ATTENDEE;CN=".chapp";CUTYPE=INDIVIDUAL;PARTSTAT=ACCEPTED:web
	@bandits-clan.ru
ATTENDEE;CN="Aquarius";CUTYPE=INDIVIDUAL;PARTSTAT=ACCEPTED:w
	eb@bandits-clan.ru
ATTENDEE;CN="DAK";CUTYPE=INDIVIDUAL;PARTSTAT=ACCEPTED:web@ba
	ndits-clan.ru
ATTENDEE;CN="Ghost_77";CUTYPE=INDIVIDUAL;PARTSTAT=ACCEPTED:w
	eb@bandits-clan.ru
ATTENDEE;CN="Aktarios";CUTYPE=INDIVIDUAL;PARTSTAT=ACCEPTED:w
	eb@bandits-clan.ru
ATTENDEE;CN="Royscoap";CUTYPE=INDIVIDUAL;PARTSTAT=ACCEPTED:w
	eb@bandits-clan.ru
ATTENDEE;CN="podnebesniivolk";CUTYPE=INDIVIDUAL;PARTSTAT=ACC
	EPTED:web@bandits-clan.ru
ATTENDEE;CN="ImMaxDaDude";CUTYPE=INDIVIDUAL;PARTSTAT=ACCEPTE
	D:web@bandits-clan.ru
END:VEVENT
END:VCALENDAR
