BEGIN:VCALENDAR
VERSION:2.0
PRODID:-//InvisionCommunity Events 4.7.14//EN
METHOD:PUBLISH
CALSCALE:GREGORIAN
REFRESH-INTERVAL:PT15M
X-PUBLISHED-TTL:PT15M
X-WR-CALNAME:The Elder Scrolls Online
NAME:The Elder Scrolls Online
BEGIN:VTIMEZONE
TZID:Europe/London
TZURL:http://tzurl.org/zoneinfo/Europe/London
X-LIC-LOCATION:Europe/London
BEGIN:DAYLIGHT
TZOFFSETFROM:+0000
TZOFFSETTO:+0100
TZNAME:BST
DTSTART:20190331T020000Z
RRULE:FREQ=YEARLY;BYMONTH=3;BYDAY=-1SU
END:DAYLIGHT
BEGIN:STANDARD
TZOFFSETFROM:+0100
TZOFFSETTO:+0000
TZNAME:GMT
DTSTART:20191027T020000Z
RRULE:FREQ=YEARLY;BYMONTH=10;BYDAY=-1SU
END:STANDARD
END:VTIMEZONE
BEGIN:VEVENT
SUMMARY:[TESO] vet HOF
DTSTAMP:20190916T085515Z
SEQUENCE:1
UID:6004-1-afb15bc42254ad5fb0481ce5e9c8144d@forum.bandits-clan.ru
ORGANIZER;CN="Zym":web@bandits-clan.ru
DESCRIPTION: \nГде-то в Герм
	ании\, в землях 
	Баварии\, по д
	ороге из Нюр
	нберга в Дре
	зден есть мал
	енький городо
	к Хоф. Его насе
	ляют добрые и 
	приветливые лю
	ди. Жизнь там т
	ечет неспешно.
	 Утопая в зел
	ени деревьев
	\, низенькие
	 дома Хофа 
	сами собой
	 устанавлив
	ают и настраи
	вают на неспешн
	ый порядок жизни м
	естных жителей. Да 
	и куда им спешить? 
	Их там меньше 50-ти
	 тысяч человек. 
	У них даже пробо
	к не бывает. На в
	есь город только
	 один кинотеатр\,
	 но туда никто 
	не ходит\, в
	едь по выхо
	дным они неспешно пр
	огуливаются по Бюргерпарк Терезие
	нштайн (Bürgerpark Theresienstein).
	 И хоть это
	т провин
	циальный г
	ородок не в
	ыделяется 
	среди прочих
	 высокой техно
	логичностью\, вс
	ё же монорельсов
	ая дорога у них е
	сть. Да сами взг
	ляните\, в тако
	м месте хочетс
	я жить и состарит
	ься\, приглашая на вы
	ходные в гости внук
	ов.\n \nВы спросит
	е\, \"Как это связ
	ано с гильдейск
	им событием и вете
	ранским ХОФом?\" 
	Да никак! Нас жд
	ёт страдание\, бо
	ль и нескончаемы
	е вайпы. После вхо
	да в дверь 2-3 ч
	еловека зале
	зут под кагути.
	 На первом бос
	се половина рей
	да сдохнет от до
	тов\, вторая сл
	овит тейкинг а
	им от сфер. На вто
	ром боссе наверху 
	не успеют нажать на
	 кнопку\, а если и у
	спеют\, то мейн за
	вершит это дело\,
	 в панике пытаяс
	ь понять\, куда 
	сейчас вжухнет. На п
	ауке на первой же 
	кнопке мы еле снес
	ем ему 15% хп\, ост
	альное доверш
	ат ады\, пропа
	рив половину ре
	йда. По дороге 
	к тройняшкам 
	танки криво с
	ведут сферы\
	, а до этого 
	здоровый 
	автоматон
	 разбарахл
	ит пару-тро
	йку милишни
	ков. На тройняш
	ках танки окон
	чательно доведут 
	РЛа до нервного с
	рыва. И\, если по
	везет дойти до
	 ласта\, то Сб
	орочный Генера
	л в страхе умер
	еть от старост
	и задамажит сам с
	ебя\, лишь бы мы уш
	ли. Требования д
	ля победителей:\n
	дд: умение ддши
	ть\;\nтанк: умение т
	анковать и определ
	ять время по циферб
	лату (1 место)\;\nхи
	л: умение хилить. Сб
	ор в указанное время в тс. Разнесём та
	м всё!.. юхуу...
DTSTART:20190921T150000Z
END:VEVENT
END:VCALENDAR
