BEGIN:VCALENDAR
VERSION:2.0
PRODID:-//InvisionCommunity Events 4.7.14//EN
METHOD:PUBLISH
CALSCALE:GREGORIAN
REFRESH-INTERVAL:PT15M
X-PUBLISHED-TTL:PT15M
X-WR-CALNAME:The Elder Scrolls Online
NAME:The Elder Scrolls Online
BEGIN:VTIMEZONE
TZID:Europe/London
TZURL:http://tzurl.org/zoneinfo/Europe/London
X-LIC-LOCATION:Europe/London
BEGIN:DAYLIGHT
TZOFFSETFROM:+0000
TZOFFSETTO:+0100
TZNAME:BST
DTSTART:20190331T020000Z
RRULE:FREQ=YEARLY;BYMONTH=3;BYDAY=-1SU
END:DAYLIGHT
BEGIN:STANDARD
TZOFFSETFROM:+0100
TZOFFSETTO:+0000
TZNAME:GMT
DTSTART:20191027T020000Z
RRULE:FREQ=YEARLY;BYMONTH=10;BYDAY=-1SU
END:STANDARD
END:VTIMEZONE
BEGIN:VEVENT
SUMMARY:[TESO] Обучающие вет триалы Крагл
	орна (AA/SO/HRC)
DTSTAMP:20190914T070400Z
SEQUENCE:2
UID:5995-1-afb15bc42254ad5fb0481ce5e9c8144d@forum.bandits-clan.ru
ORGANIZER;CN="Ghost_77":web@bandits-clan.ru
DESCRIPTION:Обучающий р
	ейд по ветеранским ве
	рсиям триалов Краглорна.
	 (AA/SO/HRC)\nКоличество 
	триалов\, в кот
	орые мы пойде
	м будет зави
	сеть от про
	гресса рейд
	а\, порядок
	 и приори
	тет прох
	ождения 
	будет произ
	водиться путём г
	олосования участ
	ников рейда. Начало событ
	ия 19-30 по МСК \nСбор начин
	ается в 19-20. Если вы запис
	ались\, но не пришли д
	о 19-30\, ваше место мо
	жет занять любой желающий и
	з чата. Требования: \n- Звание 
	от Raider/Warrior и выше\n- Подтвер
	жденный ДПС 26к+ для дд\n- 
	Танк и хил аттестация ранга norma
	l\n- Табард гильдии\n- TeamS
	peak\n- Отметка о пр
	охождении но
	рмал версии 
	триала с гиль
	дией\n(Если вы 
	не соответст
	вуете определ
	енному требовани
	ю\, но уверены\,
	 что хорошо сп
	равитесь со с
	воей задачей\, про
	сьба связаться со мной в и
	гре) Нам потребуются:\n- 1 
	танка\n- 2 хила\n- 8 дд Чтоб
	ы попасть в рейд:\n1. На
	жать кнопку \"ПОЙДУ
	\" справа.\n2. Запись в
	 комментариях обя
	зательна (с указ
	анием роли и I
	D\, если он отл
	ичается от фор
	умного) Продолжи
	тельность события - 
	не более 2 часов (р
	ейд закончится в
	 21-30 мск независ
	имо от текущего
	 прогресса (возможн
	ы исключения)(и еще о
	дна скобочка))\nСбо
	р\, перекуры\, перекус
	ы и т.д. также вход
	ят в указанные 
	2 часа\, так чт
	о прошу всех приходит
	ь вовремя и подготовленными на все 
	случаи жизни)
DTSTART:20190920T163000Z
ATTENDEE;CN="Ghost_77";CUTYPE=INDIVIDUAL;PARTSTAT=ACCEPTED:w
	eb@bandits-clan.ru
ATTENDEE;CN="CannibalYeti";CUTYPE=INDIVIDUAL;PARTSTAT=ACCEPT
	ED:web@bandits-clan.ru
ATTENDEE;CN="LawOfJulia";CUTYPE=INDIVIDUAL;PARTSTAT=ACCEPTED
	:web@bandits-clan.ru
ATTENDEE;CN="Ctpahhik";CUTYPE=INDIVIDUAL;PARTSTAT=ACCEPTED:w
	eb@bandits-clan.ru
ATTENDEE;CN="Санжик";CUTYPE=INDIVIDUAL;PARTSTAT=ACCEPT
	ED:web@bandits-clan.ru
ATTENDEE;CN="BLACKRIVEL";CUTYPE=INDIVIDUAL;PARTSTAT=ACCEPTED
	:web@bandits-clan.ru
ATTENDEE;CN="Zym";CUTYPE=INDIVIDUAL;PARTSTAT=ACCEPTED:web@ba
	ndits-clan.ru
ATTENDEE;CN="Grayfox90";CUTYPE=INDIVIDUAL;PARTSTAT=ACCEPTED:
	web@bandits-clan.ru
ATTENDEE;CN="Canis";CUTYPE=INDIVIDUAL;PARTSTAT=ACCEPTED:web@
	bandits-clan.ru
ATTENDEE;CN="Igkuz";CUTYPE=INDIVIDUAL;PARTSTAT=ACCEPTED:web@
	bandits-clan.ru
ATTENDEE;CN="Radaella";CUTYPE=INDIVIDUAL;PARTSTAT=ACCEPTED:w
	eb@bandits-clan.ru
ATTENDEE;CN="DemGruim ";CUTYPE=INDIVIDUAL;PARTSTAT=ACCEPTED:
	web@bandits-clan.ru
ATTENDEE;CN="Murmilon";CUTYPE=INDIVIDUAL;PARTSTAT=ACCEPTED:w
	eb@bandits-clan.ru
ATTENDEE;CN="Heymexa";CUTYPE=INDIVIDUAL;PARTSTAT=ACCEPTED:we
	b@bandits-clan.ru
ATTENDEE;CN="Harrin";CUTYPE=INDIVIDUAL;PARTSTAT=ACCEPTED:web
	@bandits-clan.ru
ATTENDEE;CN="Elusivekiller";CUTYPE=INDIVIDUAL;PARTSTAT=ACCEP
	TED:web@bandits-clan.ru
ATTENDEE;CN="Nbait";CUTYPE=INDIVIDUAL;PARTSTAT=ACCEPTED:web@
	bandits-clan.ru
ATTENDEE;CN="podnebesniivolk";CUTYPE=INDIVIDUAL;PARTSTAT=ACC
	EPTED:web@bandits-clan.ru
END:VEVENT
END:VCALENDAR
