BEGIN:VCALENDAR
VERSION:2.0
PRODID:-//InvisionCommunity Events 4.7.14//EN
METHOD:PUBLISH
CALSCALE:GREGORIAN
REFRESH-INTERVAL:PT15M
X-PUBLISHED-TTL:PT15M
X-WR-CALNAME:The Elder Scrolls Online
NAME:The Elder Scrolls Online
BEGIN:VTIMEZONE
TZID:Europe/London
TZURL:http://tzurl.org/zoneinfo/Europe/London
X-LIC-LOCATION:Europe/London
BEGIN:DAYLIGHT
TZOFFSETFROM:+0000
TZOFFSETTO:+0100
TZNAME:BST
DTSTART:20190331T020000Z
RRULE:FREQ=YEARLY;BYMONTH=3;BYDAY=-1SU
END:DAYLIGHT
BEGIN:STANDARD
TZOFFSETFROM:+0100
TZOFFSETTO:+0000
TZNAME:GMT
DTSTART:20191027T020000Z
RRULE:FREQ=YEARLY;BYMONTH=10;BYDAY=-1SU
END:STANDARD
END:VTIMEZONE
BEGIN:VEVENT
SUMMARY:[TESO] vHRC обучалка
DTSTAMP:20190911T105911Z
SEQUENCE:0
UID:5991-1-afb15bc42254ad5fb0481ce5e9c8144d@forum.bandits-clan.ru
ORGANIZER;CN="dreemspot":web@bandits-clan.ru
DESCRIPTION:В 15.00 по Московск
	ому времени. Приглашаю 12
	 человек – 1-2 танка\, 2
	 хила\, 8-9 дд (Об
	язательна отметка о
	 прохождении нормал вер
	сии триала (мод DBGN)\, у дд
	 обязателен ДПС от 26к+)\, для
	 прохождения:\nЦитадель Хель Ра / He
	l Ra Citadel [vHRC]. При себе иметь: T
	eamSpeak (хотя бы возможно
	сть слушать)\, Таб
	ард\, ремкомплект
	ы\, еду!\nДля на
	ибольшего у
	добства в осво
	ении контента\, советую за
	ранее установить такие моды как BanditsUser Int
	erface / Code's Combat Alerts / RaidNotifier. Дан
	ные моды по
	казывают ат
	аки боссов и
	 что нужно 
	делать в с
	лучае испо
	льзования их бо
	ссами. В коммен
	тариях указывайте
	 свою роль и игров
	ой id.\nНа событие прихо
	дите заранее\, сборы 
	начинаются за 10-15 
	мин. до назначе
	нного времени\,
	 в противном сл
	учае\, ваше ме
	сто уйдет д
	ругому желающ
	ему. Так же н
	е забывайте
	 нажимать на кнопку«ПОЙ
	ДУ»! Набор в группу осуществляется по к
	нопке!
DTSTART:20190914T120000Z
ATTENDEE;CN="Iwarion";CUTYPE=INDIVIDUAL;PARTSTAT=ACCEPTED:we
	b@bandits-clan.ru
ATTENDEE;CN="dreemspot";CUTYPE=INDIVIDUAL;PARTSTAT=ACCEPTED:
	web@bandits-clan.ru
ATTENDEE;CN="BadassLoaderBot";CUTYPE=INDIVIDUAL;PARTSTAT=ACC
	EPTED:web@bandits-clan.ru
ATTENDEE;CN="ncwka";CUTYPE=INDIVIDUAL;PARTSTAT=ACCEPTED:web@
	bandits-clan.ru
ATTENDEE;CN="podnebesniivolk";CUTYPE=INDIVIDUAL;PARTSTAT=ACC
	EPTED:web@bandits-clan.ru
ATTENDEE;CN="Ghost_77";CUTYPE=INDIVIDUAL;PARTSTAT=ACCEPTED:w
	eb@bandits-clan.ru
ATTENDEE;CN="Grayfox90";CUTYPE=INDIVIDUAL;PARTSTAT=ACCEPTED:
	web@bandits-clan.ru
END:VEVENT
END:VCALENDAR
