BEGIN:VCALENDAR
VERSION:2.0
PRODID:-//InvisionCommunity Events 4.7.14//EN
METHOD:PUBLISH
CALSCALE:GREGORIAN
REFRESH-INTERVAL:PT15M
X-PUBLISHED-TTL:PT15M
X-WR-CALNAME:The Elder Scrolls Online
NAME:The Elder Scrolls Online
BEGIN:VTIMEZONE
TZID:Europe/London
TZURL:http://tzurl.org/zoneinfo/Europe/London
X-LIC-LOCATION:Europe/London
BEGIN:DAYLIGHT
TZOFFSETFROM:+0000
TZOFFSETTO:+0100
TZNAME:BST
DTSTART:20190331T020000Z
RRULE:FREQ=YEARLY;BYMONTH=3;BYDAY=-1SU
END:DAYLIGHT
BEGIN:STANDARD
TZOFFSETFROM:+0100
TZOFFSETTO:+0000
TZNAME:GMT
DTSTART:20191027T020000Z
RRULE:FREQ=YEARLY;BYMONTH=10;BYDAY=-1SU
END:STANDARD
END:VTIMEZONE
BEGIN:VEVENT
SUMMARY:[TESO] Обучающий vet HOF
DTSTAMP:20190909T074014Z
SEQUENCE:0
UID:5986-1-afb15bc42254ad5fb0481ce5e9c8144d@forum.bandits-clan.ru
ORGANIZER;CN="Zym":web@bandits-clan.ru
DESCRIPTION:\n\nВетеранская версия Halls of 
	Fabrications. (наличие длс Морр
	овинд или подписки)\n
	\nДля дд 30к дпс по атт
	естации.\nТанки уже н
	абраны. Лео\, Мор
	декай\, жду вас
	 к началу РТ.
	\nХилам разог
	нанный манарег
	ен и умение пол
	ьзоваться адд
	оном пурж трек
	ер.\n\nЗапись 
	по коммента
	риям. Очеред
	ь определяется также по комм
	ентариям. Сбор в указанное время в тс.
DTSTART:20190914T150000Z
END:VEVENT
END:VCALENDAR
