BEGIN:VCALENDAR
VERSION:2.0
PRODID:-//InvisionCommunity Events 4.7.14//EN
METHOD:PUBLISH
CALSCALE:GREGORIAN
REFRESH-INTERVAL:PT15M
X-PUBLISHED-TTL:PT15M
X-WR-CALNAME:The Elder Scrolls Online
NAME:The Elder Scrolls Online
BEGIN:VTIMEZONE
TZID:Europe/London
TZURL:http://tzurl.org/zoneinfo/Europe/London
X-LIC-LOCATION:Europe/London
BEGIN:DAYLIGHT
TZOFFSETFROM:+0000
TZOFFSETTO:+0100
TZNAME:BST
DTSTART:20190331T020000Z
RRULE:FREQ=YEARLY;BYMONTH=3;BYDAY=-1SU
END:DAYLIGHT
BEGIN:STANDARD
TZOFFSETFROM:+0100
TZOFFSETTO:+0000
TZNAME:GMT
DTSTART:20191027T020000Z
RRULE:FREQ=YEARLY;BYMONTH=10;BYDAY=-1SU
END:STANDARD
END:VTIMEZONE
BEGIN:VEVENT
SUMMARY:[TESO] Воскресная арена. vBRP
DTSTAMP:20190902T201035Z
SEQUENCE:0
UID:5967-1-afb15bc42254ad5fb0481ce5e9c8144d@forum.bandits-clan.ru
ORGANIZER;CN="mrachny":web@bandits-clan.ru
DESCRIPTION:Ветеранская Blackrose Pris
	on Arena. Приглаша
	ю желающих пр
	ойти данную арен
	у. В случае успе
	ха получаем с
	кин\, уникаль
	ное оружие\,
	 а также листочек
	 довольно интересного и 
	дорогого мотива. Начало в
	 20-00 мск\, сбор в 19-50 м
	ск. Запись в комм
	ентариях\, приори
	тет в порядке о
	череди и для тех
	\, кто не имеет о
	тметки о прохож
	дении арены. Я могу 
	пойти на танке или дд
	\, поэтому нам понадобят
	ся:\n- 1 хил (Олориме + мен
	динг / твр / сенкчуари / ворм
	\; чокторн / симфония). Пу
	рдж!\n- 1-2 дд (хорош
	ий аое урон + возможнос
	ть переключиться на соло
	 цель)\n- 0-1 танк (эбон 
	+ дракон / йолн
	акрин). Умен
	ие стягиват
	ь мобов. Ум
	ение стак
	ать ренжо
	вых мобов. Т
	ребования (прош
	у неукоснительно соблюдать с
	ледующие пункты):\n- наличие DLC Mur
	kmire\n- 600+cp\n- подтвержденный ДПС 40к+
	 для дд\n- 18к hp min для хила и дд\n-
	 танк с аттестацией Master\n- 
	хил с аттестацией Vet
	eran+\n- обязательное ознако
	мление с механиками\, например тут http://foru
	m.bandits-clan.ru/index.php?showtopic=66044 Про
	должительность
	 события - не более 
	3 часов\, вне зависимости от дости
	гнутого прогресса.
DTSTART:20190908T170000Z
END:VEVENT
END:VCALENDAR
