BEGIN:VCALENDAR
VERSION:2.0
PRODID:-//InvisionCommunity Events 4.7.14//EN
METHOD:PUBLISH
CALSCALE:GREGORIAN
REFRESH-INTERVAL:PT15M
X-PUBLISHED-TTL:PT15M
X-WR-CALNAME:The Elder Scrolls Online
NAME:The Elder Scrolls Online
BEGIN:VTIMEZONE
TZID:Europe/London
TZURL:http://tzurl.org/zoneinfo/Europe/London
X-LIC-LOCATION:Europe/London
BEGIN:DAYLIGHT
TZOFFSETFROM:+0000
TZOFFSETTO:+0100
TZNAME:BST
DTSTART:20190331T020000Z
RRULE:FREQ=YEARLY;BYMONTH=3;BYDAY=-1SU
END:DAYLIGHT
BEGIN:STANDARD
TZOFFSETFROM:+0100
TZOFFSETTO:+0000
TZNAME:GMT
DTSTART:20191027T020000Z
RRULE:FREQ=YEARLY;BYMONTH=10;BYDAY=-1SU
END:STANDARD
END:VTIMEZONE
BEGIN:VEVENT
SUMMARY:[TESO] Обучающий vet HOF
DTSTAMP:20190902T103417Z
SEQUENCE:1
UID:5966-1-afb15bc42254ad5fb0481ce5e9c8144d@forum.bandits-clan.ru
ORGANIZER;CN="Zym":web@bandits-clan.ru
DESCRIPTION: \nВетеранская версия Halls of
	 Fabrications. (наличие 
	длс Моррови
	нд или подписк
	и) Сложный для
	 освоения контен
	т не только по м
	еханикам\, но 
	и по челленджу
	\, который ус
	траивают на
	м настакива
	емые друг на
	 друга баги
	. Впервые 
	проходит
	ся на кум
	улятивной
	 тяге от взр
	ывающихся п
	уканов. Мини
	мальный порог вх
	ождения для дд - а
	ттестация в рос
	тере гильдии от 3
	0к. Для хилов\, 
	наличие аддон
	а пурж трекер\
	, разогнанный
	 мана реген и д
	ешевый морф пур
	жа. Для танков у
	мение выживать в ус
	ловиях \"танчи так\
	, как будто тебя хил не 
	видит\". При себе иметь реакцию на уровне
	  \nhttp://img.tregnukcut.ru/sport/img-3836-1530550800.jpg \n
	а также об
	язательно на
	личие дара я
	сновидения и п
	редугадывания м
	еханик до того\,
	 как они произо
	шли\, даже если 
	триал будет т
	олько завтра. С
	аппорт группе\,
	 найти меня до н
	ачала события в 
	игре\, чтобы обс
	удить сетап. Лю
	бого да всякого
	 с собой не воз
	ьму. Именно 
	вы будете т
	ащить нас.
	 Запись по 
	комментари
	ям. Очередь о
	пределяется также по комментари
	ям. Сбор в указанное время в тс.\n
DTSTART:20190907T150000Z
END:VEVENT
END:VCALENDAR
