BEGIN:VCALENDAR
VERSION:2.0
PRODID:-//InvisionCommunity Events 4.7.14//EN
METHOD:PUBLISH
CALSCALE:GREGORIAN
REFRESH-INTERVAL:PT15M
X-PUBLISHED-TTL:PT15M
X-WR-CALNAME:The Elder Scrolls Online
NAME:The Elder Scrolls Online
BEGIN:VTIMEZONE
TZID:Europe/London
TZURL:http://tzurl.org/zoneinfo/Europe/London
X-LIC-LOCATION:Europe/London
BEGIN:DAYLIGHT
TZOFFSETFROM:+0000
TZOFFSETTO:+0100
TZNAME:BST
DTSTART:20190331T020000Z
RRULE:FREQ=YEARLY;BYMONTH=3;BYDAY=-1SU
END:DAYLIGHT
BEGIN:STANDARD
TZOFFSETFROM:+0100
TZOFFSETTO:+0000
TZNAME:GMT
DTSTART:20191027T020000Z
RRULE:FREQ=YEARLY;BYMONTH=10;BYDAY=-1SU
END:STANDARD
END:VTIMEZONE
BEGIN:VEVENT
SUMMARY:[ТЕСО] вет триалы Краглорна
DTSTAMP:20190826T082655Z
SEQUENCE:1
UID:5927-1-afb15bc42254ad5fb0481ce5e9c8144d@forum.bandits-clan.ru
ORGANIZER;CN="Zym":web@bandits-clan.ru
DESCRIPTION: \nВет три
	алы Крага
	! Обучение
	 механикам пр
	илагается. Х
	М включаем оп
	ционально. П
	риоритет для тех
	\, кто пришел учи
	ться и вообще хоч
	ет посмотреть\, чт
	о за триалы такие.
	 Так что\, дорог
	ие мои ветераны\, 
	ваша война на этот раз 
	закончена. Ограничение 
	160+. Хилы\, танки\, дд\, и 
	другие роли - вс
	е нужны. Пишемся
	\, даже если под 
	темой уже куча
	 комментариев -
	 половина из н
	их всё равно 
	не придёт. З
	апись в рейд 
	по коммента
	риям. Приори
	тет очереди
	 также по комм
	ентариям.\nОбязат
	ельно указываем 
	в комментарии свою
	 роль и ID\, если 
	по какой-то невероятной прич
	ине он не совпадает с внутрифорумным.
DTSTART:20190829T163000Z
END:VEVENT
END:VCALENDAR
