BEGIN:VCALENDAR
VERSION:2.0
PRODID:-//InvisionCommunity Events 4.7.14//EN
METHOD:PUBLISH
CALSCALE:GREGORIAN
REFRESH-INTERVAL:PT15M
X-PUBLISHED-TTL:PT15M
X-WR-CALNAME:The Elder Scrolls Online
NAME:The Elder Scrolls Online
BEGIN:VTIMEZONE
TZID:Europe/London
TZURL:http://tzurl.org/zoneinfo/Europe/London
X-LIC-LOCATION:Europe/London
BEGIN:DAYLIGHT
TZOFFSETFROM:+0000
TZOFFSETTO:+0100
TZNAME:BST
DTSTART:20190331T020000Z
RRULE:FREQ=YEARLY;BYMONTH=3;BYDAY=-1SU
END:DAYLIGHT
BEGIN:STANDARD
TZOFFSETFROM:+0100
TZOFFSETTO:+0000
TZNAME:GMT
DTSTART:20191027T020000Z
RRULE:FREQ=YEARLY;BYMONTH=10;BYDAY=-1SU
END:STANDARD
END:VTIMEZONE
BEGIN:VEVENT
SUMMARY:[TESO] Обучающий триал hm HRC
DTSTAMP:20190825T100303Z
SEQUENCE:0
UID:5917-1-afb15bc42254ad5fb0481ce5e9c8144d@forum.bandits-clan.ru
ORGANIZER;CN="Ghost_77":web@bandits-clan.ru
DESCRIPTION:Обучающий вете
	ранский триал hm HRC (Цит
	адель Хель Ра) Начало соб
	ытия 19-30 по МСК \nСбор нач
	инается в 19-20. Если вы зап
	исались\, но не пришл
	и до 19-30\, ваше мес
	то может занять любой ж
	елающий из чата. Требования: 
	\n- Звание от Bandit/Guard и выше\n
	- Подтвержденный ДПС 30к+ дл
	я дд\n- Танк и хил аттестация ранга
	 normal\n- Табард гильдии\n- Tea
	mSpeak\n- Отметка о 
	прохождении
	 ветеранской
	 версии триа
	ла с гильдией\
	n(Если вы не со
	ответствует
	е определенном
	у требованию\, н
	о уверены\, что
	 хорошо справи
	тесь со своей 
	задачей\, просьба св
	язаться со мной в игре) Нам 
	потребуются: \n- 2 танка\n- 2 х
	ила\n- 8 дд \nЧтобы попасть 
	в рейд:\n1. Нажать кноп
	ку \"ПОЙДУ\" справа
	.\n2. Запись в коммент
	ариях обязательн
	а (с указанием р
	оли и ID\, если 
	он отличается 
	от форумного)
	 Продолжительность 
	события - не более 2 
	часов (рейд закон
	чится в 21-30 мск
	 независимо 
	от текущего прогр
	есса (возможны иск
	лючения)(и еще одна с
	кобочка))\nСбор\, пер
	екуры\, перекусы и т
	.д. также входят 
	в указанные 2 
	часа\, так чт
	о прошу всех приходит
	ь вовремя и подготовленными на все 
	случаи жизни)
DTSTART:20190830T163000Z
ATTENDEE;CN="Kellariella";CUTYPE=INDIVIDUAL;PARTSTAT=ACCEPTE
	D:web@bandits-clan.ru
ATTENDEE;CN="Ghost_77";CUTYPE=INDIVIDUAL;PARTSTAT=ACCEPTED:w
	eb@bandits-clan.ru
ATTENDEE;CN="Ctpahhik";CUTYPE=INDIVIDUAL;PARTSTAT=ACCEPTED:w
	eb@bandits-clan.ru
ATTENDEE;CN="StarF0xy";CUTYPE=INDIVIDUAL;PARTSTAT=ACCEPTED:w
	eb@bandits-clan.ru
ATTENDEE;CN="yovv";CUTYPE=INDIVIDUAL;PARTSTAT=ACCEPTED:web@b
	andits-clan.ru
ATTENDEE;CN="BLACKRIVEL";CUTYPE=INDIVIDUAL;PARTSTAT=ACCEPTED
	:web@bandits-clan.ru
ATTENDEE;CN="Raonull";CUTYPE=INDIVIDUAL;PARTSTAT=ACCEPTED:we
	b@bandits-clan.ru
ATTENDEE;CN="AGARIK";CUTYPE=INDIVIDUAL;PARTSTAT=ACCEPTED:web
	@bandits-clan.ru
ATTENDEE;CN="G00blin(Vlad)";CUTYPE=INDIVIDUAL;PARTSTAT=ACCEP
	TED:web@bandits-clan.ru
ATTENDEE;CN="Санжик";CUTYPE=INDIVIDUAL;PARTSTAT=ACCEPT
	ED:web@bandits-clan.ru
ATTENDEE;CN="Mephystofel";CUTYPE=INDIVIDUAL;PARTSTAT=ACCEPTE
	D:web@bandits-clan.ru
ATTENDEE;CN="ncwka";CUTYPE=INDIVIDUAL;PARTSTAT=ACCEPTED:web@
	bandits-clan.ru
ATTENDEE;CN="kondrat";CUTYPE=INDIVIDUAL;PARTSTAT=ACCEPTED:we
	b@bandits-clan.ru
ATTENDEE;CN="sergey.provkin";CUTYPE=INDIVIDUAL;PARTSTAT=ACCE
	PTED:web@bandits-clan.ru
ATTENDEE;CN="Undertaker83";CUTYPE=INDIVIDUAL;PARTSTAT=ACCEPT
	ED:web@bandits-clan.ru
END:VEVENT
END:VCALENDAR
