BEGIN:VCALENDAR
VERSION:2.0
PRODID:-//InvisionCommunity Events 4.7.14//EN
METHOD:PUBLISH
CALSCALE:GREGORIAN
REFRESH-INTERVAL:PT15M
X-PUBLISHED-TTL:PT15M
X-WR-CALNAME:The Elder Scrolls Online
NAME:The Elder Scrolls Online
BEGIN:VTIMEZONE
TZID:Europe/London
TZURL:http://tzurl.org/zoneinfo/Europe/London
X-LIC-LOCATION:Europe/London
BEGIN:DAYLIGHT
TZOFFSETFROM:+0000
TZOFFSETTO:+0100
TZNAME:BST
DTSTART:20190331T020000Z
RRULE:FREQ=YEARLY;BYMONTH=3;BYDAY=-1SU
END:DAYLIGHT
BEGIN:STANDARD
TZOFFSETFROM:+0100
TZOFFSETTO:+0000
TZNAME:GMT
DTSTART:20191027T020000Z
RRULE:FREQ=YEARLY;BYMONTH=10;BYDAY=-1SU
END:STANDARD
END:VTIMEZONE
BEGIN:VEVENT
SUMMARY:[TESO] ПВП Сиродил  \"Arena Gladiator's Proofs\"
DTSTAMP:20190822T130106Z
SEQUENCE:0
UID:5913-1-afb15bc42254ad5fb0481ce5e9c8144d@forum.bandits-clan.ru
ORGANIZER;CN="Anioto":web@bandits-clan.ru
DESCRIPTION:\nНаша цель ---
	\n\n«Захвати
	ть девять
	 различны
	х ресурсов» —
	 различных объе
	ктов снабжения\, контролируе
	мых врагом.\n\nЧтобы получить ---\n\n&gt\;&gt\;&gt\;
	&gt\;&gt\;&gt\;&gt\;&gt\;Подтвержден
	ие мастерства гладиатора арены (Arena Gladiator
	's Proofs).\n\n&gt\;&gt\;&gt\;&gt\;&gt\;&gt\;&gt\;&gt\;ДЛЯ
	 дальнейшег
	о их накопления
	 и получения Рунно
	го контейнера.\n О
	сновные требования
	 ---\n\nВо время забег
	а находится в Тим
	Спике (\"Обязател
	ьно\" для того что 
	бы услышать коман
	ду\, и вовремя слинят
	ь от врага ) но и не забы
	ваем про Табард гильд
	ии.\n\nБегаем ---\n\nЗа Ковенант Да
	ггерфол \nКомпания --Bahlokda
	an--\nЛевел 10+ шмотки по своему усмот
	рению жестких правил нету.
DTSTART:20190822T160000Z
END:VEVENT
END:VCALENDAR
