BEGIN:VCALENDAR
VERSION:2.0
PRODID:-//InvisionCommunity Events 4.7.14//EN
METHOD:PUBLISH
CALSCALE:GREGORIAN
REFRESH-INTERVAL:PT15M
X-PUBLISHED-TTL:PT15M
X-WR-CALNAME:The Elder Scrolls Online
NAME:The Elder Scrolls Online
BEGIN:VTIMEZONE
TZID:Europe/London
TZURL:http://tzurl.org/zoneinfo/Europe/London
X-LIC-LOCATION:Europe/London
BEGIN:DAYLIGHT
TZOFFSETFROM:+0000
TZOFFSETTO:+0100
TZNAME:BST
DTSTART:20190331T020000Z
RRULE:FREQ=YEARLY;BYMONTH=3;BYDAY=-1SU
END:DAYLIGHT
BEGIN:STANDARD
TZOFFSETFROM:+0100
TZOFFSETTO:+0000
TZNAME:GMT
DTSTART:20191027T020000Z
RRULE:FREQ=YEARLY;BYMONTH=10;BYDAY=-1SU
END:STANDARD
END:VTIMEZONE
BEGIN:VEVENT
SUMMARY:(TESO) Учебный нормал-триал на выбо
	р
DTSTAMP:20190819T114538Z
SEQUENCE:0
UID:5905-1-afb15bc42254ad5fb0481ce5e9c8144d@forum.bandits-clan.ru
ORGANIZER;CN="Bandit":web@bandits-clan.ru
DESCRIPTION:С 16 00 по Мск\n
	Всем новичк
	ам и желающ
	им получить
	 заветную отм
	етку в ростер
	е гильдии! До
	бро пожалова
	ть в учебный тр
	иал по вашему вы
	бору! Соберемся 
	в тимспике и решим\,
	 куда пойдем - любой
	 триал Краглорна\, 
	любой триал DLC 
	- ваше желание 
	будет для меня 
	законом  Тебе
	 уже исполнилос
	ь 160 Чемпионски
	х очков? Пора на
	чинать взрослую ж
	изнь в игре! Захв
	ати тимспик\, табард
	 и не забудь - сбор будет в Гилд
	холле! 12 человек\, звание Thie
	f+/Soldier+ (анкета на фо
	руме и заход в тимспик
	 - получить это звание проще 
	простого!)\, от 160 ЧП - 1-2 тан
	ка\, 2 хилера\, осталь
	ные - любые дд. \nПри
	оритет новичкам P.S.
	 Объясняю кратко и 
	внятно. На 1 триал у нас у
	йдет от 30 минут (Аэтериан
	ский Архив) до 1\,2-1\,5 ча
	са (это если мы п
	ойдем в ХоФ или Санспайр\, а вы там
	 кааааак начнете вылетать... )
DTSTART:20190821T130000Z
ATTENDEE;CN="Bandit";CUTYPE=INDIVIDUAL;PARTSTAT=ACCEPTED:web
	@bandits-clan.ru
ATTENDEE;CN="xTrust";CUTYPE=INDIVIDUAL;PARTSTAT=ACCEPTED:web
	@bandits-clan.ru
ATTENDEE;CN="Iwarion";CUTYPE=INDIVIDUAL;PARTSTAT=ACCEPTED:we
	b@bandits-clan.ru
ATTENDEE;CN="Doctor";CUTYPE=INDIVIDUAL;PARTSTAT=ACCEPTED:web
	@bandits-clan.ru
ATTENDEE;CN="Kanz1er";CUTYPE=INDIVIDUAL;PARTSTAT=ACCEPTED:we
	b@bandits-clan.ru
ATTENDEE;CN="BadassLoaderBot";CUTYPE=INDIVIDUAL;PARTSTAT=ACC
	EPTED:web@bandits-clan.ru
ATTENDEE;CN="awoub";CUTYPE=INDIVIDUAL;PARTSTAT=ACCEPTED:web@
	bandits-clan.ru
ATTENDEE;CN="Lesrtak";CUTYPE=INDIVIDUAL;PARTSTAT=ACCEPTED:we
	b@bandits-clan.ru
ATTENDEE;CN="Fleche";CUTYPE=INDIVIDUAL;PARTSTAT=ACCEPTED:web
	@bandits-clan.ru
END:VEVENT
END:VCALENDAR
