BEGIN:VCALENDAR
VERSION:2.0
PRODID:-//InvisionCommunity Events 4.7.14//EN
METHOD:PUBLISH
CALSCALE:GREGORIAN
REFRESH-INTERVAL:PT15M
X-PUBLISHED-TTL:PT15M
X-WR-CALNAME:The Elder Scrolls Online
NAME:The Elder Scrolls Online
BEGIN:VTIMEZONE
TZID:Europe/London
TZURL:http://tzurl.org/zoneinfo/Europe/London
X-LIC-LOCATION:Europe/London
BEGIN:DAYLIGHT
TZOFFSETFROM:+0000
TZOFFSETTO:+0100
TZNAME:BST
DTSTART:20190331T020000Z
RRULE:FREQ=YEARLY;BYMONTH=3;BYDAY=-1SU
END:DAYLIGHT
BEGIN:STANDARD
TZOFFSETFROM:+0100
TZOFFSETTO:+0000
TZNAME:GMT
DTSTART:20191027T020000Z
RRULE:FREQ=YEARLY;BYMONTH=10;BYDAY=-1SU
END:STANDARD
END:VTIMEZONE
BEGIN:VEVENT
SUMMARY:[TESO] Обучающий vet MOL
DTSTAMP:20190819T093156Z
SEQUENCE:1
UID:5904-1-afb15bc42254ad5fb0481ce5e9c8144d@forum.bandits-clan.ru
ORGANIZER;CN="Zym":web@bandits-clan.ru
DESCRIPTION: \nВ некотор
	ом царстве\, в 
	некотором гос
	ударстве жил-бы
	л добрый волшебник
	\, и звали его Ракха
	т по прозвищу \"Кого
	ть Лорхаджа\". Жил
	 он на тёмной стор
	оне луны\, а по выхо
	дным приезжал в Х
	рам \"Семи загад
	ок\"\, где нес
	пешно гулял
	 по освещенн
	ым жаровням
	и широким кор
	идорам и грелся
	 в теплых лучах с
	олнца Марки Смерт
	и. Все любили Ракх
	ата\, был он со всеми 
	добр\, каждому говорил \"зд
	равствуйте\"\, \"спасибо\"
	\, \"пожалуйста\"\, \"п
	риятно аппетит
	а\" и другие вол
	шебные слова.
	 А еще Ракха
	т очень лю
	бил обнимашк
	и. Всех обнимал
	 своими большими
	 даэдрическими кр
	ыльями\, и каждый\
	, кого он обнял\
	, облачался в 
	красивый син
	ий цвет с голу
	быми прожилкам
	и. Поэтому в Хр
	аме всегда был
	о весело и у всех
	 был цвет настро
	ения синий. Жил
	 он не тужил\, 
	и вот однажды
	 напали на Х
	рам двенадц
	ать пьяных раз
	бойников. Каждый
	 из них на аттест
	ации смог выдать б
	ольше 25к дпс. Был
	и среди них щито
	вики в сетах эб
	он\, алкош и йо
	лнакриин с ц
	епочками\, к
	огтями и пр
	окачанными
	 пылесосами.
	 А некоторые
	 даже могли
	 лечить сво
	их раненых
	 товарищей.
	  Бедные ж
	ители храма 
	испугались 
	и побежали ж
	аловаться Ра
	кхату о нап
	адении. В эт
	о время раз
	бойники с п
	омощью кадж
	итки-предате
	льницы по им
	ени Адора'х
	ай ворвались в
	 храм и начали
	 убивать бед
	ных растерянн
	ых монахов. К ни
	м на помощь при
	шли старшие мо
	нахи-маги в дли
	нных юбках\, мон
	ахи-щитовики\, м
	онахи-лучники и м
	онахи двуручи\, 
	потому что был
	и они с двуру
	чами. Но и и
	х пьяная т
	олпа разбойн
	иков убила. 
	Вспомнил добр
	ый волшебник пр
	о своего друга 
	- Жай'хассу За
	бытого и посла
	л его биться. 
	Но пьяные раз
	бойники быстро
	 сообразили\, к
	ак с ним совла
	дать и спрята
	лись за столб
	ами. Бедный Ж
	ай'хасса Забы
	тый пал под н
	атиском разб
	ойников и про 
	него снова заб
	ыли. Тогда Ракх
	ат послал на п
	омощь огров. Бы
	ли среди них о
	гры-шаманы и 
	белые огры-и
	стерички\, ко
	торые посреди
	 боя психовал
	и и начинали г
	ромко орать. Н
	о пьяную толп
	у было не ос
	тановить. С 
	горя послал
	 Ракхат на 
	бой близне
	цов Вашаи и
	 С’кинраи. 
	Долго близ
	нецы путали 
	разбойников:
	 проклинали их
	 белым и черны
	м проклятьями
	\, призывали на 
	помощь монахов
	 с двуручами и м
	онахов в длинны
	х платьях\, ки
	дали на них ран
	домные свапы\,
	 разлетались 
	по разным стор
	онам и молились
	\, чтобы не смо
	гли пройти ра
	збойники даль
	ше. Но и тут одо
	лели их разбой
	ники. Раздели
	лись на два от
	ряда и забил
	и их по одн
	ому. Не ра
	стерялся Ра
	кхат и пост
	авил перед ра
	збойниками ло
	вушку с цепочк
	ами и двух злых 
	голодных кошек
	\, которых он с
	пециально не
	 кормил целых
	 3 часа. Одо
	леваемые г
	олодом огро
	мные кошки 
	набросились
	 на пьяных разб
	ойников. Те исп
	угались и пусти
	лись от них на
	утёк. Так и б
	егали они др
	уг за другом
	 пока бедные
	 истощенные
	 голодом кошк
	и не упали з
	амертво от 
	недоедания 
	и отсутствия 
	сил. Дернули 
	разбойники ср
	азу две цепочк
	и и схитрили\, 
	пощадив часть
	 защитников\, 
	которые пришл
	и туда биться.
	  Тогда заман
	ил их Ракхат в 
	темный коридо
	р и послал туд
	а маджахедов и
	 камикадзе. Но 
	и это не остан
	овило пьяную 
	толпу. Разозли
	лся Ракхат не н
	а шутку. Кидалс
	я в разбойников
	 метеорами\, мах
	ал крыльями\, п
	ризывал тени\
	, спавнил вой
	ды под нога
	ми разбойн
	иков\, посыл
	ал в разбойн
	иков  ̶а̶н̶а
	̶л̶ь̶н̶ы̶е̶
	 ̶ш̶а̶р̶и̶к̶
	и̶ синие орбы\
	, но ничего не
	 помогало одо
	леть пьяных р
	азбойников. Тог
	да встал он в ц
	ентр большой р
	уны и начал к
	астовать БФЗ
	 - большое фи
	нишное закл
	инание. И о
	долели добро
	го волшебника
	 злые пьяные р
	азбойники. Раз
	грабили они хра
	м\, забрав все м
	агические вещ
	и\, оторвали Ра
	кхату усы и 
	ушли оттуд
	а синие. Кон
	ец. Запись в
	 рейд по ко
	мментариям
	. Спасибо уч
	астникам рейда! Один из с
	ильнейших паровозов за скином дро-матра)
	\n\n
DTSTART:20190824T150000Z
END:VEVENT
END:VCALENDAR
