BEGIN:VCALENDAR
VERSION:2.0
PRODID:-//InvisionCommunity Events 4.7.14//EN
METHOD:PUBLISH
CALSCALE:GREGORIAN
REFRESH-INTERVAL:PT15M
X-PUBLISHED-TTL:PT15M
X-WR-CALNAME:The Elder Scrolls Online
NAME:The Elder Scrolls Online
BEGIN:VTIMEZONE
TZID:Europe/London
TZURL:http://tzurl.org/zoneinfo/Europe/London
X-LIC-LOCATION:Europe/London
BEGIN:DAYLIGHT
TZOFFSETFROM:+0000
TZOFFSETTO:+0100
TZNAME:BST
DTSTART:20190331T020000Z
RRULE:FREQ=YEARLY;BYMONTH=3;BYDAY=-1SU
END:DAYLIGHT
BEGIN:STANDARD
TZOFFSETFROM:+0100
TZOFFSETTO:+0000
TZNAME:GMT
DTSTART:20191027T020000Z
RRULE:FREQ=YEARLY;BYMONTH=10;BYDAY=-1SU
END:STANDARD
END:VTIMEZONE
BEGIN:VEVENT
SUMMARY:[TESO] Клаудрест +3 (CR+3)
DTSTAMP:20190816T082739Z
SEQUENCE:2
UID:5895-1-afb15bc42254ad5fb0481ce5e9c8144d@forum.bandits-clan.ru
ORGANIZER;CN="Ghost_77":web@bandits-clan.ru
DESCRIPTION:Нормал версия три
	ала клаудрест+3 (CR+3)
	\nРейд в основном
	 нацелен на фар
	м\, если будут нови
	чки\, кратко пробег
	усь по тактике. Начало с
	обытия 19-30 по МСК\nСбор н
	ачинается в 19-20. Если вы 
	записались\, но не п
	ришли до 19-30\, в
	аше место может з
	анять любой желающий из чат
	а. Требования:\n- Звание от Thief/So
	ldier и выше\n- Табард гильдии\n
	- TeamSpeak\n- Отметка 
	о прохождени
	и нормал три
	ала с гильд
	ией обязатель
	на\n(Если вы не
	 соответству
	ете определен
	ному требованию\
	, но уверены\, ч
	то хорошо спра
	витесь со сво
	ей задачей\, просьба
	 связаться со мной в игре) Нам
	 потребуются:\n- 1-2 танка\n- 1-2 хила
	\n- 8-10 дд\n-Знание механи
	к\, в +3 они никак 
	не меняются
	\, только п
	рисутствую
	т все одновр
	еменно. В сл
	учае система
	тических нару
	шений механик
	\, РЛ оставляе
	т за собой право 
	на исключение из с
	остава рейда. Чтобы по
	пасть в рейд:\n1. Нажат
	ь кнопку \"ПОЙДУ\" 
	справа.\n2. Запись в
	 комментариях обя
	зательна (с указ
	анием роли и I
	D\, если он отл
	ичается от фор
	умного) Продолжи
	тельность события - 
	не более 2 часов (р
	ейд закончится в
	 21-30 мск независ
	имо от текущего
	 прогресса (возможн
	ы исключения)(и еще о
	дна скобочка))\nСбо
	р\, перекуры\, перекус
	ы и т.д. также вход
	ят в указанные 
	2 часа\, так чт
	о прошу всех приходит
	ь вовремя и подготовленными на все 
	случаи жизни)
DTSTART:20190824T163000Z
ATTENDEE;CN="Ghost_77";CUTYPE=INDIVIDUAL;PARTSTAT=ACCEPTED:w
	eb@bandits-clan.ru
ATTENDEE;CN="Ganler";CUTYPE=INDIVIDUAL;PARTSTAT=ACCEPTED:web
	@bandits-clan.ru
ATTENDEE;CN="Indervald";CUTYPE=INDIVIDUAL;PARTSTAT=ACCEPTED:
	web@bandits-clan.ru
ATTENDEE;CN="Ctpahhik";CUTYPE=INDIVIDUAL;PARTSTAT=ACCEPTED:w
	eb@bandits-clan.ru
ATTENDEE;CN="Wardanahan";CUTYPE=INDIVIDUAL;PARTSTAT=ACCEPTED
	:web@bandits-clan.ru
ATTENDEE;CN="Canis";CUTYPE=INDIVIDUAL;PARTSTAT=ACCEPTED:web@
	bandits-clan.ru
ATTENDEE;CN="LawOfJulia";CUTYPE=INDIVIDUAL;PARTSTAT=ACCEPTED
	:web@bandits-clan.ru
ATTENDEE;CN="Aspdnepr";CUTYPE=INDIVIDUAL;PARTSTAT=ACCEPTED:w
	eb@bandits-clan.ru
ATTENDEE;CN="IIMelissaII";CUTYPE=INDIVIDUAL;PARTSTAT=ACCEPTE
	D:web@bandits-clan.ru
ATTENDEE;CN="Heymexa";CUTYPE=INDIVIDUAL;PARTSTAT=ACCEPTED:we
	b@bandits-clan.ru
ATTENDEE;CN="zelenin";CUTYPE=INDIVIDUAL;PARTSTAT=ACCEPTED:we
	b@bandits-clan.ru
ATTENDEE;CN="awoub";CUTYPE=INDIVIDUAL;PARTSTAT=ACCEPTED:web@
	bandits-clan.ru
ATTENDEE;CN="AGARIK";CUTYPE=INDIVIDUAL;PARTSTAT=ACCEPTED:web
	@bandits-clan.ru
ATTENDEE;CN="Kanz1er";CUTYPE=INDIVIDUAL;PARTSTAT=ACCEPTED:we
	b@bandits-clan.ru
END:VEVENT
END:VCALENDAR
