BEGIN:VCALENDAR
VERSION:2.0
PRODID:-//InvisionCommunity Events 4.7.14//EN
METHOD:PUBLISH
CALSCALE:GREGORIAN
REFRESH-INTERVAL:PT15M
X-PUBLISHED-TTL:PT15M
X-WR-CALNAME:The Elder Scrolls Online
NAME:The Elder Scrolls Online
BEGIN:VTIMEZONE
TZID:Europe/London
TZURL:http://tzurl.org/zoneinfo/Europe/London
X-LIC-LOCATION:Europe/London
BEGIN:DAYLIGHT
TZOFFSETFROM:+0000
TZOFFSETTO:+0100
TZNAME:BST
DTSTART:20190331T020000Z
RRULE:FREQ=YEARLY;BYMONTH=3;BYDAY=-1SU
END:DAYLIGHT
BEGIN:STANDARD
TZOFFSETFROM:+0100
TZOFFSETTO:+0000
TZNAME:GMT
DTSTART:20191027T020000Z
RRULE:FREQ=YEARLY;BYMONTH=10;BYDAY=-1SU
END:STANDARD
END:VTIMEZONE
BEGIN:VEVENT
SUMMARY:[TESO] ПВП Сиродиил  \"Arena Gladiator's Proofs\"
DTSTAMP:20190815T112039Z
SEQUENCE:0
UID:5894-1-afb15bc42254ad5fb0481ce5e9c8144d@forum.bandits-clan.ru
ORGANIZER;CN="Anioto":web@bandits-clan.ru
DESCRIPTION:Наша цель -
	--   «Захва
	тить девя
	ть различ
	ных ресурс
	ов» — разл
	ичных объектов сн
	абжения\, контролируемых врагом.
	  Чтобы получить --- &gt\;&gt\;&gt\;&gt\;&gt\;
	&gt\;&gt\;&gt\;Подтверждение мастерс
	тва гладиатора арены (Arena Gladiator's Proofs). &gt\;&
	gt\;&gt\;&gt\;&gt\;&gt\;&gt\;&gt\;ДЛЯ д
	альнейшего
	 их накопления
	 и получения Р
	унного контейн
	ера. \nОсновные т
	ребования --- Во 
	время забега на
	ходится в ТимСпике
	 (\"Обязательно\" д
	ля того что бы усл
	ышать команду\, и
	 вовремя слинять 
	от врага ) но и не
	 забываем про Та
	бард гильдии. Бегаем ---  За
	 Ковенант Даггерфол \n Компания
	 --Bahlokdaan--\n Левел 10+ ш
	мотки по своему усмотрению жестких 
	правил нету.
DTSTART:20190815T160200Z
END:VEVENT
END:VCALENDAR
