BEGIN:VCALENDAR
VERSION:2.0
PRODID:-//InvisionCommunity Events 4.7.14//EN
METHOD:PUBLISH
CALSCALE:GREGORIAN
REFRESH-INTERVAL:PT15M
X-PUBLISHED-TTL:PT15M
X-WR-CALNAME:The Elder Scrolls Online
NAME:The Elder Scrolls Online
BEGIN:VTIMEZONE
TZID:Europe/London
TZURL:http://tzurl.org/zoneinfo/Europe/London
X-LIC-LOCATION:Europe/London
BEGIN:DAYLIGHT
TZOFFSETFROM:+0000
TZOFFSETTO:+0100
TZNAME:BST
DTSTART:20190331T020000Z
RRULE:FREQ=YEARLY;BYMONTH=3;BYDAY=-1SU
END:DAYLIGHT
BEGIN:STANDARD
TZOFFSETFROM:+0100
TZOFFSETTO:+0000
TZNAME:GMT
DTSTART:20191027T020000Z
RRULE:FREQ=YEARLY;BYMONTH=10;BYDAY=-1SU
END:STANDARD
END:VTIMEZONE
BEGIN:VEVENT
SUMMARY:[TESO] Обучающий vet HOF
DTSTAMP:20190812T101905Z
SEQUENCE:1
UID:5885-1-afb15bc42254ad5fb0481ce5e9c8144d@forum.bandits-clan.ru
ORGANIZER;CN="Zym":web@bandits-clan.ru
DESCRIPTION: \nВетеранская версия Halls 
	of Fabrications. Сложный дл
	я освоения конте
	нт не только по 
	механикам\, но
	 и по челлендж
	у\, который у
	страивают н
	ам настакив
	аемые друг н
	а друга баг
	и. Впервые 
	проходитс
	я на кумул
	ятивной тяг
	е от взрываю
	щихся пуканов
	.  Минимальный п
	орог вхождения для
	 дд - аттестация в 
	ростере гильдии 
	от 30к. Для хилов\
	, наличие адона
	 пурж трекер\,
	 разогнанный
	 мана реген и д
	ешевый морф пур
	жа. Для танков у
	мение выживать в ус
	ловиях \"танчи так\
	, как будто тебя 
	хил не видит\"
	. При себе 
	иметь ре
	акцию н
	а уровне Р
	оскомнадз
	ора по уда
	лению ант
	иправител
	ьственных к
	омментарие
	в\, а также 
	обязательно
	 наличие дара
	 ясновидения и 
	предугадывания м
	еханик до того\, к
	ак они произошли\
	, даже если вы еще
	 не зашли в сам 
	триал. Саппорт 
	группе\, найти м
	еня до начала со
	бытия в игре\, чт
	обы обсудить се
	тап. Любого да 
	всякого с соб
	ой не возьму.
	 Именно вы 
	будете тащи
	ть нас. За
	пись по комм
	ентариям. О
	чередь определя
	ется также по комментариям. Сбор в ука
	занное время в тс.\n\n
DTSTART:20190817T150000Z
END:VEVENT
END:VCALENDAR
