BEGIN:VCALENDAR
VERSION:2.0
PRODID:-//InvisionCommunity Events 4.7.14//EN
METHOD:PUBLISH
CALSCALE:GREGORIAN
REFRESH-INTERVAL:PT15M
X-PUBLISHED-TTL:PT15M
X-WR-CALNAME:The Elder Scrolls Online
NAME:The Elder Scrolls Online
BEGIN:VTIMEZONE
TZID:Europe/London
TZURL:http://tzurl.org/zoneinfo/Europe/London
X-LIC-LOCATION:Europe/London
BEGIN:DAYLIGHT
TZOFFSETFROM:+0000
TZOFFSETTO:+0100
TZNAME:BST
DTSTART:20190331T020000Z
RRULE:FREQ=YEARLY;BYMONTH=3;BYDAY=-1SU
END:DAYLIGHT
BEGIN:STANDARD
TZOFFSETFROM:+0100
TZOFFSETTO:+0000
TZNAME:GMT
DTSTART:20191027T020000Z
RRULE:FREQ=YEARLY;BYMONTH=10;BYDAY=-1SU
END:STANDARD
END:VTIMEZONE
BEGIN:VEVENT
SUMMARY:[TESO] Обучающий триал vet AS+2
DTSTAMP:20190809T185805Z
SEQUENCE:0
UID:5873-1-afb15bc42254ad5fb0481ce5e9c8144d@forum.bandits-clan.ru
ORGANIZER;CN="Ghost_77":web@bandits-clan.ru
DESCRIPTION:Обучающий ветера
	нский триал AS+2 (как бы хм\, царство 
	нам небесное) (asylum sanctorium)\n
	Для доступа в триал требуется DLC
	 \"Заводной город\" (Clockwork City)\n
	Начало события 19-30 по М
	СК \nСбор начинается в 19-20.
	 Если вы записались\, 
	но не пришли до 19-3
	0\, ваше место мож
	ет занять любой желающий из
	 чата. Требования: \n- Звание
	 от Bandit/Guard и выше\n- Подтвер
	жденный ДПС 35к+ для дд\n- 
	Танк и хил аттестация ранга norma
	l\n- Табард гильдии\n- Team
	Speak\n- Отметка о 
	прохождении
	 ветеранской
	 версии триа
	ла с гильдией\
	n(Если вы не со
	ответствует
	е определенном
	у требованию\, н
	о уверены\, что
	 хорошо справи
	тесь со своей 
	задачей\, просьба св
	язаться со мной в и
	гре) Нам потребуются: \
	n- 2 танка (заранее об
	судить со мной сетап)\n- 
	2 хила (заранее обсудит
	ь со мной сетап)\n- 8 дд
	 (чтоб дпс лился р
	екой\, как наша кро
	вь\, когда выйду
	т миники) Вас жду
	т боль\, страдан
	ия\, мучения и не
	скончаемая аго
	ния\, из плюсов м
	огу отметить\,
	 что каждая 
	смерть буде
	т быстрой.\
	nЦелью рей
	да являетс
	я ознакомл
	ение участ
	ников с пр
	инципом ве
	дения боев
	ых действий в
	 условиях повы
	шенной опаснос
	ти\; отсутствия ре
	сурсов\, права на ош
	ибку и шансов на по
	беду.\nДа и просто\, по
	чему бы не сходить (
	ну на крайняк +1 зак
	роем\, а всем скажем 
	что закрыли +2) Чтобы п
	опасть в рейд:\n1. Нажа
	ть кнопку \"ПОЙДУ\"
	 справа.\n2. Запись в
	 комментариях обя
	зательна (с указ
	анием роли и I
	D\, если он отл
	ичается от фор
	умного) Продолжи
	тельность события - 
	не более 2 часов (р
	ейд закончится в
	 21-30 мск независ
	имо от текущего
	 прогресса (возможн
	ы исключения)(и еще о
	дна скобочка))\nСбо
	р\, перекуры\, перекус
	ы и т.д. также вход
	ят в указанные 
	2 часа\, так чт
	о прошу все
	х приходить 
	вовремя и подготовленн
	ыми на все случаи жизни) Спонсор рейда:\nh
	ttp://www.anekdotovmir.ru/wp-content/uploads/2016/04/%D1%81%D0%BC%D0%B5%D1
	%80%D1%82%D1%8C-250x197.jpg
DTSTART:20190816T163000Z
ATTENDEE;CN="Ghost_77";CUTYPE=INDIVIDUAL;PARTSTAT=ACCEPTED:w
	eb@bandits-clan.ru
ATTENDEE;CN="xTrust";CUTYPE=INDIVIDUAL;PARTSTAT=ACCEPTED:web
	@bandits-clan.ru
ATTENDEE;CN="AGARIK";CUTYPE=INDIVIDUAL;PARTSTAT=ACCEPTED:web
	@bandits-clan.ru
ATTENDEE;CN="Санжик";CUTYPE=INDIVIDUAL;PARTSTAT=ACCEPT
	ED:web@bandits-clan.ru
ATTENDEE;CN="Kellariella";CUTYPE=INDIVIDUAL;PARTSTAT=ACCEPTE
	D:web@bandits-clan.ru
ATTENDEE;CN="G00blin(Vlad)";CUTYPE=INDIVIDUAL;PARTSTAT=ACCEP
	TED:web@bandits-clan.ru
ATTENDEE;CN="LeoNerevarine";CUTYPE=INDIVIDUAL;PARTSTAT=ACCEP
	TED:web@bandits-clan.ru
ATTENDEE;CN="Ctpahhik";CUTYPE=INDIVIDUAL;PARTSTAT=ACCEPTED:w
	eb@bandits-clan.ru
ATTENDEE;CN="Wardanahan";CUTYPE=INDIVIDUAL;PARTSTAT=ACCEPTED
	:web@bandits-clan.ru
ATTENDEE;CN="Mr. Default";CUTYPE=INDIVIDUAL;PARTSTAT=ACCEPTE
	D:web@bandits-clan.ru
ATTENDEE;CN="Undertaker83";CUTYPE=INDIVIDUAL;PARTSTAT=ACCEPT
	ED:web@bandits-clan.ru
ATTENDEE;CN="botannik";CUTYPE=INDIVIDUAL;PARTSTAT=ACCEPTED:w
	eb@bandits-clan.ru
ATTENDEE;CN="Ganler";CUTYPE=INDIVIDUAL;PARTSTAT=ACCEPTED:web
	@bandits-clan.ru
ATTENDEE;CN="Krolik5280";CUTYPE=INDIVIDUAL;PARTSTAT=ACCEPTED
	:web@bandits-clan.ru
ATTENDEE;CN="IIMelissaII";CUTYPE=INDIVIDUAL;PARTSTAT=ACCEPTE
	D:web@bandits-clan.ru
ATTENDEE;CN="BlackouT-D";CUTYPE=INDIVIDUAL;PARTSTAT=ACCEPTED
	:web@bandits-clan.ru
ATTENDEE;CN="BLACKRIVEL";CUTYPE=INDIVIDUAL;PARTSTAT=ACCEPTED
	:web@bandits-clan.ru
ATTENDEE;CN="Grayfox90";CUTYPE=INDIVIDUAL;PARTSTAT=ACCEPTED:
	web@bandits-clan.ru
END:VEVENT
END:VCALENDAR
