BEGIN:VCALENDAR
VERSION:2.0
PRODID:-//InvisionCommunity Events 4.7.14//EN
METHOD:PUBLISH
CALSCALE:GREGORIAN
REFRESH-INTERVAL:PT15M
X-PUBLISHED-TTL:PT15M
X-WR-CALNAME:The Elder Scrolls Online
NAME:The Elder Scrolls Online
BEGIN:VTIMEZONE
TZID:Europe/London
TZURL:http://tzurl.org/zoneinfo/Europe/London
X-LIC-LOCATION:Europe/London
BEGIN:DAYLIGHT
TZOFFSETFROM:+0000
TZOFFSETTO:+0100
TZNAME:BST
DTSTART:20190331T020000Z
RRULE:FREQ=YEARLY;BYMONTH=3;BYDAY=-1SU
END:DAYLIGHT
BEGIN:STANDARD
TZOFFSETFROM:+0100
TZOFFSETTO:+0000
TZNAME:GMT
DTSTART:20191027T020000Z
RRULE:FREQ=YEARLY;BYMONTH=10;BYDAY=-1SU
END:STANDARD
END:VTIMEZONE
BEGIN:VEVENT
SUMMARY:[TESO] Обучающий триал hmHRC
DTSTAMP:20190805T101408Z
SEQUENCE:0
UID:5865-1-afb15bc42254ad5fb0481ce5e9c8144d@forum.bandits-clan.ru
ORGANIZER;CN="Ghost_77":web@bandits-clan.ru
DESCRIPTION:Обучающий ветер
	анский триал hmHRC (Цитадел
	ь Хель Ра)\nНачало события 1
	9-30 по МСК \nСбор начинает
	ся в 19-20. Если вы записалис
	ь\, но не пришли до 19
	-30\, ваше место может
	 занять любой желающий из чат
	а. \nТребования: \n- Звание от B
	andit/Guard и выше\n- Подтвержд
	енный ДПС 30к+ для дд\n- Та
	нк и хил аттестация ранга normal\
	n- Табард гильдии\n- Team
	Speak\n- Отметка о 
	прохождении
	 ветеранской
	 версии триа
	ла с гильдией\
	n(Если вы не со
	ответствует
	е определенном
	у требованию\, н
	о уверены\, что
	 хорошо справите
	сь со своей зада
	чей\, просьба связаться 
	со мной в игре) \nНам потребую
	тся: \n- 2 танка\n- 2 хила\n-
	 8 дд\nСкорее 
	всего в тр
	иале будет
	 баг с неправ
	ильным отобр
	ажением напр
	авления броск
	а щита и клифа\, 
	так что мора
	льно настра
	иваемся на в
	еселый бой с л
	астом.\nУмение 
	контролировать 
	кнопочку синергии
	 (хоть это и банально\,
	 но всё же) \nЧтобы попаст
	ь в рейд:\n1. Нажать кно
	пку \"ПОЙДУ\" справ
	а.\n2. Запись в коммен
	тариях обязатель
	на (с указанием ро
	ли и ID\, если он 
	отличается от ф
	орумного) \nПро
	должительность событ
	ия - не более 2 часов 
	(рейд закончится 
	в 21-30 мск незави
	симо от текущего
	 прогресса (возможн
	ы исключения (и еще од
	на скобочка)))\nСбор
	\, перекуры\, перекусы
	 и т.д. также входя
	т в указанные 2
	 часа\, так чт
	о прошу всех приходит
	ь вовремя и подготовленными на все 
	случаи жизни)
DTSTART:20190809T163000Z
ATTENDEE;CN="Ghost_77";CUTYPE=INDIVIDUAL;PARTSTAT=ACCEPTED:w
	eb@bandits-clan.ru
ATTENDEE;CN="BLACKRIVEL";CUTYPE=INDIVIDUAL;PARTSTAT=ACCEPTED
	:web@bandits-clan.ru
ATTENDEE;CN="Ganler";CUTYPE=INDIVIDUAL;PARTSTAT=ACCEPTED:web
	@bandits-clan.ru
ATTENDEE;CN="buviGuvix";CUTYPE=INDIVIDUAL;PARTSTAT=ACCEPTED:
	web@bandits-clan.ru
ATTENDEE;CN="Kellariella";CUTYPE=INDIVIDUAL;PARTSTAT=ACCEPTE
	D:web@bandits-clan.ru
ATTENDEE;CN="Harrin";CUTYPE=INDIVIDUAL;PARTSTAT=ACCEPTED:web
	@bandits-clan.ru
ATTENDEE;CN="G00blin(Vlad)";CUTYPE=INDIVIDUAL;PARTSTAT=ACCEP
	TED:web@bandits-clan.ru
ATTENDEE;CN="xTrust";CUTYPE=INDIVIDUAL;PARTSTAT=ACCEPTED:web
	@bandits-clan.ru
ATTENDEE;CN="Undertaker83";CUTYPE=INDIVIDUAL;PARTSTAT=ACCEPT
	ED:web@bandits-clan.ru
ATTENDEE;CN="AGARIK";CUTYPE=INDIVIDUAL;PARTSTAT=ACCEPTED:web
	@bandits-clan.ru
END:VEVENT
END:VCALENDAR
