BEGIN:VCALENDAR
VERSION:2.0
PRODID:-//InvisionCommunity Events 4.7.14//EN
METHOD:PUBLISH
CALSCALE:GREGORIAN
REFRESH-INTERVAL:PT15M
X-PUBLISHED-TTL:PT15M
X-WR-CALNAME:The Elder Scrolls Online
NAME:The Elder Scrolls Online
BEGIN:VTIMEZONE
TZID:Europe/London
TZURL:http://tzurl.org/zoneinfo/Europe/London
X-LIC-LOCATION:Europe/London
BEGIN:DAYLIGHT
TZOFFSETFROM:+0000
TZOFFSETTO:+0100
TZNAME:BST
DTSTART:20190331T020000Z
RRULE:FREQ=YEARLY;BYMONTH=3;BYDAY=-1SU
END:DAYLIGHT
BEGIN:STANDARD
TZOFFSETFROM:+0100
TZOFFSETTO:+0000
TZNAME:GMT
DTSTART:20191027T020000Z
RRULE:FREQ=YEARLY;BYMONTH=10;BYDAY=-1SU
END:STANDARD
END:VTIMEZONE
BEGIN:VEVENT
SUMMARY:[TESO] Обучающий vet MOL
DTSTAMP:20190805T074410Z
SEQUENCE:2
UID:5861-1-afb15bc42254ad5fb0481ce5e9c8144d@forum.bandits-clan.ru
ORGANIZER;CN="Zym":web@bandits-clan.ru
DESCRIPTION: \nВет МОЛ. В
	ет МОЛ никогд
	а не меняется
	. Римляне разв
	язали войну\,
	 чтобы заполу
	чить рабов и б
	огатство. Испа
	нцы создали и
	мперию\, желая
	 получить зо
	лото и зем
	лю. Гитлер п
	ревратил ни
	щую Германию
	 в экономическую св
	ерхдержаву. Но вет МОЛ н
	икогда не меняется. И за 1000 лет до событ
	ий The Elder Scrolls V: Skyrim во вре
	мена Второй эры 
	в период\, назыв
	аемый «Междуцар
	ствием»\, мы ход
	или в МОЛ\, чтоб
	ы получить ре
	сурсы\, котор
	ые можно испо
	льзовать. На этот раз 
	военной добычей стало оруж
	ие. Оружие сета Roar of Alkosh
	 и скинчик Дро-м'
	Атра. И в конц
	е второй эры
	 древнее свя
	тилище каджит
	ов\, которое н
	осило назва
	ние «Храм Сем
	и Загадок»\, бы
	ло захвачено в
	ечным врагом 
	каджитов Дро-м'
	Атра. С кажд
	ым часом вс
	е больше хво
	статых сход
	ило с ума от
	 образовав
	шегося раз
	лома между 
	мирами. Оче
	нь немногим 
	удалось добра
	ться до безопа
	сного места на 
	старте триала
	. Но жизнь в МОЛ
	е должна вот-вот
	 измениться.  Конт
	ент сложный\, есл
	и чувствуешь\, ч
	то не готов\, то лу
	чше не записыват
	ься. ДД: минимал
	ьный дпс 25к на 
	3кк скелете 
	с аттестац
	ией в ростере 
	гильдии. По 
	саппорт груп
	пе требования
	 гораздо выше\
	, чем к рядовым 
	причинятелям у
	рона. Когда после
	дний дд поймет\, 
	куда ему бежат
	ь и где надо стоя
	ть\, только вы б
	удете способны п
	ривести нас к побед
	е.\nХИЛЫ: наличие сетов
	 ололо\, эспэкю\, мендин
	г\, ворм\, ослик ИА\, сен
	тинель\, богдан\, на 
	себе иметь 10 паль
	цев\, собранных
	 через руки и 
	2 глаза на го
	лове с возмо
	жностью смот
	реть разные стор
	оны одновремен
	но.\nТАНКИ: начил
	ие сетов алко
	ш\, эбон\, йол
	нахкржщпклкхр
	иин или торуг.
	 Желательно св
	язаться со мной 
	заранее в игре\
	, чтобы обсудит
	ь сетап. Скилы
	 когти\, цепочк
	а и прокачан
	ный морф пылес
	оса на сбивание
	 каста. Для всех о
	стальных классов\
	, которые не ДК и
	 почему-то реши
	ли\, что они 
	тоже танк
	и иметь п
	рокачанный
	 морф арбалета
	 на стягивание м
	обов. Продолжител
	ьность рейда от 2х 
	до 4х часов. В слу
	чае\, если не за
	крываем триал с
	 первого раза\
	, собираемся т
	ем же составо
	м в другие дн
	и. Самые нас
	тойчивые и 
	умеющие ра
	ботать над 
	ошибками иг
	роки в итог
	е увидят фи
	нальные ти
	тры. Запись п
	о комментари
	ям. Приорите
	т очереди также п
	о комментариям.\nВ
	 комментарии ука
	зываем свою роль 
	и ID\, если по к
	акой-то невероя
	тной причине он не
	 совпадает с внутрифору
	мным.\nДа\, я знаю\, что
	 есть кнопка \"пойду
	\". Во время сбор
	ов я даже смот
	реть туда не бу
	ду\, там нельзя
	 отфильтровать 
	по времени доба
	вления\, мне в
	сё равно наж
	ал ты на нее или нет. ПОЗДР
	АВЛЯЮ ОЧЕРЕДНЫХ ПОБЕДИТЕЛЕЙ ВЕТ МОЛ!!!\n\n
DTSTART:20190810T150000Z
ATTENDEE;CN="DemGruim ";CUTYPE=INDIVIDUAL;PARTSTAT=ACCEPTED:
	web@bandits-clan.ru
ATTENDEE;CN="BadassLoaderBot";CUTYPE=INDIVIDUAL;PARTSTAT=ACC
	EPTED:web@bandits-clan.ru
ATTENDEE;CN="AGARIK";CUTYPE=INDIVIDUAL;PARTSTAT=ACCEPTED:web
	@bandits-clan.ru
ATTENDEE;CN="Canis";CUTYPE=INDIVIDUAL;PARTSTAT=ACCEPTED:web@
	bandits-clan.ru
ATTENDEE;CN="zelenin";CUTYPE=INDIVIDUAL;PARTSTAT=ACCEPTED:we
	b@bandits-clan.ru
ATTENDEE;CN="Raonull";CUTYPE=INDIVIDUAL;PARTSTAT=ACCEPTED:we
	b@bandits-clan.ru
ATTENDEE;CN="Kanz1er";CUTYPE=INDIVIDUAL;PARTSTAT=ACCEPTED:we
	b@bandits-clan.ru
ATTENDEE;CN="Kellariella";CUTYPE=INDIVIDUAL;PARTSTAT=ACCEPTE
	D:web@bandits-clan.ru
ATTENDEE;CN="G00blin(Vlad)";CUTYPE=INDIVIDUAL;PARTSTAT=ACCEP
	TED:web@bandits-clan.ru
ATTENDEE;CN="Ragga-Max";CUTYPE=INDIVIDUAL;PARTSTAT=ACCEPTED:
	web@bandits-clan.ru
ATTENDEE;CN="Ctpahhik";CUTYPE=INDIVIDUAL;PARTSTAT=ACCEPTED:w
	eb@bandits-clan.ru
ATTENDEE;CN="Fleche";CUTYPE=INDIVIDUAL;PARTSTAT=ACCEPTED:web
	@bandits-clan.ru
ATTENDEE;CN="Harrin";CUTYPE=INDIVIDUAL;PARTSTAT=ACCEPTED:web
	@bandits-clan.ru
ATTENDEE;CN="Penguin Lord";CUTYPE=INDIVIDUAL;PARTSTAT=ACCEPT
	ED:web@bandits-clan.ru
ATTENDEE;CN="bonart";CUTYPE=INDIVIDUAL;PARTSTAT=ACCEPTED:web
	@bandits-clan.ru
ATTENDEE;CN="Done_Korleone";CUTYPE=INDIVIDUAL;PARTSTAT=ACCEP
	TED:web@bandits-clan.ru
ATTENDEE;CN="podnebesniivolk";CUTYPE=INDIVIDUAL;PARTSTAT=ACC
	EPTED:web@bandits-clan.ru
END:VEVENT
END:VCALENDAR
