BEGIN:VCALENDAR
VERSION:2.0
PRODID:-//InvisionCommunity Events 4.7.14//EN
METHOD:PUBLISH
CALSCALE:GREGORIAN
REFRESH-INTERVAL:PT15M
X-PUBLISHED-TTL:PT15M
X-WR-CALNAME:The Elder Scrolls Online
NAME:The Elder Scrolls Online
BEGIN:VTIMEZONE
TZID:Europe/London
TZURL:http://tzurl.org/zoneinfo/Europe/London
X-LIC-LOCATION:Europe/London
BEGIN:DAYLIGHT
TZOFFSETFROM:+0000
TZOFFSETTO:+0100
TZNAME:BST
DTSTART:20190331T020000Z
RRULE:FREQ=YEARLY;BYMONTH=3;BYDAY=-1SU
END:DAYLIGHT
BEGIN:STANDARD
TZOFFSETFROM:+0100
TZOFFSETTO:+0000
TZNAME:GMT
DTSTART:20191027T020000Z
RRULE:FREQ=YEARLY;BYMONTH=10;BYDAY=-1SU
END:STANDARD
END:VTIMEZONE
BEGIN:VEVENT
SUMMARY:[TESO] Обучение. Вет триалы Краглор
	на.
DTSTAMP:20190805T063621Z
SEQUENCE:2
UID:5858-1-afb15bc42254ad5fb0481ce5e9c8144d@forum.bandits-clan.ru
ORGANIZER;CN="Zym":web@bandits-clan.ru
DESCRIPTION: \nВетер
	анские вер
	сии всех тр
	иалов Крагло
	рна. Краткая п
	редыстория. Что
	-то случилось в 
	Краглорне\, поэ
	тому нам надо пой
	ти в архив\, санкт
	ум офидию и цитаде
	ль Хель Ра и кого-т
	о там за что-то 
	убить\, потому
	 что они дел
	ают что-то п
	лохое. Обуче
	ние прилагает
	ся. Не стесня
	йтесь записыв
	аться\, даже ес
	ли под событие
	м уже куча комм
	ентариев\, полов
	ина из них всё 
	равно не придет. М
	еста найдутся вс
	ем. Для любой рол
	и ограничение 160 
	чп. Будет слишк
	ом больно смот
	реть на даггер йок
	еды 110чп. Триалы
	 будем проходи
	ть быстро и лег
	ко\, но с учето
	м объяснений и
	 вероятных вайп
	ов или хуже того
	 багов и рестарт
	ов триала\, событи
	е\, возможно\, за
	тянется. Ничего 
	страшного\, ес
	ли не сможете
	 досидеть до к
	онца\, доберу в гильдии 
	недостающие роли. Вкл
	ючение режима \"hard m
	ode\" опциональ
	но. Будем и
	сходить из
	 возможност
	ей собранной 
	группы на ме
	сте. Ветеран
	ам ТЕСО добро по
	жаловать\, но 
	будьте готовы
	 уступить мест
	о тем\, кому это 
	действительно
	 нужно. А тепер
	ь самый важный 
	момент!!!\nЗа
	пись по комм
	ентариям. П
	риоритет оч
	ереди также по ко
	мментариям.\nВ ком
	ментарии указыва
	ем свою роль и ID\
	, если по какой
	-то невероятной пр
	ичине он не совпадае
	т с внутрифорумным.\nДа
	\, я знаю\, что есть к
	нопка \"пойду\". Во
	 время сборов я
	 даже смотрет
	ь туда не буду\,
	 там нельзя от
	фильтровать по 
	времени добавл
	ения\, мне всё 
	равно нажал ты на нее 
	или нет. Отдельное приглашение в рейд 
	для @Sinchus.\n\n 
DTSTART:20190808T163000Z
ATTENDEE;CN="DemGruim ";CUTYPE=INDIVIDUAL;PARTSTAT=ACCEPTED:
	web@bandits-clan.ru
ATTENDEE;CN="@Gvador";CUTYPE=INDIVIDUAL;PARTSTAT=ACCEPTED:we
	b@bandits-clan.ru
ATTENDEE;CN="Canis";CUTYPE=INDIVIDUAL;PARTSTAT=ACCEPTED:web@
	bandits-clan.ru
ATTENDEE;CN="Kellariella";CUTYPE=INDIVIDUAL;PARTSTAT=ACCEPTE
	D:web@bandits-clan.ru
ATTENDEE;CN="G00blin(Vlad)";CUTYPE=INDIVIDUAL;PARTSTAT=ACCEP
	TED:web@bandits-clan.ru
ATTENDEE;CN="Undertaker83";CUTYPE=INDIVIDUAL;PARTSTAT=ACCEPT
	ED:web@bandits-clan.ru
ATTENDEE;CN="Indervald";CUTYPE=INDIVIDUAL;PARTSTAT=ACCEPTED:
	web@bandits-clan.ru
ATTENDEE;CN="Alex_Stamm";CUTYPE=INDIVIDUAL;PARTSTAT=ACCEPTED
	:web@bandits-clan.ru
ATTENDEE;CN="masserat";CUTYPE=INDIVIDUAL;PARTSTAT=ACCEPTED:w
	eb@bandits-clan.ru
ATTENDEE;CN="VladRevenant";CUTYPE=INDIVIDUAL;PARTSTAT=ACCEPT
	ED:web@bandits-clan.ru
ATTENDEE;CN="Ctpahhik";CUTYPE=INDIVIDUAL;PARTSTAT=ACCEPTED:w
	eb@bandits-clan.ru
ATTENDEE;CN="Ri'qry-Dar";CUTYPE=INDIVIDUAL;PARTSTAT=ACCEPTED
	:web@bandits-clan.ru
ATTENDEE;CN="BLACKRIVEL";CUTYPE=INDIVIDUAL;PARTSTAT=ACCEPTED
	:web@bandits-clan.ru
END:VEVENT
END:VCALENDAR
