BEGIN:VCALENDAR
VERSION:2.0
PRODID:-//InvisionCommunity Events 4.7.14//EN
METHOD:PUBLISH
CALSCALE:GREGORIAN
REFRESH-INTERVAL:PT15M
X-PUBLISHED-TTL:PT15M
X-WR-CALNAME:The Elder Scrolls Online
NAME:The Elder Scrolls Online
BEGIN:VTIMEZONE
TZID:Europe/London
TZURL:http://tzurl.org/zoneinfo/Europe/London
X-LIC-LOCATION:Europe/London
BEGIN:DAYLIGHT
TZOFFSETFROM:+0000
TZOFFSETTO:+0100
TZNAME:BST
DTSTART:20190331T020000Z
RRULE:FREQ=YEARLY;BYMONTH=3;BYDAY=-1SU
END:DAYLIGHT
BEGIN:STANDARD
TZOFFSETFROM:+0100
TZOFFSETTO:+0000
TZNAME:GMT
DTSTART:20191027T020000Z
RRULE:FREQ=YEARLY;BYMONTH=10;BYDAY=-1SU
END:STANDARD
END:VTIMEZONE
BEGIN:VEVENT
SUMMARY:(TESO) Учебный нормал-триал на выбо
	р
DTSTAMP:20190802T110346Z
SEQUENCE:2
UID:5845-1-afb15bc42254ad5fb0481ce5e9c8144d@forum.bandits-clan.ru
ORGANIZER;CN="Bandit":web@bandits-clan.ru
DESCRIPTION:С 16 00 по Мск\n\
	nВсем новичк
	ам и желающ
	им получить
	 заветную отм
	етку в ростер
	е гильдии! Добр
	о пожаловать в у
	чебный триал по в
	ашему выбору!\n\nСо
	беремся в тимспик
	е и решим\, куда пойдем
	 - любой триал Крагло
	рна\, любой триал DLC
	 - ваше желание бу
	дет для меня зако
	ном \n Тебе уже 
	исполнилось 160
	 Чемпионских о
	чков? Пора начин
	ать взрослую жизн
	ь в игре! Захвати ти
	мспик\, табард и не з
	абудь - сбор будет в Гилдхолле!\n
	 12 человек\, звание Thief+/Sold
	ier+ (анкета на фор
	уме и заход в тимспик -
	 получить это звание проще пр
	остого!)\, от 160 ЧП - 1-2 танка
	\, 2 хилера\, остальные 
	- любые дд.\n Приорите
	т новичкам\n P.S. Объясн
	яю кратко и внятно.
	 На 1 триал у нас уйдет от 3
	0 минут (Аэтерианский Архи
	в) до 1\,2-1\,5 часа (это ес
	ли мы пойдем в ХоФ или 
	Санспайр\, а вы там кааааак начнете вылет
	ать... )
DTSTART:20190807T130000Z
ATTENDEE;CN="Ginnnre";CUTYPE=INDIVIDUAL;PARTSTAT=ACCEPTED:we
	b@bandits-clan.ru
ATTENDEE;CN="Bandit";CUTYPE=INDIVIDUAL;PARTSTAT=ACCEPTED:web
	@bandits-clan.ru
ATTENDEE;CN="mamaetoya";CUTYPE=INDIVIDUAL;PARTSTAT=ACCEPTED:
	web@bandits-clan.ru
ATTENDEE;CN="Iwarion";CUTYPE=INDIVIDUAL;PARTSTAT=ACCEPTED:we
	b@bandits-clan.ru
ATTENDEE;CN="Kanz1er";CUTYPE=INDIVIDUAL;PARTSTAT=ACCEPTED:we
	b@bandits-clan.ru
ATTENDEE;CN="BadassLoaderBot";CUTYPE=INDIVIDUAL;PARTSTAT=ACC
	EPTED:web@bandits-clan.ru
ATTENDEE;CN="drChito";CUTYPE=INDIVIDUAL;PARTSTAT=ACCEPTED:we
	b@bandits-clan.ru
ATTENDEE;CN="Tuata";CUTYPE=INDIVIDUAL;PARTSTAT=ACCEPTED:web@
	bandits-clan.ru
ATTENDEE;CN="Indervald";CUTYPE=INDIVIDUAL;PARTSTAT=ACCEPTED:
	web@bandits-clan.ru
ATTENDEE;CN="Fleche";CUTYPE=INDIVIDUAL;PARTSTAT=ACCEPTED:web
	@bandits-clan.ru
ATTENDEE;CN="podnebesniivolk";CUTYPE=INDIVIDUAL;PARTSTAT=ACC
	EPTED:web@bandits-clan.ru
ATTENDEE;CN="vadims55";CUTYPE=INDIVIDUAL;PARTSTAT=ACCEPTED:w
	eb@bandits-clan.ru
ATTENDEE;CN="BLACKRIVEL";CUTYPE=INDIVIDUAL;PARTSTAT=ACCEPTED
	:web@bandits-clan.ru
END:VEVENT
END:VCALENDAR
