BEGIN:VCALENDAR
VERSION:2.0
PRODID:-//InvisionCommunity Events 4.7.14//EN
METHOD:PUBLISH
CALSCALE:GREGORIAN
REFRESH-INTERVAL:PT15M
X-PUBLISHED-TTL:PT15M
X-WR-CALNAME:The Elder Scrolls Online
NAME:The Elder Scrolls Online
BEGIN:VTIMEZONE
TZID:Europe/London
TZURL:http://tzurl.org/zoneinfo/Europe/London
X-LIC-LOCATION:Europe/London
BEGIN:DAYLIGHT
TZOFFSETFROM:+0000
TZOFFSETTO:+0100
TZNAME:BST
DTSTART:20190331T020000Z
RRULE:FREQ=YEARLY;BYMONTH=3;BYDAY=-1SU
END:DAYLIGHT
BEGIN:STANDARD
TZOFFSETFROM:+0100
TZOFFSETTO:+0000
TZNAME:GMT
DTSTART:20191027T020000Z
RRULE:FREQ=YEARLY;BYMONTH=10;BYDAY=-1SU
END:STANDARD
END:VTIMEZONE
BEGIN:VEVENT
SUMMARY:[TESO] ПВП Сиродиил  \"Arena Gladiator's Proofs\"
DTSTAMP:20190801T101652Z
SEQUENCE:0
UID:5843-1-afb15bc42254ad5fb0481ce5e9c8144d@forum.bandits-clan.ru
ORGANIZER;CN="Anioto":web@bandits-clan.ru
DESCRIPTION:Наша цель -
	--   «Захва
	тить девя
	ть различ
	ных ресур
	сов» — ра
	зличных объе
	ктов снабжен
	ия\, контрол
	ируемых вр
	агом. Чтобы получ
	ить --- Подтверждение мастерства
	 гладиатора арены (Arena Gladiator'
	s Proofs). Во время забе
	га находится в Т
	имСпике (\"Обязат
	ельно\" для того ч
	то бы услышать ко
	манду\, и вовремя
	 слинять от врага )
	 но и не забываем 
	про Табард гильдии. Бег
	аем ---  За Ковенант Даггерфол \n 
	Компания --Bahlokdaan--\n Ле
	вел 10+ шмотки по своему усмотрению 
	жестких правил нету.
DTSTART:20190801T160200Z
ATTENDEE;CN="arxangelden";CUTYPE=INDIVIDUAL;PARTSTAT=ACCEPTE
	D:web@bandits-clan.ru
ATTENDEE;CN="Burime";CUTYPE=INDIVIDUAL;PARTSTAT=ACCEPTED:web
	@bandits-clan.ru
ATTENDEE;CN="Nebesal";CUTYPE=INDIVIDUAL;PARTSTAT=ACCEPTED:we
	b@bandits-clan.ru
END:VEVENT
END:VCALENDAR
