BEGIN:VCALENDAR
VERSION:2.0
PRODID:-//InvisionCommunity Events 4.7.14//EN
METHOD:PUBLISH
CALSCALE:GREGORIAN
REFRESH-INTERVAL:PT15M
X-PUBLISHED-TTL:PT15M
X-WR-CALNAME:The Elder Scrolls Online
NAME:The Elder Scrolls Online
BEGIN:VTIMEZONE
TZID:Europe/London
TZURL:http://tzurl.org/zoneinfo/Europe/London
X-LIC-LOCATION:Europe/London
BEGIN:DAYLIGHT
TZOFFSETFROM:+0000
TZOFFSETTO:+0100
TZNAME:BST
DTSTART:20190331T020000Z
RRULE:FREQ=YEARLY;BYMONTH=3;BYDAY=-1SU
END:DAYLIGHT
BEGIN:STANDARD
TZOFFSETFROM:+0100
TZOFFSETTO:+0000
TZNAME:GMT
DTSTART:20191027T020000Z
RRULE:FREQ=YEARLY;BYMONTH=10;BYDAY=-1SU
END:STANDARD
END:VTIMEZONE
BEGIN:VEVENT
SUMMARY:[TESO] Обучающий vet MOL
DTSTAMP:20190729T045818Z
SEQUENCE:1
UID:5818-1-afb15bc42254ad5fb0481ce5e9c8144d@forum.bandits-clan.ru
ORGANIZER;CN="Zym":web@bandits-clan.ru
DESCRIPTION: \nГой еси\, доб
	ры молодцы! С ч
	ёрной думой н
	а уме да с т
	яжёлой кр
	учиной в 
	сердце пр
	осютЪ звер
	и Велесовы
	 подсобить 
	одолеть суп
	остата поган
	ого. Совладал 
	их шалопут пус
	тошный Змий-Рак
	хатыч и аки ша
	врик буянит\, 
	чудит\, озорни
	чает да шалит
	. Посему опоя
	сывайте одёжи
	 свои справные
	\, да пошли отры
	вать усы хупав
	ому страхолюду. 
	 Тяжела будет 
	дорога\, да путь
	 неблизкай. Посем
	у\, коли готов пр
	евозмогать\, выс
	тоять да одолет
	и\, то пиши как
	 величать теб
	я да роль свою
	 статную в комм
	ентарьях. Любо
	го да всякого мы 
	с собой не возьм
	ём.\nКоли ты д
	ружинник ум
	елый\, то извол
	ь на костяшках бе
	звольных четвер
	тным его оглоблить (2
	5к дпс). А коли ты 
	петоводыш богоме
	рзкай\, то знай\, 
	как держать п
	одле себя жив
	отину\, дабы 
	не носилась о
	на всюду аки 
	околотень безм
	озглый. Коли знах
	арь ты\, травник д
	а язв заклинатель
	\, то умаешься\, иб
	о уповать на т
	ебя только и 
	буде. А коли т
	ы в кольчугу о
	блаченный бог
	атырь да детин
	а дородный\, то
	 лицом своим 
	будь готов 
	словить всю
	 боль нашу 
	да отроков 
	чахлых оградить от непотреб
	ства срамного. НАКАЗАЛИ БАСУРМАНА!!!\n\n
DTSTART:20190801T163000Z
END:VEVENT
END:VCALENDAR
