BEGIN:VCALENDAR
VERSION:2.0
PRODID:-//InvisionCommunity Events 4.7.14//EN
METHOD:PUBLISH
CALSCALE:GREGORIAN
REFRESH-INTERVAL:PT15M
X-PUBLISHED-TTL:PT15M
X-WR-CALNAME:The Elder Scrolls Online
NAME:The Elder Scrolls Online
BEGIN:VTIMEZONE
TZID:Europe/London
TZURL:http://tzurl.org/zoneinfo/Europe/London
X-LIC-LOCATION:Europe/London
BEGIN:DAYLIGHT
TZOFFSETFROM:+0000
TZOFFSETTO:+0100
TZNAME:BST
DTSTART:20190331T020000Z
RRULE:FREQ=YEARLY;BYMONTH=3;BYDAY=-1SU
END:DAYLIGHT
BEGIN:STANDARD
TZOFFSETFROM:+0100
TZOFFSETTO:+0000
TZNAME:GMT
DTSTART:20191027T020000Z
RRULE:FREQ=YEARLY;BYMONTH=10;BYDAY=-1SU
END:STANDARD
END:VTIMEZONE
BEGIN:VEVENT
SUMMARY:[TESO] Обучающий триал hmAA
DTSTAMP:20190725T205338Z
SEQUENCE:0
UID:5802-1-afb15bc42254ad5fb0481ce5e9c8144d@forum.bandits-clan.ru
ORGANIZER;CN="Ghost_77":web@bandits-clan.ru
DESCRIPTION:Обучающий триал h
	mAA (Этерианский архив)\n
	Начало события 19-30 по М
	СК \nСбор начинается в 19-20.
	 Если вы записались\, 
	но не пришли до 19-30\
	, ваше место может
	 занять любой желающий из чата
	. \nТребования: \n- Звание от Rai
	der/Warrior и выше\n- Подтвержд
	енный ДПС 26к+ для дд\n- Та
	нк и хил аттестация ранга normal\
	n- Табард гильдии\n- Team
	Speak\n- Отметка о
	 прохождении 
	ветеранского 
	триала с гиль
	дией (возмож
	ны исключения)
	\n(Если вы не со
	ответствует
	е определенном
	у требованию\, н
	о уверены\, что
	 хорошо справите
	сь со своей зада
	чей\, просьба связаться 
	со мной в игре) \nНам потреб
	уются: \n- 2 танка\n- 2 хила\n
	- 8 дд   Чтобы попасть
	 в рейд:\n1. Написать в
	 комментариях свою роль
	 (и id\, если он отличаетс
	я от ника на форуме)\n
	2. Нажать кнопку \"
	ПОЙДУ\" справа.
	 Комментарий
	 из п.1 не я
	вляется п
	одтверждение
	м записи на соб
	ытие!   Продолжи
	тельность события - 
	не более 2 часов (р
	ейд закончится в 21
	-30 мск независимо о
	т текущего прогресс
	а)\nСбор\, перекуры\, п
	ерекусы и т.д. так
	же входят в указ
	анные 2 часа\, 
	так что про
	шу всех приходить вовремя и по
	дготовленными на все случаи жизни)
DTSTART:20190802T163000Z
ATTENDEE;CN="Ghost_77";CUTYPE=INDIVIDUAL;PARTSTAT=ACCEPTED:w
	eb@bandits-clan.ru
ATTENDEE;CN="Fleche";CUTYPE=INDIVIDUAL;PARTSTAT=ACCEPTED:web
	@bandits-clan.ru
ATTENDEE;CN="Ctpahhik";CUTYPE=INDIVIDUAL;PARTSTAT=ACCEPTED:w
	eb@bandits-clan.ru
ATTENDEE;CN="Mutagen";CUTYPE=INDIVIDUAL;PARTSTAT=ACCEPTED:we
	b@bandits-clan.ru
ATTENDEE;CN="Kellariella";CUTYPE=INDIVIDUAL;PARTSTAT=ACCEPTE
	D:web@bandits-clan.ru
ATTENDEE;CN="Undertaker83";CUTYPE=INDIVIDUAL;PARTSTAT=ACCEPT
	ED:web@bandits-clan.ru
ATTENDEE;CN="G00blin(Vlad)";CUTYPE=INDIVIDUAL;PARTSTAT=ACCEP
	TED:web@bandits-clan.ru
ATTENDEE;CN="AGARIK";CUTYPE=INDIVIDUAL;PARTSTAT=ACCEPTED:web
	@bandits-clan.ru
ATTENDEE;CN="Shania123";CUTYPE=INDIVIDUAL;PARTSTAT=ACCEPTED:
	web@bandits-clan.ru
ATTENDEE;CN="StarF0xy";CUTYPE=INDIVIDUAL;PARTSTAT=ACCEPTED:w
	eb@bandits-clan.ru
ATTENDEE;CN="yovv";CUTYPE=INDIVIDUAL;PARTSTAT=ACCEPTED:web@b
	andits-clan.ru
ATTENDEE;CN="BLACKRIVEL";CUTYPE=INDIVIDUAL;PARTSTAT=ACCEPTED
	:web@bandits-clan.ru
ATTENDEE;CN="yura0427";CUTYPE=INDIVIDUAL;PARTSTAT=ACCEPTED:w
	eb@bandits-clan.ru
ATTENDEE;CN="Grayfox90";CUTYPE=INDIVIDUAL;PARTSTAT=ACCEPTED:
	web@bandits-clan.ru
ATTENDEE;CN="firimar";CUTYPE=INDIVIDUAL;PARTSTAT=ACCEPTED:we
	b@bandits-clan.ru
END:VEVENT
END:VCALENDAR
