BEGIN:VCALENDAR
VERSION:2.0
PRODID:-//InvisionCommunity Events 4.7.14//EN
METHOD:PUBLISH
CALSCALE:GREGORIAN
REFRESH-INTERVAL:PT15M
X-PUBLISHED-TTL:PT15M
X-WR-CALNAME:The Elder Scrolls Online
NAME:The Elder Scrolls Online
BEGIN:VTIMEZONE
TZID:Europe/London
TZURL:http://tzurl.org/zoneinfo/Europe/London
X-LIC-LOCATION:Europe/London
BEGIN:DAYLIGHT
TZOFFSETFROM:+0000
TZOFFSETTO:+0100
TZNAME:BST
DTSTART:20190331T020000Z
RRULE:FREQ=YEARLY;BYMONTH=3;BYDAY=-1SU
END:DAYLIGHT
BEGIN:STANDARD
TZOFFSETFROM:+0100
TZOFFSETTO:+0000
TZNAME:GMT
DTSTART:20191027T020000Z
RRULE:FREQ=YEARLY;BYMONTH=10;BYDAY=-1SU
END:STANDARD
END:VTIMEZONE
BEGIN:VEVENT
SUMMARY:[TESO] ПВП Сиродиил  \"Arena Gladiator's Proofs\"
DTSTAMP:20190725T104724Z
SEQUENCE:0
UID:5801-1-afb15bc42254ad5fb0481ce5e9c8144d@forum.bandits-clan.ru
ORGANIZER;CN="Anioto":web@bandits-clan.ru
DESCRIPTION:Наша цель -
	--   «Захва
	тить девя
	ть различ
	ных ресурс
	ов» — разл
	ичных объекто
	в снабжения\,
	 контролиру
	емых врагом
	.  Чтобы получить ---
	 Подтверждение мастерства глади
	атора арены (Arena Gladiator's Pro
	ofs). ДЛЯ дальнейшег
	о их накопления 
	и получения Рунно
	го контейнера.\n---- Шл
	ем гладиатора ар
	ены — требуется 20\n---- 
	Эмоция гладиатора а
	рены — требуется 30\n---- Л
	ев арены Элинира (п
	ет) — требуется 40\
	n---- Костюм глади
	атора арены —
	 требуется 50 
	Основные требо
	вания --- Во время
	 забега находитс
	я в ТимСпике (\"Об
	язательно\" для 
	того что бы услыш
	ать команду\, и в
	овремя слинять от
	 врага ) но и не з
	абываем про Таба
	рд гильдии. Бегаем ---  За Ков
	енант Даггерфол \n Компания --B
	ahlokdaan--\n Левел 10+ шмотки
	 по своему усмотрению жестких правил не
	ту.
DTSTART:20190725T160000Z
END:VEVENT
END:VCALENDAR
