BEGIN:VCALENDAR
VERSION:2.0
PRODID:-//InvisionCommunity Events 4.7.14//EN
METHOD:PUBLISH
CALSCALE:GREGORIAN
REFRESH-INTERVAL:PT15M
X-PUBLISHED-TTL:PT15M
X-WR-CALNAME:The Elder Scrolls Online
NAME:The Elder Scrolls Online
BEGIN:VTIMEZONE
TZID:Europe/London
TZURL:http://tzurl.org/zoneinfo/Europe/London
X-LIC-LOCATION:Europe/London
BEGIN:DAYLIGHT
TZOFFSETFROM:+0000
TZOFFSETTO:+0100
TZNAME:BST
DTSTART:20190331T020000Z
RRULE:FREQ=YEARLY;BYMONTH=3;BYDAY=-1SU
END:DAYLIGHT
BEGIN:STANDARD
TZOFFSETFROM:+0100
TZOFFSETTO:+0000
TZNAME:GMT
DTSTART:20191027T020000Z
RRULE:FREQ=YEARLY;BYMONTH=10;BYDAY=-1SU
END:STANDARD
END:VTIMEZONE
BEGIN:VEVENT
SUMMARY:[TESO] Обучающий vet MOL
DTSTAMP:20190720T041319Z
SEQUENCE:2
UID:5776-1-afb15bc42254ad5fb0481ce5e9c8144d@forum.bandits-clan.ru
ORGANIZER;CN="Zym":web@bandits-clan.ru
DESCRIPTION: \nОбучающ
	ий вет МОЛ.
	 Абсолютно н
	ичего страшно
	го. Всего лишь ве
	теранская версия 
	триала ДЛС \"Гильдия в
	оров\". Мы его тащили
	 даже в те времена\
	, когда 38к общего 
	дпс выдать на первом 
	боссе было что-то вроде
	 \"Сколько!?... А ты в
	 ТБС был? А на б
	экбар тоже шар
	пу? Поможешь р
	аскидать чемп
	ионку? А рота
	цию покажешь?\
	" Мы идем уни
	жать близнецов 
	и наказывать Ра
	кхата! И пусть п
	ервый босс молит
	\, чтобы мы прос
	то прошли мим
	о и не замети
	ли его.  Любом
	у участнику н
	аших учебных
	 рейдов ране
	е здесь всегда 
	рады.\nБудьте
	 готовы выс
	лушать зано
	во обучающий
	 курс по \"Культу
	ре прохождения сл
	ожнейших механик 
	\"Близнецов\"\" и ча
	совые лекции \"
	О вреде оставле
	ния войды в ре
	йде и ее посл
	едствиях\". 
	Несложный\, 
	но требующ
	ий вниматель
	ного отношен
	ия к деталям
	 триал. Нал
	ичие опыта 
	участия в 
	любых вете
	ранских триала
	х ранее желатель
	но. Для дд налич
	ие аттестации по 
	дпс 25к+. Хилы и танк
	и понимание своей
	 роли в рейде чуть выш
	е\, чем \"у меня в рука
	х рестопалка\, значи
	т я хил\" и \"правой к
	лавишей я блочу\".
	 Когда последний
	 дд поймет\, куд
	а ему надо пер
	ебежать\, толь
	ко вы будете
	 способны дове
	сти этот рейд д
	о Ракхата. Запи
	сь\nисключительн
	о\nпо \nкомментар
	иям.\nОчередь та
	кже по комментариям.\
	nСбор в указанное врем
	я в тс (Учебный рейд).\nД
	а\, я знаю\, что ест
	ь кнопка \"пойду
	\". *оставляю
	 за собой 
	право остав
	лять за собой право. ПОЗДРА
	ВЛЯЮ ОЧЕРЕДНЫХ ПОБЕДИТЕЛЕЙ ВЕТ МОЛ!!!\n\n
DTSTART:20190725T163000Z
ATTENDEE;CN="DemGruim ";CUTYPE=INDIVIDUAL;PARTSTAT=ACCEPTED:
	web@bandits-clan.ru
ATTENDEE;CN="Ctpahhik";CUTYPE=INDIVIDUAL;PARTSTAT=ACCEPTED:w
	eb@bandits-clan.ru
ATTENDEE;CN="Ganler";CUTYPE=INDIVIDUAL;PARTSTAT=ACCEPTED:web
	@bandits-clan.ru
ATTENDEE;CN="Akvel";CUTYPE=INDIVIDUAL;PARTSTAT=ACCEPTED:web@
	bandits-clan.ru
ATTENDEE;CN="Timiri";CUTYPE=INDIVIDUAL;PARTSTAT=ACCEPTED:web
	@bandits-clan.ru
ATTENDEE;CN="Canis";CUTYPE=INDIVIDUAL;PARTSTAT=ACCEPTED:web@
	bandits-clan.ru
ATTENDEE;CN="Hoffman";CUTYPE=INDIVIDUAL;PARTSTAT=ACCEPTED:we
	b@bandits-clan.ru
ATTENDEE;CN="drChito";CUTYPE=INDIVIDUAL;PARTSTAT=ACCEPTED:we
	b@bandits-clan.ru
ATTENDEE;CN="Raonull";CUTYPE=INDIVIDUAL;PARTSTAT=ACCEPTED:we
	b@bandits-clan.ru
ATTENDEE;CN="Xalturiele";CUTYPE=INDIVIDUAL;PARTSTAT=ACCEPTED
	:web@bandits-clan.ru
ATTENDEE;CN="Санжик";CUTYPE=INDIVIDUAL;PARTSTAT=ACCEPT
	ED:web@bandits-clan.ru
ATTENDEE;CN="G00blin(Vlad)";CUTYPE=INDIVIDUAL;PARTSTAT=ACCEP
	TED:web@bandits-clan.ru
ATTENDEE;CN="Kellariella";CUTYPE=INDIVIDUAL;PARTSTAT=ACCEPTE
	D:web@bandits-clan.ru
END:VEVENT
END:VCALENDAR
