BEGIN:VCALENDAR
VERSION:2.0
PRODID:-//InvisionCommunity Events 4.7.14//EN
METHOD:PUBLISH
CALSCALE:GREGORIAN
REFRESH-INTERVAL:PT15M
X-PUBLISHED-TTL:PT15M
X-WR-CALNAME:The Elder Scrolls Online
NAME:The Elder Scrolls Online
BEGIN:VTIMEZONE
TZID:Europe/London
TZURL:http://tzurl.org/zoneinfo/Europe/London
X-LIC-LOCATION:Europe/London
BEGIN:DAYLIGHT
TZOFFSETFROM:+0000
TZOFFSETTO:+0100
TZNAME:BST
DTSTART:20190331T020000Z
RRULE:FREQ=YEARLY;BYMONTH=3;BYDAY=-1SU
END:DAYLIGHT
BEGIN:STANDARD
TZOFFSETFROM:+0100
TZOFFSETTO:+0000
TZNAME:GMT
DTSTART:20191027T020000Z
RRULE:FREQ=YEARLY;BYMONTH=10;BYDAY=-1SU
END:STANDARD
END:VTIMEZONE
BEGIN:VEVENT
SUMMARY:(TESO) Мир приключений Тамриэля.
	 Игра-квест
DTSTAMP:20190716T122044Z
SEQUENCE:0
UID:5771-1-afb15bc42254ad5fb0481ce5e9c8144d@forum.bandits-clan.ru
ORGANIZER;CN="Bandit":web@bandits-clan.ru
DESCRIPTION:С 14 00 по Мск  
	 От убийств
	 и загадочн
	ых происшеств
	ий - до веселых 
	приключений и в
	озвышенных стра
	нствий - мир ваш
	ей мечты\, Там
	риэль\, ждет
	 вас каждое 
	воскресенье 
	с нашими истор
	иями!   Вас жд
	ут невероятные
	\, ужасные\, пр
	екрасные\, та
	инственные и ве
	селые истории Мира Прикл
	ючений Тамриэля!\n(Сыр и бабочки - в пода
	рок!)
DTSTART:20190721T110000Z
END:VEVENT
END:VCALENDAR
