BEGIN:VCALENDAR
VERSION:2.0
PRODID:-//InvisionCommunity Events 4.7.14//EN
METHOD:PUBLISH
CALSCALE:GREGORIAN
REFRESH-INTERVAL:PT15M
X-PUBLISHED-TTL:PT15M
X-WR-CALNAME:The Elder Scrolls Online
NAME:The Elder Scrolls Online
BEGIN:VTIMEZONE
TZID:Europe/London
TZURL:http://tzurl.org/zoneinfo/Europe/London
X-LIC-LOCATION:Europe/London
BEGIN:DAYLIGHT
TZOFFSETFROM:+0000
TZOFFSETTO:+0100
TZNAME:BST
DTSTART:20190331T020000Z
RRULE:FREQ=YEARLY;BYMONTH=3;BYDAY=-1SU
END:DAYLIGHT
BEGIN:STANDARD
TZOFFSETFROM:+0100
TZOFFSETTO:+0000
TZNAME:GMT
DTSTART:20191027T020000Z
RRULE:FREQ=YEARLY;BYMONTH=10;BYDAY=-1SU
END:STANDARD
END:VTIMEZONE
BEGIN:VEVENT
SUMMARY:[TESO] Охота в землях Доминиона (0+)
DTSTAMP:20190715T063931Z
SEQUENCE:2
UID:5767-1-afb15bc42254ad5fb0481ce5e9c8144d@forum.bandits-clan.ru
ORGANIZER;CN="Winchester":web@bandits-clan.ru
DESCRIPTION:Приглаша
	ются все же
	лающие поох
	отиться на
	 мировых б
	оссов и п
	о возможности
	 закрыть дольмен
	ы на территориях
	 Альдмерского Дом
	иниона. 19:00 по 
	МСК. План действий 
	таков:Собираемся в
	 группу и выдвигаем
	ся в 19:00.\nПо-оче
	реди закрыва
	ем боссов одно
	й локации\, закр
	ываем дольмен
	ы\nЛетим в след
	ующую локацию 
	и повторяем\n\nТребования
	:Уровень любой\nАльянс любой\nТабард Dagge
	rfall Bandits или Vanguard Bandits\nПрисутствие в Teamspeak
	\n
DTSTART:20190723T160000Z
ATTENDEE;CN="Winchester";CUTYPE=INDIVIDUAL;PARTSTAT=ACCEPTED
	:web@bandits-clan.ru
END:VEVENT
END:VCALENDAR
