BEGIN:VCALENDAR
VERSION:2.0
PRODID:-//InvisionCommunity Events 4.7.14//EN
METHOD:PUBLISH
CALSCALE:GREGORIAN
REFRESH-INTERVAL:PT15M
X-PUBLISHED-TTL:PT15M
X-WR-CALNAME:The Elder Scrolls Online
NAME:The Elder Scrolls Online
BEGIN:VTIMEZONE
TZID:Europe/London
TZURL:http://tzurl.org/zoneinfo/Europe/London
X-LIC-LOCATION:Europe/London
BEGIN:DAYLIGHT
TZOFFSETFROM:+0000
TZOFFSETTO:+0100
TZNAME:BST
DTSTART:20190331T020000Z
RRULE:FREQ=YEARLY;BYMONTH=3;BYDAY=-1SU
END:DAYLIGHT
BEGIN:STANDARD
TZOFFSETFROM:+0100
TZOFFSETTO:+0000
TZNAME:GMT
DTSTART:20191027T020000Z
RRULE:FREQ=YEARLY;BYMONTH=10;BYDAY=-1SU
END:STANDARD
END:VTIMEZONE
BEGIN:VEVENT
SUMMARY:[TESO] YoungGuns - Battlegrounds для уровней 10-49
DTSTAMP:20190714T190601Z
SEQUENCE:2
UID:5757-1-afb15bc42254ad5fb0481ce5e9c8144d@forum.bandits-clan.ru
ORGANIZER;CN="Tykot":web@bandits-clan.ru
DESCRIPTION:Куда идём? Battlegrounds 
	- динамичное ПВП
	 для команд из 4 
	человек Что п
	олучим? Опыт 
	игры в ПВП и 
	альянс-поинты
	. На альянс-поин
	ты можно приоб
	рести ценные мот
	ивы\, монстр-сеты
	\, золотые кольц
	а и ожерелья.
	\nПрокачаем вет
	ки штурм и поддерж
	ка с такими важным
	и навыками как вигор\,
	 горн\, пурдж\, мана-
	бомба и прочие
	.\nРаз в день на п
	ерсонажа дают к
	офр с продвину
	тым содержимы
	м - оружие\, мо
	тивы\, кристаллы тра
	нсмутации. Требова
	ния: Табард гильдии\nTeam
	 Speak Нам нужны: Пр
	иглашаем новых игр
	оков 10-49 уровня п
	ознавать вместе
	 ПВП-аспекты игр
	ы\, а так же ве
	теранов на тв
	инках\, жаждущ
	их легких аль
	янс-поинтов Со
	став команды: 4
	 человека. Если
	 желающих буде
	т больше - при
	оритет по в
	ремени запи
	си\nПри налич
	ии второго оп
	ытного РЛа во
	зможно создани
	е двух команд\nЕс
	ли ваш ник в иг
	ре отличается 
	от ника на фор
	уме\, укажит
	е в коммент
	ариях свой иг
	ровой ник\nЧе
	ловек счита
	ется записав
	шимся на событ
	ие тогда\, когда он
	 подтверждает св
	оё участие кнопкой
	 \"Пойду\" (справа)
	\nКомментарии н
	е являются за
	писью\, они служ
	ат для распределения ролей\, обсужден
	ия сетов и так далее
DTSTART:20190718T191500Z
ATTENDEE;CN="Tykot";CUTYPE=INDIVIDUAL;PARTSTAT=ACCEPTED:web@
	bandits-clan.ru
END:VEVENT
END:VCALENDAR
