BEGIN:VCALENDAR
VERSION:2.0
PRODID:-//InvisionCommunity Events 4.7.14//EN
METHOD:PUBLISH
CALSCALE:GREGORIAN
REFRESH-INTERVAL:PT15M
X-PUBLISHED-TTL:PT15M
X-WR-CALNAME:The Elder Scrolls Online
NAME:The Elder Scrolls Online
BEGIN:VTIMEZONE
TZID:Europe/London
TZURL:http://tzurl.org/zoneinfo/Europe/London
X-LIC-LOCATION:Europe/London
BEGIN:DAYLIGHT
TZOFFSETFROM:+0000
TZOFFSETTO:+0100
TZNAME:BST
DTSTART:20190331T020000Z
RRULE:FREQ=YEARLY;BYMONTH=3;BYDAY=-1SU
END:DAYLIGHT
BEGIN:STANDARD
TZOFFSETFROM:+0100
TZOFFSETTO:+0000
TZNAME:GMT
DTSTART:20191027T020000Z
RRULE:FREQ=YEARLY;BYMONTH=10;BYDAY=-1SU
END:STANDARD
END:VTIMEZONE
BEGIN:VEVENT
SUMMARY:[TESO] Обучающий триал vet AS
DTSTAMP:20190708T080424Z
SEQUENCE:0
UID:5723-1-afb15bc42254ad5fb0481ce5e9c8144d@forum.bandits-clan.ru
ORGANIZER;CN="Ghost_77":web@bandits-clan.ru
DESCRIPTION:Обучающий ветеранский триал 
	AS (Asylum sanctorium)\nДля того\
	, чтобы попасть в триал 
	требуется дополнение \"Заводн
	ой  город\" (Clockwork City)\nНачало
	 события 19-30 по МСК \nСбор
	 начинается в 19-20. Если вы
	 записались\, но не п
	ришли до 19-30\, в
	аше место может
	 занять любой желающий из ч
	ата.   Требования: \n- Звани
	е от Bandit/Guard и выше\n- Подтве
	ржденный ДПС 30к+ для дд\n- 
	Танк и хил аттестация ранга normal
	 \n- Табард гильдии\n- TeamSp
	eak\n- Отметка о пр
	охождении н
	ормал триал
	а с гильдией\n
	(Если вы не со
	ответствует
	е определенном
	у требованию\, н
	о уверены\, что
	 хорошо справите
	сь со своей зада
	чей\, просьба связатьс
	я со мной в игре) \nН
	ам потребуются: \n- 
	1 танка (Желательно
	 обсудить со мной с
	етап до рейда)\n- 2 хил
	а (Желательно обсудить с
	о мной сетап до рейда)\
	n- 9 дд (нужны тольк
	о Rdd\, возьм
	у максиму
	м нескольк
	их милишников [
	обусловлено не
	дружелюбностью триала
	 в отношении mdd])\nЖелате
	льно наличие скилла \"P
	urge\" из ветки войны аль
	янсов для хилов и д
	д. \nЧтобы попасть в рей
	д:\n1. Написать в комм
	ентариях свою роль (и 
	id\, если он отличается 
	от ника на форуме)\n2. 
	Нажать кнопку \"
	ПОЙДУ\" справа.
	 Комментарий
	 из п.1 не я
	вляется п
	одтверждение
	м записи на соб
	ытие!   Продолжи
	тельность события - 
	не более 2 часов (р
	ейд закончится в 21
	-30 мск независимо о
	т текущего прогресс
	а)\nСбор\, перекуры\, п
	ерекусы и т.д. так
	же входят в указ
	анные 2 часа\, 
	так что про
	шу всех приходить вовремя и по
	дготовленными на все случаи жизни)
DTSTART:20190712T163000Z
ATTENDEE;CN="Ghost_77";CUTYPE=INDIVIDUAL;PARTSTAT=ACCEPTED:w
	eb@bandits-clan.ru
ATTENDEE;CN="Tiamis";CUTYPE=INDIVIDUAL;PARTSTAT=ACCEPTED:web
	@bandits-clan.ru
ATTENDEE;CN="LawOfJulia";CUTYPE=INDIVIDUAL;PARTSTAT=ACCEPTED
	:web@bandits-clan.ru
ATTENDEE;CN="Ctpahhik";CUTYPE=INDIVIDUAL;PARTSTAT=ACCEPTED:w
	eb@bandits-clan.ru
ATTENDEE;CN="Kellariella";CUTYPE=INDIVIDUAL;PARTSTAT=ACCEPTE
	D:web@bandits-clan.ru
ATTENDEE;CN="G00blin(Vlad)";CUTYPE=INDIVIDUAL;PARTSTAT=ACCEP
	TED:web@bandits-clan.ru
ATTENDEE;CN="Ganler";CUTYPE=INDIVIDUAL;PARTSTAT=ACCEPTED:web
	@bandits-clan.ru
ATTENDEE;CN="Undertaker83";CUTYPE=INDIVIDUAL;PARTSTAT=ACCEPT
	ED:web@bandits-clan.ru
ATTENDEE;CN="Canis";CUTYPE=INDIVIDUAL;PARTSTAT=ACCEPTED:web@
	bandits-clan.ru
ATTENDEE;CN="Geluriel";CUTYPE=INDIVIDUAL;PARTSTAT=ACCEPTED:w
	eb@bandits-clan.ru
ATTENDEE;CN="Heymexa";CUTYPE=INDIVIDUAL;PARTSTAT=ACCEPTED:we
	b@bandits-clan.ru
ATTENDEE;CN="Mutagen";CUTYPE=INDIVIDUAL;PARTSTAT=ACCEPTED:we
	b@bandits-clan.ru
ATTENDEE;CN="Dark_Mor";CUTYPE=INDIVIDUAL;PARTSTAT=ACCEPTED:w
	eb@bandits-clan.ru
END:VEVENT
END:VCALENDAR
