BEGIN:VCALENDAR
VERSION:2.0
PRODID:-//InvisionCommunity Events 4.7.14//EN
METHOD:PUBLISH
CALSCALE:GREGORIAN
REFRESH-INTERVAL:PT15M
X-PUBLISHED-TTL:PT15M
X-WR-CALNAME:The Elder Scrolls Online
NAME:The Elder Scrolls Online
BEGIN:VTIMEZONE
TZID:Europe/London
TZURL:http://tzurl.org/zoneinfo/Europe/London
X-LIC-LOCATION:Europe/London
BEGIN:DAYLIGHT
TZOFFSETFROM:+0000
TZOFFSETTO:+0100
TZNAME:BST
DTSTART:20190331T020000Z
RRULE:FREQ=YEARLY;BYMONTH=3;BYDAY=-1SU
END:DAYLIGHT
BEGIN:STANDARD
TZOFFSETFROM:+0100
TZOFFSETTO:+0000
TZNAME:GMT
DTSTART:20191027T020000Z
RRULE:FREQ=YEARLY;BYMONTH=10;BYDAY=-1SU
END:STANDARD
END:VTIMEZONE
BEGIN:VEVENT
SUMMARY:[TESO] Обучающий vet MOL
DTSTAMP:20190707T235719Z
SEQUENCE:2
UID:5718-1-afb15bc42254ad5fb0481ce5e9c8144d@forum.bandits-clan.ru
ORGANIZER;CN="Zym":web@bandits-clan.ru
DESCRIPTION: УЧЕБНЫЙ ВЕТ 
	МОЛ. Если синий
	 цвет для тебя был
	 любимый\, то ско
	ро ты его буде
	шь ненавидеть. 
	Мы идем в вет
	 МОЛ. Обучалка
	 проводится по
	 типу статика. М
	ы будем собират
	ься еще и еще тем 
	же составом. Три
	ал так или иначе
	 будет закрыт\
	, все в итоге 
	останутся со
	 скином Дро-М
	атры. Продолж
	ительность ре
	йда не определена\
	, сидеть будем до т
	алого. Прошлые ре
	йды шли минимум 3
	-4 часа. При долж
	ном старании 
	вет МОЛ мы ран
	ее закрывали ма
	ксимум за 2 рейда.
	 Контент сложны
	й. Если есть сомн
	ения\, что не го
	тов\, лучше не
	 записываться. Т
	ребования к игрок
	ам крайне низкие. 
	Заберу любого от 
	160 чп. Количество 
	чп в принципе 
	не играет для
	 меня никако
	й роли\, пото
	му как даже
	 прокачанно
	сть лошади бо
	льший показат
	ель опыта. По б
	ольшому счет
	у от игрока я
	 жду знание
	 своего клас
	са\, умение 
	адаптирова
	ться под мен
	яющуюся обст
	ановку и хот
	ь какие-то навы
	ки выживания. По с
	аппорт группе требо
	вания больше. Хилы - это 
	не те\, кто только хил
	ит\, а танки - это 
	не те\, кто дер
	жит босса и
	 перманент
	но держит праву
	ю клавишу мыши. Дл
	я дд: подтвержденн
	ый аттестацией дп
	с 25+. Наличие рук
	\, ушей и знание
	 русского язы
	ка приветствуе
	тся. Хилы: вы в
	спотеете\, это
	 обещаю. Слабон
	ервных прошу 
	не беспокоить
	. Если дойдем
	 до близнецов
	\, то гарантированно 
	уйдете оттуда с косоглаз
	ием. Наличие аддона purge 
	tracker и умение им по
	льзоваться - обяз
	ательно!!! Танк
	и: Танки на это
	т рейд уже н
	абраны. Но 
	всё равно 
	рассматрива
	ются вариант
	ы. Желательно
	 найти меня 
	заранее до ре
	йда в игре. 
	Приходим толь
	ко с хорошим на
	строением. В ох
	апку берем терпе
	ние. Если у кого-т
	о не сразу всё п
	олучится\, то 
	не ругаемся на нег
	о и дружески с подде
	ржкой хлопаем по плечу
	... да\, шучу\, кикнем\, 
	конечно же) Кн
	опку \"пойду\"
	 можете не н
	ажимать. О
	риентирова
	ться буду и
	сключительно 
	на комментари
	и\, порядок оч
	ереди также по ко
	мментариям.\nВ ком
	ментариях указыв
	аем свою роль и ID
	\, если по как
	ой-то неверо
	ятной причин
	е он не совпа
	дает с внут
	рифорумным. 
	*Оставляю за 
	собой право
	 вне очереди
	 добирать игр
	оков на свой 
	выбор для повыш
	ения шансов на
	 прохождение.
	 Мы идём прох
	одить МОЛ\, а не
	 вайпаться. Поздравляю очередных побе
	дителей вет МОЛа!!!\n\n
DTSTART:20190711T163000Z
ATTENDEE;CN="DemGruim ";CUTYPE=INDIVIDUAL;PARTSTAT=ACCEPTED:
	web@bandits-clan.ru
ATTENDEE;CN="Winchester";CUTYPE=INDIVIDUAL;PARTSTAT=ACCEPTED
	:web@bandits-clan.ru
ATTENDEE;CN="Dark_Mor";CUTYPE=INDIVIDUAL;PARTSTAT=ACCEPTED:w
	eb@bandits-clan.ru
ATTENDEE;CN="Akvel";CUTYPE=INDIVIDUAL;PARTSTAT=ACCEPTED:web@
	bandits-clan.ru
ATTENDEE;CN="LawOfJulia";CUTYPE=INDIVIDUAL;PARTSTAT=ACCEPTED
	:web@bandits-clan.ru
ATTENDEE;CN="Kellariella";CUTYPE=INDIVIDUAL;PARTSTAT=ACCEPTE
	D:web@bandits-clan.ru
ATTENDEE;CN="G00blin(Vlad)";CUTYPE=INDIVIDUAL;PARTSTAT=ACCEP
	TED:web@bandits-clan.ru
ATTENDEE;CN="Ragga-Max";CUTYPE=INDIVIDUAL;PARTSTAT=ACCEPTED:
	web@bandits-clan.ru
ATTENDEE;CN="MrRavelin";CUTYPE=INDIVIDUAL;PARTSTAT=ACCEPTED:
	web@bandits-clan.ru
ATTENDEE;CN="BLACKRIVEL";CUTYPE=INDIVIDUAL;PARTSTAT=ACCEPTED
	:web@bandits-clan.ru
ATTENDEE;CN="AGARIK";CUTYPE=INDIVIDUAL;PARTSTAT=ACCEPTED:web
	@bandits-clan.ru
ATTENDEE;CN="Undertaker83";CUTYPE=INDIVIDUAL;PARTSTAT=ACCEPT
	ED:web@bandits-clan.ru
ATTENDEE;CN="Irdis";CUTYPE=INDIVIDUAL;PARTSTAT=ACCEPTED:web@
	bandits-clan.ru
ATTENDEE;CN="Shania123";CUTYPE=INDIVIDUAL;PARTSTAT=ACCEPTED:
	web@bandits-clan.ru
ATTENDEE;CN="Igkuz";CUTYPE=INDIVIDUAL;PARTSTAT=ACCEPTED:web@
	bandits-clan.ru
ATTENDEE;CN="Fleche";CUTYPE=INDIVIDUAL;PARTSTAT=ACCEPTED:web
	@bandits-clan.ru
ATTENDEE;CN="@okokomen";CUTYPE=INDIVIDUAL;PARTSTAT=ACCEPTED:
	web@bandits-clan.ru
END:VEVENT
END:VCALENDAR
