BEGIN:VCALENDAR
VERSION:2.0
PRODID:-//InvisionCommunity Events 4.7.14//EN
METHOD:PUBLISH
CALSCALE:GREGORIAN
REFRESH-INTERVAL:PT15M
X-PUBLISHED-TTL:PT15M
X-WR-CALNAME:The Elder Scrolls Online
NAME:The Elder Scrolls Online
BEGIN:VTIMEZONE
TZID:Europe/London
TZURL:http://tzurl.org/zoneinfo/Europe/London
X-LIC-LOCATION:Europe/London
BEGIN:DAYLIGHT
TZOFFSETFROM:+0000
TZOFFSETTO:+0100
TZNAME:BST
DTSTART:20190331T020000Z
RRULE:FREQ=YEARLY;BYMONTH=3;BYDAY=-1SU
END:DAYLIGHT
BEGIN:STANDARD
TZOFFSETFROM:+0100
TZOFFSETTO:+0000
TZNAME:GMT
DTSTART:20191027T020000Z
RRULE:FREQ=YEARLY;BYMONTH=10;BYDAY=-1SU
END:STANDARD
END:VTIMEZONE
BEGIN:VEVENT
SUMMARY:[TESO] Обучающий vet MOL
DTSTAMP:20190702T103027Z
SEQUENCE:2
UID:5708-1-afb15bc42254ad5fb0481ce5e9c8144d@forum.bandits-clan.ru
ORGANIZER;CN="Zym":web@bandits-clan.ru
DESCRIPTION:\nУЧЕБНЫЙ ВЕТ МОЛ
	. Радость\, счастье
	\, веселье\, восторг
	\, воодушевление\
	, упоение\, отра
	да и ликование - 
	именно таких ощ
	ущений вы здесь 
	не найдете. Мы и
	дем в вет МОЛ. 
	Время рейда не
	 определено\, сидет
	ь будем до талого.
	 Прошлые рейды шл
	и минимум 3-4 часа.  
	Контент сложный
	. Если есть сомнен
	ия\, что не гото
	в\, лучше не з
	аписываться. Треб
	ования к игрокам к
	райне низкие. Забе
	ру любого от 160 ч
	п. Количество чп
	 в принципе не
	 играет для м
	еня никакой
	 роли\, пото
	му как даже
	 прокачанн
	ость лошади
	 больший пока
	затель опытно
	сти игрока. По 
	большому сче
	ту от игрока 
	я жду знани
	е своего кла
	сса\, умение
	 адаптиров
	аться под ме
	няющуюся обс
	тановку и хо
	ть какие-то нав
	ыки выживания. По
	 саппорт группе тре
	бования больше. Хилы - 
	это не те\, кто только 
	хилит\, а танки - 
	это не те\, кт
	о держит бос
	са и перман
	ентно держит
	 правую клавишу 
	мыши. Для дд: подт
	вержденный аттес
	тацией дпс 25+. Н
	аличие рук\, 
	ушей и знание
	 русского язы
	ка приветствуе
	тся. Хилы: вы в
	спотеете\, это
	 обещаю. Слабон
	ервных прошу 
	не беспокоить
	. Если дойдем
	 до близнецов
	\, то гарантированно 
	уйдете оттуда с косоглаз
	ием. Наличие аддона purge 
	tracker и умение им пол
	ьзоваться - обязат
	ельно!!! Танки: сет
	ы эбон\, торуг\, 
	алкош и йолнах
	криин. При себе
	 иметь прокача
	нный пылесос. Д
	ля ДК цепочка и к
	орни. Для осталь
	ных классов\, кот
	орые почему-то р
	ешили\, что они
	 тоже танки - п
	рокачанный а
	рбалет с морф
	ом на стягива
	ние мобов. В с
	лучае\, если 
	соберется хо
	рошо обучаема
	я группа\, пр
	одолжим осво
	ение тем же с
	оставом в др
	угие дни. При
	ходим только с
	 хорошим настро
	ением. В охапку б
	ерем терпение. Ес
	ли у кого-то не ср
	азу всё получи
	тся\, то не ругаем
	ся на него и дружеск
	и с поддержкой хлопа
	ем по плечу... да\, шучу
	\, кикнем\, конечн
	о же) Кнопку \
	"пойду\" мож
	ете не нажи
	мать. Ориен
	тироваться 
	буду исключ
	ительно на ко
	мментарии\, 
	порядок оче
	реди также по ком
	ментариям.\nВ комм
	ентариях указыва
	ем свою роль и ID\
	, если по како
	й-то невероя
	тной причине
	 он не совпад
	ает с внутр
	ифорумным. *
	Оставляю за 
	собой право
	 вне очереди
	 добирать игр
	оков на свой 
	выбор для повыш
	ения шансов на
	 прохождение.
	 Мы идём проход
	ить МОЛ\, а не вайпаться. Поздравляю 
	победителей вет МОЛа!!!\n\n
DTSTART:20190704T163000Z
ATTENDEE;CN="DemGruim ";CUTYPE=INDIVIDUAL;PARTSTAT=ACCEPTED:
	web@bandits-clan.ru
ATTENDEE;CN="Ganler";CUTYPE=INDIVIDUAL;PARTSTAT=ACCEPTED:web
	@bandits-clan.ru
ATTENDEE;CN="Tiamis";CUTYPE=INDIVIDUAL;PARTSTAT=ACCEPTED:web
	@bandits-clan.ru
ATTENDEE;CN="Kellariella";CUTYPE=INDIVIDUAL;PARTSTAT=ACCEPTE
	D:web@bandits-clan.ru
ATTENDEE;CN="Mutagen";CUTYPE=INDIVIDUAL;PARTSTAT=ACCEPTED:we
	b@bandits-clan.ru
ATTENDEE;CN="Izaella";CUTYPE=INDIVIDUAL;PARTSTAT=ACCEPTED:we
	b@bandits-clan.ru
ATTENDEE;CN="bonart";CUTYPE=INDIVIDUAL;PARTSTAT=ACCEPTED:web
	@bandits-clan.ru
ATTENDEE;CN="Pablo-bot";CUTYPE=INDIVIDUAL;PARTSTAT=ACCEPTED:
	web@bandits-clan.ru
ATTENDEE;CN="Mordecai_Bot1";CUTYPE=INDIVIDUAL;PARTSTAT=ACCEP
	TED:web@bandits-clan.ru
ATTENDEE;CN="Akvel";CUTYPE=INDIVIDUAL;PARTSTAT=ACCEPTED:web@
	bandits-clan.ru
ATTENDEE;CN="Miltorn";CUTYPE=INDIVIDUAL;PARTSTAT=ACCEPTED:we
	b@bandits-clan.ru
ATTENDEE;CN="Timiri";CUTYPE=INDIVIDUAL;PARTSTAT=ACCEPTED:web
	@bandits-clan.ru
ATTENDEE;CN="G00blin(Vlad)";CUTYPE=INDIVIDUAL;PARTSTAT=ACCEP
	TED:web@bandits-clan.ru
ATTENDEE;CN="Grayfox90";CUTYPE=INDIVIDUAL;PARTSTAT=ACCEPTED:
	web@bandits-clan.ru
END:VEVENT
END:VCALENDAR
