BEGIN:VCALENDAR
VERSION:2.0
PRODID:-//InvisionCommunity Events 4.7.14//EN
METHOD:PUBLISH
CALSCALE:GREGORIAN
REFRESH-INTERVAL:PT15M
X-PUBLISHED-TTL:PT15M
X-WR-CALNAME:The Elder Scrolls Online
NAME:The Elder Scrolls Online
BEGIN:VTIMEZONE
TZID:Europe/London
TZURL:http://tzurl.org/zoneinfo/Europe/London
X-LIC-LOCATION:Europe/London
BEGIN:DAYLIGHT
TZOFFSETFROM:+0000
TZOFFSETTO:+0100
TZNAME:BST
DTSTART:20190331T020000Z
RRULE:FREQ=YEARLY;BYMONTH=3;BYDAY=-1SU
END:DAYLIGHT
BEGIN:STANDARD
TZOFFSETFROM:+0100
TZOFFSETTO:+0000
TZNAME:GMT
DTSTART:20191027T020000Z
RRULE:FREQ=YEARLY;BYMONTH=10;BYDAY=-1SU
END:STANDARD
END:VTIMEZONE
BEGIN:VEVENT
SUMMARY:[TESO] Охота в Эльсвейре (0+)
DTSTAMP:20190701T130305Z
SEQUENCE:0
UID:5699-1-afb15bc42254ad5fb0481ce5e9c8144d@forum.bandits-clan.ru
ORGANIZER;CN="Winchester":web@bandits-clan.ru
DESCRIPTION:Приглаша
	ются все же
	лающие поохотит
	ься на драконов и м
	ировых боссов в С
	еверном Эльсвейре
	. 19:30 по МСК. Пла
	н действий 
	таков:Собираемся в 
	группу в гильдхолл
	е и выдвигаемся в Эль
	свейр в 19:30.\nВыполня
	ем квесты на босс
	ов (берем по-оче
	реди)\, пока не за
	кончатся.\nПа
	раллельно вып
	олняем дейлик н
	а драконов.\n\nТребования:
	Уровень любой\nАльянс любой\nТабард Dagger
	fall Bandits или Vanguard Bandits\nПрисутствие
	 в Teamspeak\nНаличие досту
	па к главе \"Эльсв
	ейр\"\n\nУдачлив
	ым выпадут м
	отивы и рецеп
	ты\, практическ
	и всем выпадут неплохие предметы для к
	рафта и части сетов.
DTSTART:20190704T163000Z
ATTENDEE;CN="Winchester";CUTYPE=INDIVIDUAL;PARTSTAT=ACCEPTED
	:web@bandits-clan.ru
ATTENDEE;CN="Stigmatius";CUTYPE=INDIVIDUAL;PARTSTAT=ACCEPTED
	:web@bandits-clan.ru
ATTENDEE;CN="TricksteR ";CUTYPE=INDIVIDUAL;PARTSTAT=ACCEPTED
	:web@bandits-clan.ru
ATTENDEE;CN="Nebesal";CUTYPE=INDIVIDUAL;PARTSTAT=ACCEPTED:we
	b@bandits-clan.ru
END:VEVENT
END:VCALENDAR
