BEGIN:VCALENDAR
VERSION:2.0
PRODID:-//InvisionCommunity Events 4.7.14//EN
METHOD:PUBLISH
CALSCALE:GREGORIAN
REFRESH-INTERVAL:PT15M
X-PUBLISHED-TTL:PT15M
X-WR-CALNAME:The Elder Scrolls Online
NAME:The Elder Scrolls Online
BEGIN:VTIMEZONE
TZID:Europe/London
TZURL:http://tzurl.org/zoneinfo/Europe/London
X-LIC-LOCATION:Europe/London
BEGIN:DAYLIGHT
TZOFFSETFROM:+0000
TZOFFSETTO:+0100
TZNAME:BST
DTSTART:20190331T020000Z
RRULE:FREQ=YEARLY;BYMONTH=3;BYDAY=-1SU
END:DAYLIGHT
BEGIN:STANDARD
TZOFFSETFROM:+0100
TZOFFSETTO:+0000
TZNAME:GMT
DTSTART:20191027T020000Z
RRULE:FREQ=YEARLY;BYMONTH=10;BYDAY=-1SU
END:STANDARD
END:VTIMEZONE
BEGIN:VEVENT
SUMMARY:[TESO] Ночной триал (vSO)\, обучающий
DTSTAMP:20190625T232319Z
SEQUENCE:2
UID:5676-1-afb15bc42254ad5fb0481ce5e9c8144d@forum.bandits-clan.ru
ORGANIZER;CN="Tykot":web@bandits-clan.ru
DESCRIPTION:Куда идём? В 2
	3-00 по МСК проходим ветера
	нскую версию триала Sanctum
	 Ophidia Что получим? Вещи из топовых сетов 
	Vicious Ophidian\, Infallible Aether\, Two fanged snake и др
	угих\nОтме
	тки о про
	хождении триала 
	для повышения звания в г
	ильдии Требования: Звание Raide
	r\, Warrior или выше\n160 cp\nГильдейски
	й табард\nTeam Speak Нам нужны
	: 2 танка\, 2 хила\, 8
	 дд Кто идет хило
	м или танком\, п
	ишите в коммента
	риях свою роль\, чтоб
	ы у нас не получилось
	 на старте 5 хилов и 4
	 танка.\nПриходит
	е заранее\, в то
	м числе в тимспи
	к\, вместо опозд
	авших наберем ж
	елающих из чата.\
	nЕсли ваш ник в
	 игре отличает
	ся от ника на фо
	руме\, укажит
	е в коммента
	риях свой игро
	вой ник.\nЧело
	век считаетс
	я записавшим
	ся на событие то
	гда\, когда он подт
	верждает своё уч
	астие кнопкой \"Пой
	ду\" (справа).\nК
	омментарии не
	 являются запи
	сью\, они служат дл
	я распределения ролей\, обсужде
	ния сетов и так далее.
DTSTART:20190629T200000Z
ATTENDEE;CN="Tykot";CUTYPE=INDIVIDUAL;PARTSTAT=ACCEPTED:web@
	bandits-clan.ru
ATTENDEE;CN="Ganler";CUTYPE=INDIVIDUAL;PARTSTAT=ACCEPTED:web
	@bandits-clan.ru
ATTENDEE;CN="Miltorn";CUTYPE=INDIVIDUAL;PARTSTAT=ACCEPTED:we
	b@bandits-clan.ru
ATTENDEE;CN="Shaber";CUTYPE=INDIVIDUAL;PARTSTAT=ACCEPTED:web
	@bandits-clan.ru
ATTENDEE;CN="@moncastro";CUTYPE=INDIVIDUAL;PARTSTAT=ACCEPTED
	:web@bandits-clan.ru
ATTENDEE;CN="miZZerix";CUTYPE=INDIVIDUAL;PARTSTAT=ACCEPTED:w
	eb@bandits-clan.ru
ATTENDEE;CN="StarF0xy";CUTYPE=INDIVIDUAL;PARTSTAT=ACCEPTED:w
	eb@bandits-clan.ru
ATTENDEE;CN="yovv";CUTYPE=INDIVIDUAL;PARTSTAT=ACCEPTED:web@b
	andits-clan.ru
ATTENDEE;CN="firimar";CUTYPE=INDIVIDUAL;PARTSTAT=ACCEPTED:we
	b@bandits-clan.ru
ATTENDEE;CN="LawOfJulia";CUTYPE=INDIVIDUAL;PARTSTAT=ACCEPTED
	:web@bandits-clan.ru
ATTENDEE;CN="Mutagen";CUTYPE=INDIVIDUAL;PARTSTAT=ACCEPTED:we
	b@bandits-clan.ru
ATTENDEE;CN="Pablo-bot";CUTYPE=INDIVIDUAL;PARTSTAT=ACCEPTED:
	web@bandits-clan.ru
ATTENDEE;CN="Shania123";CUTYPE=INDIVIDUAL;PARTSTAT=ACCEPTED:
	web@bandits-clan.ru
END:VEVENT
END:VCALENDAR
