BEGIN:VCALENDAR
VERSION:2.0
PRODID:-//InvisionCommunity Events 4.7.14//EN
METHOD:PUBLISH
CALSCALE:GREGORIAN
REFRESH-INTERVAL:PT15M
X-PUBLISHED-TTL:PT15M
X-WR-CALNAME:The Elder Scrolls Online
NAME:The Elder Scrolls Online
BEGIN:VTIMEZONE
TZID:Europe/London
TZURL:http://tzurl.org/zoneinfo/Europe/London
X-LIC-LOCATION:Europe/London
BEGIN:DAYLIGHT
TZOFFSETFROM:+0000
TZOFFSETTO:+0100
TZNAME:BST
DTSTART:20190331T020000Z
RRULE:FREQ=YEARLY;BYMONTH=3;BYDAY=-1SU
END:DAYLIGHT
BEGIN:STANDARD
TZOFFSETFROM:+0100
TZOFFSETTO:+0000
TZNAME:GMT
DTSTART:20191027T020000Z
RRULE:FREQ=YEARLY;BYMONTH=10;BYDAY=-1SU
END:STANDARD
END:VTIMEZONE
BEGIN:VEVENT
SUMMARY:[TESO] Бойцовский Клуб 400
DTSTAMP:20190625T221332Z
SEQUENCE:2
UID:5673-1-afb15bc42254ad5fb0481ce5e9c8144d@forum.bandits-clan.ru
ORGANIZER;CN="Tykot":web@bandits-clan.ru
DESCRIPTION:Добро п
	ожаловать 
	в Бойцовск
	ий клуб! Каж
	дое последнее вос
	кресенье месяца - у
	величенный призово
	й фонд - 400000 Бойц
	овский клуб - д
	уэльный клуб с
	о своими правила
	ми и рейтингом\,
	 где ваш ранг в
	 гильдии ниче
	го не значит.
	\nПринимать участи
	е в Бойцовском клубе могут тольк
	о игроки гильдий Daggerfall Bandits и Vangua
	rd Bandits\, подробне
	е с прави
	лами клу
	ба можно
	 ознакомит
	ься ниже. 
	Правила Бо
	йцовского 
	клуба Первое 
	правило клуба
	: не упоминать в
	не гильдии о Б
	ойцовском клуб
	е.\nВторое пра
	вило клуба: не
	 упоминать ниг
	де вне гильдии о
	 Бойцовском клубе
	.\nТретье правило к
	луба: боец утонул\
	, сгорел\, умер — б
	ой окончен.\nЧетве
	ртое: в бою участву
	ют лишь двое.\nПят
	ое: бои идут один з
	а другим.\nШест
	ое: все надеваю
	т табарды.\nСедьм
	ое: бой продолжает
	ся столько\, скол
	ько нужно.\nВосьм
	ое и последнее:
	 тот\, кто вп
	ервые пришё
	л в клуб — 
	примет бой
	. Требовани
	я к персонаж
	ам Для участ
	ия в Бойцовс
	ком клубе не
	т требовани
	й к персона
	жу\, кроме
	 запрета во
	зможности 
	сменить пе
	рсонажа пос
	ле определени
	я дуэльных пар.\n
	Можно использо
	вать любые наб
	оры предметов
	\, яды\, зелья
	\, зачаров
	ания. Р
	егламент
	 событий 
	Желающие у
	частвовать 
	в Бойцовском 
	клубе записыв
	аются в кален
	даре либо в 
	чате перед 
	событием\,
	 перед на
	чалом соб
	ытия сре
	ди запис
	авшихся 
	случайны
	м образом 
	определя
	ются дуэл
	янты (колич
	ество рейт
	инговых ду
	элей зависи
	т от количеств
	а записавшихся)
	. Далее провод
	ятся дуэли по
	 очереди. Игр
	оки\, свободн
	ые от рейтин
	говых боёв 
	могут провод
	ить не рейтинг
	овые бои. Бой 
	длится неогр
	аниченное врем
	я\, если это н
	е оговорен
	о заранее 
	перед нача
	лом сессии
	. По резул
	ьтатам сес
	сии записыв
	аются резул
	ьтаты и пров
	одится расче
	т рейтинга\,
	 который в 
	дальнейшем
	 заносится в
	 данные аккау
	нта участника к
	луба. Рейтинг бу
	дет влиять на по
	дбор пары для 
	дуэлей\, а так
	 же на возмо
	жность участия в дуэльных т
	урнирах гильдии (выбор турнирной лиги).
DTSTART:20190630T130000Z
ATTENDEE;CN="Tykot";CUTYPE=INDIVIDUAL;PARTSTAT=ACCEPTED:web@
	bandits-clan.ru
ATTENDEE;CN="Radaella";CUTYPE=INDIVIDUAL;PARTSTAT=ACCEPTED:w
	eb@bandits-clan.ru
END:VEVENT
END:VCALENDAR
