BEGIN:VCALENDAR
VERSION:2.0
PRODID:-//InvisionCommunity Events 4.7.14//EN
METHOD:PUBLISH
CALSCALE:GREGORIAN
REFRESH-INTERVAL:PT15M
X-PUBLISHED-TTL:PT15M
X-WR-CALNAME:The Elder Scrolls Online
NAME:The Elder Scrolls Online
BEGIN:VTIMEZONE
TZID:Europe/London
TZURL:http://tzurl.org/zoneinfo/Europe/London
X-LIC-LOCATION:Europe/London
BEGIN:DAYLIGHT
TZOFFSETFROM:+0000
TZOFFSETTO:+0100
TZNAME:BST
DTSTART:20190331T020000Z
RRULE:FREQ=YEARLY;BYMONTH=3;BYDAY=-1SU
END:DAYLIGHT
BEGIN:STANDARD
TZOFFSETFROM:+0100
TZOFFSETTO:+0000
TZNAME:GMT
DTSTART:20191027T020000Z
RRULE:FREQ=YEARLY;BYMONTH=10;BYDAY=-1SU
END:STANDARD
END:VTIMEZONE
BEGIN:VEVENT
SUMMARY:[TESO] Обучающий триал normal CR+3
DTSTAMP:20190625T123217Z
SEQUENCE:0
UID:5671-1-afb15bc42254ad5fb0481ce5e9c8144d@forum.bandits-clan.ru
ORGANIZER;CN="Ghost_77":web@bandits-clan.ru
DESCRIPTION:Обучающий нормал т
	риал CR+3 (Клаудрест)\nНачал
	о события 20-00 по МСК \nСбо
	р начинается в 19-50. Если в
	ы записались\, но не 
	пришли до 20-00\, 
	ваше место може
	т занять любой желающий из 
	чата.   Требования: \n- Звание 
	от Thief/Soldier и выше\n- Табард гильд
	ии\n- TeamSpeak\n- Желат
	ельно отметк
	а о прохождении но
	рмал триала с гильдией   Н
	ам потребуются: \n- 2 танк
	а\n- 2 хила\n- 8 дд (жела
	тельно ренджи) 
	  Чтобы попасть в рей
	д:\n1. Написать в комм
	ентариях свою роль (и 
	id\, если он отличается 
	от ника на форуме)\n2. 
	Нажать кнопку \"
	ПОЙДУ\" справа.
	 Комментарий
	 из п.1 не я
	вляется п
	одтверждение
	м записи на соб
	ытие!   Продолжи
	тельность события - 
	не более 2 часов (р
	ейд закончится в 22
	-00 мск независимо о
	т текущего прогресс
	а)\nСбор\, перекуры\, п
	ерекусы и т.д. так
	же входят в указ
	анные 2 часа\, 
	так что про
	шу всех приходить вовремя и по
	дготовленными на все случаи жизни)
DTSTART:20190629T170000Z
ATTENDEE;CN="Royscoap";CUTYPE=INDIVIDUAL;PARTSTAT=ACCEPTED:w
	eb@bandits-clan.ru
ATTENDEE;CN="Ghost_77";CUTYPE=INDIVIDUAL;PARTSTAT=ACCEPTED:w
	eb@bandits-clan.ru
ATTENDEE;CN="MirrDono";CUTYPE=INDIVIDUAL;PARTSTAT=ACCEPTED:w
	eb@bandits-clan.ru
ATTENDEE;CN="@moncastro";CUTYPE=INDIVIDUAL;PARTSTAT=ACCEPTED
	:web@bandits-clan.ru
ATTENDEE;CN="Ganler";CUTYPE=INDIVIDUAL;PARTSTAT=ACCEPTED:web
	@bandits-clan.ru
ATTENDEE;CN="BUDi";CUTYPE=INDIVIDUAL;PARTSTAT=ACCEPTED:web@b
	andits-clan.ru
ATTENDEE;CN="Miltorn";CUTYPE=INDIVIDUAL;PARTSTAT=ACCEPTED:we
	b@bandits-clan.ru
ATTENDEE;CN="aks";CUTYPE=INDIVIDUAL;PARTSTAT=ACCEPTED:web@ba
	ndits-clan.ru
ATTENDEE;CN="Meteora";CUTYPE=INDIVIDUAL;PARTSTAT=ACCEPTED:we
	b@bandits-clan.ru
ATTENDEE;CN="CyXaPbMAHA";CUTYPE=INDIVIDUAL;PARTSTAT=ACCEPTED
	:web@bandits-clan.ru
ATTENDEE;CN="AlekseyTurin";CUTYPE=INDIVIDUAL;PARTSTAT=ACCEPT
	ED:web@bandits-clan.ru
ATTENDEE;CN="firimar";CUTYPE=INDIVIDUAL;PARTSTAT=ACCEPTED:we
	b@bandits-clan.ru
ATTENDEE;CN="Shania123";CUTYPE=INDIVIDUAL;PARTSTAT=ACCEPTED:
	web@bandits-clan.ru
ATTENDEE;CN="rdk";CUTYPE=INDIVIDUAL;PARTSTAT=ACCEPTED:web@ba
	ndits-clan.ru
END:VEVENT
END:VCALENDAR
