BEGIN:VCALENDAR
VERSION:2.0
PRODID:-//InvisionCommunity Events 4.7.14//EN
METHOD:PUBLISH
CALSCALE:GREGORIAN
REFRESH-INTERVAL:PT15M
X-PUBLISHED-TTL:PT15M
X-WR-CALNAME:The Elder Scrolls Online
NAME:The Elder Scrolls Online
BEGIN:VTIMEZONE
TZID:Europe/London
TZURL:http://tzurl.org/zoneinfo/Europe/London
X-LIC-LOCATION:Europe/London
BEGIN:DAYLIGHT
TZOFFSETFROM:+0000
TZOFFSETTO:+0100
TZNAME:BST
DTSTART:20190331T020000Z
RRULE:FREQ=YEARLY;BYMONTH=3;BYDAY=-1SU
END:DAYLIGHT
BEGIN:STANDARD
TZOFFSETFROM:+0100
TZOFFSETTO:+0000
TZNAME:GMT
DTSTART:20191027T020000Z
RRULE:FREQ=YEARLY;BYMONTH=10;BYDAY=-1SU
END:STANDARD
END:VTIMEZONE
BEGIN:VEVENT
SUMMARY:[TESO] Обучающий триал vet HRC
DTSTAMP:20190624T162358Z
SEQUENCE:0
UID:5667-1-afb15bc42254ad5fb0481ce5e9c8144d@forum.bandits-clan.ru
ORGANIZER;CN="Ghost_77":web@bandits-clan.ru
DESCRIPTION:Обучающий ветер
	анский триал HRC (Цитадель 
	Хель Ра). \nНачало события 20
	-00 по МСК \nСбор начинает
	ся в 19-50. Если вы записалис
	ь\, но не пришли до 20
	-00\, ваше место мож
	ет занять любой желающий из 
	чата. Требования: \n- Звание о
	т Raider/Warrior и выше\n- Подтве
	ржденный ДПС 26к+ для дд\n- Таб
	ард гильдии\n- TeamSpeak
	\n- Отметка о прохо
	ждении нормал триала с 
	гильдией \nНам потребуются:
	 \n- 1 танка\n- 2 хила\n- 9 дд
	 (желательно не более
	 4 миликов) \nЧтобы 
	попасть в рейд:\n1. На
	писать в комментар
	иях свою роль (и id\, е
	сли он отличается от 
	ника на форуме)\n2. Наж
	ать кнопку \"ПОЙ
	ДУ\" справа. Ко
	мментарий и
	з п.1 не яв
	ляется под
	тверждением 
	записи на собы
	тие!   Продолжите
	льность события - не
	 более 2 часов (рей
	д закончится в 22-0
	0 мск независимо от
	 текущего прогресса
	)\nСбор\, перекуры\, пе
	рекусы и т.д. такж
	е входят в указа
	нные 2 часа\, т
	ак что прошу
	 всех приходить вовремя и подготов
	ленными на все случаи жизни)
DTSTART:20190628T170000Z
ATTENDEE;CN="Ghost_77";CUTYPE=INDIVIDUAL;PARTSTAT=ACCEPTED:w
	eb@bandits-clan.ru
ATTENDEE;CN="Miltorn";CUTYPE=INDIVIDUAL;PARTSTAT=ACCEPTED:we
	b@bandits-clan.ru
ATTENDEE;CN="Mutagen";CUTYPE=INDIVIDUAL;PARTSTAT=ACCEPTED:we
	b@bandits-clan.ru
ATTENDEE;CN="@moncastro";CUTYPE=INDIVIDUAL;PARTSTAT=ACCEPTED
	:web@bandits-clan.ru
ATTENDEE;CN="SHDE_UZL";CUTYPE=INDIVIDUAL;PARTSTAT=ACCEPTED:w
	eb@bandits-clan.ru
ATTENDEE;CN="MirrDono";CUTYPE=INDIVIDUAL;PARTSTAT=ACCEPTED:w
	eb@bandits-clan.ru
ATTENDEE;CN="AlekseyTurin";CUTYPE=INDIVIDUAL;PARTSTAT=ACCEPT
	ED:web@bandits-clan.ru
ATTENDEE;CN="ratchet_27";CUTYPE=INDIVIDUAL;PARTSTAT=ACCEPTED
	:web@bandits-clan.ru
ATTENDEE;CN="StarF0xy";CUTYPE=INDIVIDUAL;PARTSTAT=ACCEPTED:w
	eb@bandits-clan.ru
ATTENDEE;CN="yovv";CUTYPE=INDIVIDUAL;PARTSTAT=ACCEPTED:web@b
	andits-clan.ru
ATTENDEE;CN="Zym";CUTYPE=INDIVIDUAL;PARTSTAT=ACCEPTED:web@ba
	ndits-clan.ru
ATTENDEE;CN="DemGruim ";CUTYPE=INDIVIDUAL;PARTSTAT=ACCEPTED:
	web@bandits-clan.ru
END:VEVENT
END:VCALENDAR
