BEGIN:VCALENDAR
VERSION:2.0
PRODID:-//InvisionCommunity Events 4.7.14//EN
METHOD:PUBLISH
CALSCALE:GREGORIAN
REFRESH-INTERVAL:PT15M
X-PUBLISHED-TTL:PT15M
X-WR-CALNAME:The Elder Scrolls Online
NAME:The Elder Scrolls Online
BEGIN:VTIMEZONE
TZID:Europe/London
TZURL:http://tzurl.org/zoneinfo/Europe/London
X-LIC-LOCATION:Europe/London
BEGIN:DAYLIGHT
TZOFFSETFROM:+0000
TZOFFSETTO:+0100
TZNAME:BST
DTSTART:20190331T020000Z
RRULE:FREQ=YEARLY;BYMONTH=3;BYDAY=-1SU
END:DAYLIGHT
BEGIN:STANDARD
TZOFFSETFROM:+0100
TZOFFSETTO:+0000
TZNAME:GMT
DTSTART:20191027T020000Z
RRULE:FREQ=YEARLY;BYMONTH=10;BYDAY=-1SU
END:STANDARD
END:VTIMEZONE
BEGIN:VEVENT
SUMMARY:(TESO) Учебный нормал триал на выбо
	р
DTSTAMP:20190622T092919Z
SEQUENCE:0
UID:5652-1-afb15bc42254ad5fb0481ce5e9c8144d@forum.bandits-clan.ru
ORGANIZER;CN="Bandit":web@bandits-clan.ru
DESCRIPTION:С 16 00 по Мск
	   Всем нов
	ичкам и жел
	ающим получ
	ить заветную
	 отметку в ро
	стере гильдии
	! Добро пожало
	вать в учебный т
	риал по вашему вы
	бору!   \nСобере
	мся в тимспике и 
	решим\, куда пойдем -
	 любой триал Крагло
	рна\, любой триал D
	LC - ваше желание 
	будет для меня
	 законом    Те
	бе уже исполнил
	ось 160 Чемпионс
	ких очков? Пора
	 начинать взрослу
	ю жизнь в игре! За
	хвати тимспик\, та
	бард и не забудь - сбор бу
	дет в Гилдхолле!   12 человек\
	, звание Thief+/Soldier+ (анке
	та на форуме и зах
	од в тимспик - получить эт
	о звание проще простого!)\, от
	 160 ЧП - 1-2 танка\, 2 хиле
	ра\, остальные - любы
	е дд. \nПриоритет нови
	чкам \nP.S. Объясняю крат
	ко и внятно. На 1 триал
	 у нас уйдет от 30 минут (Аэ
	терианский Архив) до 1\
	,2-1\,5 часа (это если м
	ы пойдем в ХоФ или Санспайр\, 
	а вы там кааааак начнете вылетать... )
DTSTART:20190626T130000Z
ATTENDEE;CN="Bandit";CUTYPE=INDIVIDUAL;PARTSTAT=ACCEPTED:web
	@bandits-clan.ru
ATTENDEE;CN="elena_hanemer";CUTYPE=INDIVIDUAL;PARTSTAT=ACCEP
	TED:web@bandits-clan.ru
ATTENDEE;CN="aks";CUTYPE=INDIVIDUAL;PARTSTAT=ACCEPTED:web@ba
	ndits-clan.ru
ATTENDEE;CN="mikyry";CUTYPE=INDIVIDUAL;PARTSTAT=ACCEPTED:web
	@bandits-clan.ru
ATTENDEE;CN="Dathnovak";CUTYPE=INDIVIDUAL;PARTSTAT=ACCEPTED:
	web@bandits-clan.ru
ATTENDEE;CN="phdooch";CUTYPE=INDIVIDUAL;PARTSTAT=ACCEPTED:we
	b@bandits-clan.ru
ATTENDEE;CN="Ganler";CUTYPE=INDIVIDUAL;PARTSTAT=ACCEPTED:web
	@bandits-clan.ru
ATTENDEE;CN="plag85";CUTYPE=INDIVIDUAL;PARTSTAT=ACCEPTED:web
	@bandits-clan.ru
ATTENDEE;CN="Izaella";CUTYPE=INDIVIDUAL;PARTSTAT=ACCEPTED:we
	b@bandits-clan.ru
ATTENDEE;CN="Ghost_77";CUTYPE=INDIVIDUAL;PARTSTAT=ACCEPTED:w
	eb@bandits-clan.ru
END:VEVENT
END:VCALENDAR
