BEGIN:VCALENDAR
VERSION:2.0
PRODID:-//InvisionCommunity Events 4.7.14//EN
METHOD:PUBLISH
CALSCALE:GREGORIAN
REFRESH-INTERVAL:PT15M
X-PUBLISHED-TTL:PT15M
X-WR-CALNAME:The Elder Scrolls Online
NAME:The Elder Scrolls Online
BEGIN:VTIMEZONE
TZID:Europe/London
TZURL:http://tzurl.org/zoneinfo/Europe/London
X-LIC-LOCATION:Europe/London
BEGIN:DAYLIGHT
TZOFFSETFROM:+0000
TZOFFSETTO:+0100
TZNAME:BST
DTSTART:20190331T020000Z
RRULE:FREQ=YEARLY;BYMONTH=3;BYDAY=-1SU
END:DAYLIGHT
BEGIN:STANDARD
TZOFFSETFROM:+0100
TZOFFSETTO:+0000
TZNAME:GMT
DTSTART:20191027T020000Z
RRULE:FREQ=YEARLY;BYMONTH=10;BYDAY=-1SU
END:STANDARD
END:VTIMEZONE
BEGIN:VEVENT
SUMMARY:[TESO] vSS обучалка
DTSTAMP:20190618T162406Z
SEQUENCE:0
UID:5647-1-afb15bc42254ad5fb0481ce5e9c8144d@forum.bandits-clan.ru
ORGANIZER;CN="dreemspot":web@bandits-clan.ru
DESCRIPTION:\nВ 15.00 по Московск
	ому времени.\n\nПриглашаю
	 12 человек – 2 танка\,
	 2 хила\, 8 дд (Об
	язательна отметка о
	 прохождении нормал вер
	сии триала (мод DBGN)\, у 
	дд обязателен ДПС о
	т 26к+\, танкам нужны
	 сеты на жир\, ум
	ение выживать 
	самим)\, для тренировки на
	 огненного босса:\nСолнечный шпи
	ль / Sunspire [vSun] Необходимо DLC - Эльсв
	ейр / Elsweyr.\n\nПри себе иметь: T
	eamSpeak (хотя бы возможно
	сть слушать)\, Таб
	ард\, ремкомплект
	ы\, еду!\nДля на
	ибольшего у
	добства в осво
	ении контента\, советую за
	ранее установить такие моды как BanditsUser
	 Interface / RaidNotifier. Данные 
	моды показыв
	ают атаки боссов
	 и что нужно дел
	ать в случае и
	спользования и
	х боссами.\n\nВ ком
	ментариях указ
	ывайте свою роль 
	и игровой id.\nНа собы
	тие приходите зара
	нее\, сборы начинают
	ся за 10-15 мин. до н
	азначенного в
	ремени\, в проти
	вном случае\, 
	ваше место у
	йдет другому 
	желающему. Так
	 же не забыв
	айте нажимать 
	на кнопку «ПОЙДУ»! Набор в группу осущес
	твляется по кнопке!
DTSTART:20190622T120000Z
ATTENDEE;CN="Timiri";CUTYPE=INDIVIDUAL;PARTSTAT=ACCEPTED:web
	@bandits-clan.ru
ATTENDEE;CN="dreemspot";CUTYPE=INDIVIDUAL;PARTSTAT=ACCEPTED:
	web@bandits-clan.ru
ATTENDEE;CN="Mordecai_Bot1";CUTYPE=INDIVIDUAL;PARTSTAT=ACCEP
	TED:web@bandits-clan.ru
ATTENDEE;CN="Vadenberg";CUTYPE=INDIVIDUAL;PARTSTAT=ACCEPTED:
	web@bandits-clan.ru
ATTENDEE;CN="Wardanahan";CUTYPE=INDIVIDUAL;PARTSTAT=ACCEPTED
	:web@bandits-clan.ru
ATTENDEE;CN="BlackBaby123";CUTYPE=INDIVIDUAL;PARTSTAT=ACCEPT
	ED:web@bandits-clan.ru
ATTENDEE;CN="DonBandit";CUTYPE=INDIVIDUAL;PARTSTAT=ACCEPTED:
	web@bandits-clan.ru
ATTENDEE;CN="Tiamis";CUTYPE=INDIVIDUAL;PARTSTAT=ACCEPTED:web
	@bandits-clan.ru
ATTENDEE;CN="TricksteR ";CUTYPE=INDIVIDUAL;PARTSTAT=ACCEPTED
	:web@bandits-clan.ru
ATTENDEE;CN="AGARIK";CUTYPE=INDIVIDUAL;PARTSTAT=ACCEPTED:web
	@bandits-clan.ru
ATTENDEE;CN="CannibalYeti";CUTYPE=INDIVIDUAL;PARTSTAT=ACCEPT
	ED:web@bandits-clan.ru
ATTENDEE;CN="AlekseyTurin";CUTYPE=INDIVIDUAL;PARTSTAT=ACCEPT
	ED:web@bandits-clan.ru
ATTENDEE;CN="LawOfJulia";CUTYPE=INDIVIDUAL;PARTSTAT=ACCEPTED
	:web@bandits-clan.ru
END:VEVENT
END:VCALENDAR
