BEGIN:VCALENDAR
VERSION:2.0
PRODID:-//InvisionCommunity Events 4.7.14//EN
METHOD:PUBLISH
CALSCALE:GREGORIAN
REFRESH-INTERVAL:PT15M
X-PUBLISHED-TTL:PT15M
X-WR-CALNAME:The Elder Scrolls Online
NAME:The Elder Scrolls Online
BEGIN:VTIMEZONE
TZID:Europe/London
TZURL:http://tzurl.org/zoneinfo/Europe/London
X-LIC-LOCATION:Europe/London
BEGIN:DAYLIGHT
TZOFFSETFROM:+0000
TZOFFSETTO:+0100
TZNAME:BST
DTSTART:20190331T020000Z
RRULE:FREQ=YEARLY;BYMONTH=3;BYDAY=-1SU
END:DAYLIGHT
BEGIN:STANDARD
TZOFFSETFROM:+0100
TZOFFSETTO:+0000
TZNAME:GMT
DTSTART:20191027T020000Z
RRULE:FREQ=YEARLY;BYMONTH=10;BYDAY=-1SU
END:STANDARD
END:VTIMEZONE
BEGIN:VEVENT
SUMMARY:[TESO] vSun обучалка
DTSTAMP:20190605T031012Z
SEQUENCE:2
UID:5592-1-afb15bc42254ad5fb0481ce5e9c8144d@forum.bandits-clan.ru
ORGANIZER;CN="dreemspot":web@bandits-clan.ru
DESCRIPTION:В 15.00 по Москов
	скому времени. Пригла
	шаю 12 человек – 2 тан
	ка\, 2 хила\, 8 дд
	 (Обязательна отметк
	а о прохождении нормал
	 версии триала (мод DBGN)\
	, у дд обязателен ДПС
	 от 26к+\, танкам нужн
	ы сеты на жир\, 
	умение выживат
	ь самим)\, для тренировки
	 на огненного босса:\nСолнечный ш
	пиль / Sunspire [vSun] Необходимо DLC -
	 Эльсвейр / Elsweyr. При себе 
	иметь: TeamSpeak (хотя бы 
	возможность слуш
	ать)\, Табард\, ре
	мкомплекты\, ед
	у!\nДля наибо
	льшего удоб
	ства в освоении к
	онтента\, советую заранее устан
	овить такие моды как BanditsUser Interface /
	 RaidNotifier. Данные мод
	ы показывают
	 атаки боссов
	 и что нужно
	 делать в с
	лучае испо
	льзования их бо
	ссами. В коммен
	тариях указывайте
	 свою роль и игров
	ой id.\nНа событие прихо
	дите заранее\, сборы 
	начинаются за 10-15 
	мин. до назначе
	нного времени\,
	 в противном сл
	учае\, ваше ме
	сто уйдет др
	угому желающем
	у. Так же не з
	абывайте на
	жимать на кнопку «ПОЙДУ»! Н
	абор в группу осуществляется по кнопке!
DTSTART:20190608T120000Z
ATTENDEE;CN="Kanz1er";CUTYPE=INDIVIDUAL;PARTSTAT=ACCEPTED:we
	b@bandits-clan.ru
ATTENDEE;CN="BlackBaby123";CUTYPE=INDIVIDUAL;PARTSTAT=ACCEPT
	ED:web@bandits-clan.ru
ATTENDEE;CN="dreemspot";CUTYPE=INDIVIDUAL;PARTSTAT=ACCEPTED:
	web@bandits-clan.ru
ATTENDEE;CN="zelenin";CUTYPE=INDIVIDUAL;PARTSTAT=ACCEPTED:we
	b@bandits-clan.ru
ATTENDEE;CN="Canis";CUTYPE=INDIVIDUAL;PARTSTAT=ACCEPTED:web@
	bandits-clan.ru
ATTENDEE;CN="Ctpahhik";CUTYPE=INDIVIDUAL;PARTSTAT=ACCEPTED:w
	eb@bandits-clan.ru
ATTENDEE;CN="BiggestBob";CUTYPE=INDIVIDUAL;PARTSTAT=ACCEPTED
	:web@bandits-clan.ru
ATTENDEE;CN="AlekseyTurin";CUTYPE=INDIVIDUAL;PARTSTAT=ACCEPT
	ED:web@bandits-clan.ru
ATTENDEE;CN="Geluriel";CUTYPE=INDIVIDUAL;PARTSTAT=ACCEPTED:w
	eb@bandits-clan.ru
ATTENDEE;CN="Timiri";CUTYPE=INDIVIDUAL;PARTSTAT=ACCEPTED:web
	@bandits-clan.ru
ATTENDEE;CN="Adellface";CUTYPE=INDIVIDUAL;PARTSTAT=ACCEPTED:
	web@bandits-clan.ru
ATTENDEE;CN="Devilhs";CUTYPE=INDIVIDUAL;PARTSTAT=ACCEPTED:we
	b@bandits-clan.ru
ATTENDEE;CN="Grozby";CUTYPE=INDIVIDUAL;PARTSTAT=ACCEPTED:web
	@bandits-clan.ru
ATTENDEE;CN="Tiamis";CUTYPE=INDIVIDUAL;PARTSTAT=ACCEPTED:web
	@bandits-clan.ru
ATTENDEE;CN="Palacich";CUTYPE=INDIVIDUAL;PARTSTAT=ACCEPTED:w
	eb@bandits-clan.ru
ATTENDEE;CN="Neuro-Mancer";CUTYPE=INDIVIDUAL;PARTSTAT=ACCEPT
	ED:web@bandits-clan.ru
ATTENDEE;CN="Vadenberg";CUTYPE=INDIVIDUAL;PARTSTAT=ACCEPTED:
	web@bandits-clan.ru
END:VEVENT
END:VCALENDAR
