BEGIN:VCALENDAR
VERSION:2.0
PRODID:-//InvisionCommunity Events 4.7.14//EN
METHOD:PUBLISH
CALSCALE:GREGORIAN
REFRESH-INTERVAL:PT15M
X-PUBLISHED-TTL:PT15M
X-WR-CALNAME:The Elder Scrolls Online
NAME:The Elder Scrolls Online
BEGIN:VTIMEZONE
TZID:Europe/London
TZURL:http://tzurl.org/zoneinfo/Europe/London
X-LIC-LOCATION:Europe/London
BEGIN:DAYLIGHT
TZOFFSETFROM:+0000
TZOFFSETTO:+0100
TZNAME:BST
DTSTART:20190331T020000Z
RRULE:FREQ=YEARLY;BYMONTH=3;BYDAY=-1SU
END:DAYLIGHT
BEGIN:STANDARD
TZOFFSETFROM:+0100
TZOFFSETTO:+0000
TZNAME:GMT
DTSTART:20191027T020000Z
RRULE:FREQ=YEARLY;BYMONTH=10;BYDAY=-1SU
END:STANDARD
END:VTIMEZONE
BEGIN:VEVENT
SUMMARY:[TESO] МЫ ПЕРЕДУМАЛИ Обучающий vet Х
	ОФ
DTSTAMP:20190603T053550Z
SEQUENCE:2
UID:5580-1-afb15bc42254ad5fb0481ce5e9c8144d@forum.bandits-clan.ru
ORGANIZER;CN="Zym":web@bandits-clan.ru
DESCRIPTION:Коллегиал
	ьно принято ре
	шение\, что вме
	сто МОЛа будет УЧ
	ЕБНЫЙ ВЕТ ХОФ. Н
	е успели еще осты
	ть угли от вет мо
	ла\, а теперь еще б
	ольше боли\, ст
	радания\, без
	ысходности\, вай
	пов и в качеств
	е бонуса отчаян
	ие. Танков выберу 
	сам.\nДд: принести с 
	собой дешевый мор
	ф пуржа.\nХилы: то
	 же самое\, и побо
	льше манарегена
	 с собой взять. 
	Кнопку \"пойд
	у\" можете н
	е нажимать.
	 Ориентиро
	ваться буду
	 исключительн
	о на комментар
	ии\, порядок очеред
	и также по коммента
	риям.\nУказываем св
	ою роль и ID\, есл
	и по какой-т
	о невероятн
	ой причине он
	 не совпадае
	т с внутрифо
	румным. *Ост
	авляю за соб
	ой право вне
	 очереди до
	бирать игроко
	в на свой выб
	ор для повышени
	я шансов на пр
	охождение. Мы
	 идём проходи
	ть ХОФ\, а не в
	айпаться. По
	здравляю очередных побед
	ителей. Боль длилась 4 рейда. Все молодцы!
	\n\n
DTSTART:20190606T163000Z
ATTENDEE;CN="DemGruim ";CUTYPE=INDIVIDUAL;PARTSTAT=ACCEPTED:
	web@bandits-clan.ru
ATTENDEE;CN="Irdis";CUTYPE=INDIVIDUAL;PARTSTAT=ACCEPTED:web@
	bandits-clan.ru
ATTENDEE;CN="Sabydor";CUTYPE=INDIVIDUAL;PARTSTAT=ACCEPTED:we
	b@bandits-clan.ru
ATTENDEE;CN="Yurbo";CUTYPE=INDIVIDUAL;PARTSTAT=ACCEPTED:web@
	bandits-clan.ru
ATTENDEE;CN="Akvel";CUTYPE=INDIVIDUAL;PARTSTAT=ACCEPTED:web@
	bandits-clan.ru
ATTENDEE;CN="ratchet_27";CUTYPE=INDIVIDUAL;PARTSTAT=ACCEPTED
	:web@bandits-clan.ru
ATTENDEE;CN="Yurikon";CUTYPE=INDIVIDUAL;PARTSTAT=ACCEPTED:we
	b@bandits-clan.ru
ATTENDEE;CN="Canis";CUTYPE=INDIVIDUAL;PARTSTAT=ACCEPTED:web@
	bandits-clan.ru
ATTENDEE;CN="Undertaker83";CUTYPE=INDIVIDUAL;PARTSTAT=ACCEPT
	ED:web@bandits-clan.ru
ATTENDEE;CN="Санжик";CUTYPE=INDIVIDUAL;PARTSTAT=ACCEPT
	ED:web@bandits-clan.ru
ATTENDEE;CN="Ctpahhik";CUTYPE=INDIVIDUAL;PARTSTAT=ACCEPTED:w
	eb@bandits-clan.ru
ATTENDEE;CN="AGARIK";CUTYPE=INDIVIDUAL;PARTSTAT=ACCEPTED:web
	@bandits-clan.ru
ATTENDEE;CN="Kellariella";CUTYPE=INDIVIDUAL;PARTSTAT=ACCEPTE
	D:web@bandits-clan.ru
ATTENDEE;CN="Neuro-Mancer";CUTYPE=INDIVIDUAL;PARTSTAT=ACCEPT
	ED:web@bandits-clan.ru
END:VEVENT
END:VCALENDAR
