BEGIN:VCALENDAR
VERSION:2.0
PRODID:-//InvisionCommunity Events 4.7.14//EN
METHOD:PUBLISH
CALSCALE:GREGORIAN
REFRESH-INTERVAL:PT15M
X-PUBLISHED-TTL:PT15M
X-WR-CALNAME:The Elder Scrolls Online
NAME:The Elder Scrolls Online
BEGIN:VTIMEZONE
TZID:Europe/London
TZURL:http://tzurl.org/zoneinfo/Europe/London
X-LIC-LOCATION:Europe/London
BEGIN:DAYLIGHT
TZOFFSETFROM:+0000
TZOFFSETTO:+0100
TZNAME:BST
DTSTART:20190331T020000Z
RRULE:FREQ=YEARLY;BYMONTH=3;BYDAY=-1SU
END:DAYLIGHT
BEGIN:STANDARD
TZOFFSETFROM:+0100
TZOFFSETTO:+0000
TZNAME:GMT
DTSTART:20191027T020000Z
RRULE:FREQ=YEARLY;BYMONTH=10;BYDAY=-1SU
END:STANDARD
END:VTIMEZONE
BEGIN:VEVENT
SUMMARY:(TESO) Обучающий Hel Ra Citadel (nHRC)
DTSTAMP:20190602T164211Z
SEQUENCE:0
UID:5566-1-afb15bc42254ad5fb0481ce5e9c8144d@forum.bandits-clan.ru
ORGANIZER;CN="Nikvilan":web@bandits-clan.ru
DESCRIPTION:Что? Hel Ra Citadel normal mode.\nГде? Grand Topal Hid
	eaway. Для того\, что
	бы туда попасть\, не
	обходимо в ростере Ги
	льдии найти @Kibert и посети
	ть её дом.\nКогда? Н
	ачало события: 18:45
	 по мск. Ориент
	ировочная дли
	тельность соб
	ытия: 1 час.  
	Цель: обучи
	ть новичко
	в тактике прох
	ождения данного триала. 
	Требования:\nМинимальное зван
	ие: Thief/Soldier\nМинимальный уро
	вень: 160 cp\nОдетая накидка Гильдии Daggerfall/Va
	nguard Bandits\nTeamSpeak В случа
	е успешного
	 прохождени
	я\, всем пр
	ошедшим буде
	т поставлена отметк
	а в списке представит
	елей Гильдии. 1 танк
	\, 2 хила\, 9 дд буд
	ут для нас иде
	альным соста
	вом. Приоритет
	 для игроков\, ко
	торые ни разу н
	е посещали да
	нный триал и 
	тех\, кому н
	еобходима отме
	тка о прохождении
	. Пишите в коммента
	риях свою роль и Ваш
	 UserID. Приходите заранее\, берегите с
	вои и чужие нервы.
DTSTART:20190604T160000Z
ATTENDEE;CN="Nikvilan";CUTYPE=INDIVIDUAL;PARTSTAT=ACCEPTED:w
	eb@bandits-clan.ru
ATTENDEE;CN="rdk";CUTYPE=INDIVIDUAL;PARTSTAT=ACCEPTED:web@ba
	ndits-clan.ru
ATTENDEE;CN="Санжик";CUTYPE=INDIVIDUAL;PARTSTAT=ACCEPT
	ED:web@bandits-clan.ru
ATTENDEE;CN="SHDE_UZL";CUTYPE=INDIVIDUAL;PARTSTAT=ACCEPTED:w
	eb@bandits-clan.ru
ATTENDEE;CN="Undertaker83";CUTYPE=INDIVIDUAL;PARTSTAT=ACCEPT
	ED:web@bandits-clan.ru
ATTENDEE;CN="mikyry";CUTYPE=INDIVIDUAL;PARTSTAT=ACCEPTED:web
	@bandits-clan.ru
ATTENDEE;CN="Reyesa";CUTYPE=INDIVIDUAL;PARTSTAT=ACCEPTED:web
	@bandits-clan.ru
ATTENDEE;CN="Royscoap";CUTYPE=INDIVIDUAL;PARTSTAT=ACCEPTED:w
	eb@bandits-clan.ru
ATTENDEE;CN="Kanz1er";CUTYPE=INDIVIDUAL;PARTSTAT=ACCEPTED:we
	b@bandits-clan.ru
END:VEVENT
END:VCALENDAR
