BEGIN:VCALENDAR
VERSION:2.0
PRODID:-//InvisionCommunity Events 4.7.14//EN
METHOD:PUBLISH
CALSCALE:GREGORIAN
REFRESH-INTERVAL:PT15M
X-PUBLISHED-TTL:PT15M
X-WR-CALNAME:The Elder Scrolls Online
NAME:The Elder Scrolls Online
BEGIN:VTIMEZONE
TZID:Europe/London
TZURL:http://tzurl.org/zoneinfo/Europe/London
X-LIC-LOCATION:Europe/London
BEGIN:DAYLIGHT
TZOFFSETFROM:+0000
TZOFFSETTO:+0100
TZNAME:BST
DTSTART:20190331T020000Z
RRULE:FREQ=YEARLY;BYMONTH=3;BYDAY=-1SU
END:DAYLIGHT
BEGIN:STANDARD
TZOFFSETFROM:+0100
TZOFFSETTO:+0000
TZNAME:GMT
DTSTART:20191027T020000Z
RRULE:FREQ=YEARLY;BYMONTH=10;BYDAY=-1SU
END:STANDARD
END:VTIMEZONE
BEGIN:VEVENT
SUMMARY:(TESO)Фармовый vHRC.
DTSTAMP:20190527T065158Z
SEQUENCE:0
UID:5532-1-afb15bc42254ad5fb0481ce5e9c8144d@forum.bandits-clan.ru
ORGANIZER;CN="DarkVend":web@bandits-clan.ru
DESCRIPTION:В 17:00 по МСК\nСобира
	ю фармовый рейд в 
	vHRC. Кто желает 
	пофармить или про
	сто побегать со всеми\,
	 записывайтесь!Нужны:2 т
	анка\, 2 хила\, 8 дд.\
	nТребования к участникам
	:\n1)Обязательное наличи
	е отметки vHRC в DBGN.( пройд
	енный обучающий рэйд )
	.\n2)Табард гильдии.\n3
	)Наличие тс.\n4)Готовить
	ся зарание ( быть гот
	овым за 15 мин. до н
	ачала )\n5)Отметить в
	 комментариях какой ролью 
	вы идете.\n6)Для дд дпс от 26к\n7)Зв
	ание от Raider/Warrior\nВНИМА
	НИЕ!Если человека по 
	записи нету\, то пос
	ле 17:00 по МСК я беру любого желающего и
	з чата гильдии.\n@DarkVend
DTSTART:20190602T140000Z
ATTENDEE;CN="DarkVend";CUTYPE=INDIVIDUAL;PARTSTAT=ACCEPTED:w
	eb@bandits-clan.ru
ATTENDEE;CN="zelenin";CUTYPE=INDIVIDUAL;PARTSTAT=ACCEPTED:we
	b@bandits-clan.ru
ATTENDEE;CN="Sergeyi";CUTYPE=INDIVIDUAL;PARTSTAT=ACCEPTED:we
	b@bandits-clan.ru
ATTENDEE;CN="Ctpahhik";CUTYPE=INDIVIDUAL;PARTSTAT=ACCEPTED:w
	eb@bandits-clan.ru
ATTENDEE;CN="Canis";CUTYPE=INDIVIDUAL;PARTSTAT=ACCEPTED:web@
	bandits-clan.ru
ATTENDEE;CN="BlackBaby123";CUTYPE=INDIVIDUAL;PARTSTAT=ACCEPT
	ED:web@bandits-clan.ru
ATTENDEE;CN="Undertaker83";CUTYPE=INDIVIDUAL;PARTSTAT=ACCEPT
	ED:web@bandits-clan.ru
ATTENDEE;CN="Agathus";CUTYPE=INDIVIDUAL;PARTSTAT=ACCEPTED:we
	b@bandits-clan.ru
ATTENDEE;CN="EinarSnow";CUTYPE=INDIVIDUAL;PARTSTAT=ACCEPTED:
	web@bandits-clan.ru
END:VEVENT
END:VCALENDAR
