BEGIN:VCALENDAR
VERSION:2.0
PRODID:-//InvisionCommunity Events 4.7.14//EN
METHOD:PUBLISH
CALSCALE:GREGORIAN
REFRESH-INTERVAL:PT15M
X-PUBLISHED-TTL:PT15M
X-WR-CALNAME:The Elder Scrolls Online
NAME:The Elder Scrolls Online
BEGIN:VTIMEZONE
TZID:Europe/London
TZURL:http://tzurl.org/zoneinfo/Europe/London
X-LIC-LOCATION:Europe/London
BEGIN:DAYLIGHT
TZOFFSETFROM:+0000
TZOFFSETTO:+0100
TZNAME:BST
DTSTART:20190331T020000Z
RRULE:FREQ=YEARLY;BYMONTH=3;BYDAY=-1SU
END:DAYLIGHT
BEGIN:STANDARD
TZOFFSETFROM:+0100
TZOFFSETTO:+0000
TZNAME:GMT
DTSTART:20191027T020000Z
RRULE:FREQ=YEARLY;BYMONTH=10;BYDAY=-1SU
END:STANDARD
END:VTIMEZONE
BEGIN:VEVENT
SUMMARY:[TESO] \"Ураган\"\, ДЕНЬ ОТКРЫТЫХ ДВ
	ЕРЕЙ
DTSTAMP:20190520T041932Z
SEQUENCE:2
UID:5499-1-afb15bc42254ad5fb0481ce5e9c8144d@forum.bandits-clan.ru
ORGANIZER;CN="FreeDown":web@bandits-clan.ru
DESCRIPTION:Провожу день 
	открытых дверей!\n
	То есть\, буду 
	добирать в рей
	д всех желающих\
	, пока не законч
	атся желающие или 
	места в рейде.\nКто
	 хочет побегать
	 с нами - жду ва
	с в гости в 
	эту суббот
	у! Единств
	енное поже
	лание: персо
	наж должен б
	ыть более-м
	енее подго
	товлен для ма
	ссового ПВП на кампан
	ии с работающей чемпион
	кой. Кампания Kaalgrontiid. Тема о наборе в
	 статик:\nhttp://forum.bandits-clan.ru/index.php?showtopic=6
	4282 Видео за прошлую неделю:\n
DTSTART:20190601T173000Z
ATTENDEE;CN="FreeDown";CUTYPE=INDIVIDUAL;PARTSTAT=ACCEPTED:w
	eb@bandits-clan.ru
ATTENDEE;CN="thatguyguy89";CUTYPE=INDIVIDUAL;PARTSTAT=ACCEPT
	ED:web@bandits-clan.ru
ATTENDEE;CN="DariusL";CUTYPE=INDIVIDUAL;PARTSTAT=ACCEPTED:we
	b@bandits-clan.ru
ATTENDEE;CN="McKenzo";CUTYPE=INDIVIDUAL;PARTSTAT=ACCEPTED:we
	b@bandits-clan.ru
ATTENDEE;CN="Marderator";CUTYPE=INDIVIDUAL;PARTSTAT=ACCEPTED
	:web@bandits-clan.ru
END:VEVENT
END:VCALENDAR
