BEGIN:VCALENDAR
VERSION:2.0
PRODID:-//InvisionCommunity Events 4.7.14//EN
METHOD:PUBLISH
CALSCALE:GREGORIAN
REFRESH-INTERVAL:PT15M
X-PUBLISHED-TTL:PT15M
X-WR-CALNAME:The Elder Scrolls Online
NAME:The Elder Scrolls Online
BEGIN:VTIMEZONE
TZID:Europe/London
TZURL:http://tzurl.org/zoneinfo/Europe/London
X-LIC-LOCATION:Europe/London
BEGIN:DAYLIGHT
TZOFFSETFROM:+0000
TZOFFSETTO:+0100
TZNAME:BST
DTSTART:20190331T020000Z
RRULE:FREQ=YEARLY;BYMONTH=3;BYDAY=-1SU
END:DAYLIGHT
BEGIN:STANDARD
TZOFFSETFROM:+0100
TZOFFSETTO:+0000
TZNAME:GMT
DTSTART:20191027T020000Z
RRULE:FREQ=YEARLY;BYMONTH=10;BYDAY=-1SU
END:STANDARD
END:VTIMEZONE
BEGIN:VEVENT
SUMMARY:[TESO] Ночной триал (nCR+3)\, обучающий
DTSTAMP:20190420T214514Z
SEQUENCE:2
UID:5349-1-afb15bc42254ad5fb0481ce5e9c8144d@forum.bandits-clan.ru
ORGANIZER;CN="Tykot":web@bandits-clan.ru
DESCRIPTION:Куда идём? В 23-00 по МСК
	 проходим normal версию т
	риала Cloudrest с д
	обавлением трех боссов Ч
	то получим? Вещи из топовых сет
	ов Relequen\, Olorime и др.\n
	Элементы для ск
	лейки страницы стиля Ве
	лкинаров Требования: Зва
	ние Raider\, Warrior или выше хо
	тя бы для половины группы\, в 
	том числе 1 танк и 1 хил\nЗвание Thief
	\, Soldier и 160 cp для остальны
	х\nОтметка о прохождени
	и nCR или выше для всех \nГильдейски
	й табард\nTeam Speak\nSummerset Нам нужны:
	 2 или 3 танка\, 2 хила\
	, 7 или 8 дд\nПр
	и недоборе гру
	ппы или несоотв
	етствии группы ко
	нтенту пройдем nC
	R+0 Кто идет хилом 
	или танком\, пиш
	ите в комментари
	ях свою роль\, чтобы 
	у нас не получилось 
	на старте 5 хилов и 4 
	танка.\nПриходит
	е заранее\, в то
	м числе в тимспи
	к\, вместо опозд
	авших наберем ж
	елающих из чата.\
	nЕсли ваш ник в
	 игре отличает
	ся от ника на фо
	руме\, укажит
	е в коммента
	риях свой игро
	вой ник.\nЧело
	век считаетс
	я записавшим
	ся на событие то
	гда\, когда он подт
	верждает своё уч
	астие кнопкой \"Пой
	ду\" (справа).\nК
	омментарии не
	 являются запи
	сью\, они служат дл
	я распределения ролей\, обсужде
	ния сетов и так далее.
DTSTART:20190427T200000Z
ATTENDEE;CN="Tykot";CUTYPE=INDIVIDUAL;PARTSTAT=ACCEPTED:web@
	bandits-clan.ru
ATTENDEE;CN="Devilhs";CUTYPE=INDIVIDUAL;PARTSTAT=ACCEPTED:we
	b@bandits-clan.ru
ATTENDEE;CN="zelenin";CUTYPE=INDIVIDUAL;PARTSTAT=ACCEPTED:we
	b@bandits-clan.ru
ATTENDEE;CN="Babayka";CUTYPE=INDIVIDUAL;PARTSTAT=ACCEPTED:we
	b@bandits-clan.ru
ATTENDEE;CN="Shaber";CUTYPE=INDIVIDUAL;PARTSTAT=ACCEPTED:web
	@bandits-clan.ru
ATTENDEE;CN="Missclick_gosu";CUTYPE=INDIVIDUAL;PARTSTAT=ACCE
	PTED:web@bandits-clan.ru
ATTENDEE;CN="ManFromMoon";CUTYPE=INDIVIDUAL;PARTSTAT=ACCEPTE
	D:web@bandits-clan.ru
ATTENDEE;CN="awoub";CUTYPE=INDIVIDUAL;PARTSTAT=ACCEPTED:web@
	bandits-clan.ru
ATTENDEE;CN="Слава нск";CUTYPE=INDIVIDUAL;PARTSTAT=A
	CCEPTED:web@bandits-clan.ru
ATTENDEE;CN="Owa813";CUTYPE=INDIVIDUAL;PARTSTAT=ACCEPTED:web
	@bandits-clan.ru
ATTENDEE;CN="firimar";CUTYPE=INDIVIDUAL;PARTSTAT=ACCEPTED:we
	b@bandits-clan.ru
ATTENDEE;CN="hakkanistorm";CUTYPE=INDIVIDUAL;PARTSTAT=ACCEPT
	ED:web@bandits-clan.ru
ATTENDEE;CN="Neuro-Mancer";CUTYPE=INDIVIDUAL;PARTSTAT=ACCEPT
	ED:web@bandits-clan.ru
ATTENDEE;CN="Aleksandr(Шилов)";CUTYPE=INDIVIDUAL;PARTST
	AT=ACCEPTED:web@bandits-clan.ru
END:VEVENT
END:VCALENDAR
