BEGIN:VCALENDAR
VERSION:2.0
PRODID:-//InvisionCommunity Events 4.7.14//EN
METHOD:PUBLISH
CALSCALE:GREGORIAN
REFRESH-INTERVAL:PT15M
X-PUBLISHED-TTL:PT15M
X-WR-CALNAME:The Elder Scrolls Online
NAME:The Elder Scrolls Online
BEGIN:VTIMEZONE
TZID:Europe/London
TZURL:http://tzurl.org/zoneinfo/Europe/London
X-LIC-LOCATION:Europe/London
BEGIN:DAYLIGHT
TZOFFSETFROM:+0000
TZOFFSETTO:+0100
TZNAME:BST
DTSTART:20190331T020000Z
RRULE:FREQ=YEARLY;BYMONTH=3;BYDAY=-1SU
END:DAYLIGHT
BEGIN:STANDARD
TZOFFSETFROM:+0100
TZOFFSETTO:+0000
TZNAME:GMT
DTSTART:20191027T020000Z
RRULE:FREQ=YEARLY;BYMONTH=10;BYDAY=-1SU
END:STANDARD
END:VTIMEZONE
BEGIN:VEVENT
SUMMARY:[TESO] AS weekly
DTSTAMP:20190417T182742Z
SEQUENCE:2
UID:5340-1-afb15bc42254ad5fb0481ce5e9c8144d@forum.bandits-clan.ru
ORGANIZER;CN="Hoft":web@bandits-clan.ru
DESCRIPTION:Только с опытом. Че
	мпионка. Обязательно. De
	fault AS в Бандитском интерфейсе. Оповещен
	ия.\nDefiling Dye Blast 7. Saint Llothis дает
	 конус на одну цель к
	оторый делает 3 уд
	ара раз в 2 сек. Ст
	оять в блоке\, вардоватьс
	я. Остальным в блоке выйти из конуса.\n
	Teleport Strike. Saint Felms прыгает к в
	ам\, урона не на
	носит\, дает огромную луж
	у. Просто быстро выбегаем без блока.\n
	Manifest Wrath. Saint Felms кидает 
	на вас огром
	ную область из
	 центра которой р
	азойдутся четыре волны. Выйти и
	з центра\, нажать блок.\nExhaustive Charge
	s. Saint Olms кидает на
	 вас огромную элек
	трическую лужу. Просто быстро выб
	егаем без блока.\nScalding Roar. Saint Olms рычит
	 на танка.\nStorm of Heavens. Saint Olm
	s кидает на каждого по пять бомбочек. К
	айт.\nTrial by Fire. Saint Olms с пауз
	ой в 3с раскиды
	вает 3 огромные 
	области\, котор
	ые каждая сдето
	нируют через 3с
	 и убьют тех кто
	 остался в цент
	ре и наложат ог
	ненный ДоТ на тех
	 кто все же попал в обл
	асть. Отпурджиться\, варданутся\, лечить
	ся.\nSaint Felms/Saint Llothis up in 30c. Бо
	с оживет через указанное время.\nSaint Felms/Sai
	nt Llothis enrage in 30c. Боса с
	тоит убить до истечения указанн
	ого времени.\n\nАддоны:\n- GroupLootNotifier http://www.es
	oui.com...otNotifier.html. Для всех к
	то собирает сет\, 
	особенно в триал
	ах. Очень \"легкий
	\" аддон\, миним
	альная нагру
	зка на память 
	и ресурсы. Кр
	айне информатив
	ен. Показывает к
	ому что упало (
	сразу с трейт
	ами)\, все кли
	кабельное. 
	Включайте 
	в настройка
	х последни
	й автофильтр 
	и из чата пропадет флуд 
	состоящий из говнотрейтового дропа.\n- Band
	its User Interface http://forum.bandits...showtopic=58009. Н
	аш гильдейс
	кий аддон. 
	По своим в
	озможност
	ям и низко
	й нагрузк
	е на вычис
	лительны
	е ресурсы н
	а сегодняш
	ний день п
	ревосходит
	 прочие адд
	оны интерф
	ейса. Хила
	м иметь об
	язательно 
	потому что
	 они получа
	ют своеврем
	енные оповещ
	ения о горне 
	или просадке
	 группы/танка по
	 ресурсам. Дает 
	крайне важные о
	повещения в три
	алах.\n- Для т
	анка: Вклю
	чить в раздел
	е настроек це
	ли Бандитского и
	нтерфейса таунт тр
	екер.\n\nЧтобы сэконо
	мить время:\n- Про
	шу приходить за 15 м
	инут до начала с
	обытия сразу в кан
	ал Триалы в ТС.\
	n- Правильно в
	ыставлять роли.
	\n- Заблаговреме
	нно скрафтить
	/попросить еду
	/банки.\n- Про
	сматривае
	м лут и дог
	овариваемс
	я о передаче 
	после убийства по
	следнего босса. Жела
	тельно в личку а не голосом в ТС.
	\n- Носите с собой Grand Repair
	 Kit (можно получит
	ь за крафтовые 
	дейлики\, приобретае
	тся у вендоров\, а л
	учше в гильд стор
	ах)\n- В ТС не флу
	дим. Только ко
	нструктивная ин
	формация («горн»\,
	 «внизу/ввурху»\, 
	«не вставай/встав
	ай»\, пр.). Обсужд
	аем то что вас
	 волнует толь
	ко во время п
	ерерывов. Не р
	ассказываем 
	как вам обидн
	о что упали/з
	атупили/лагну
	ло\, не оправ
	дываемся если Р
	Л отметил лично 
	вашу ошибку. Да
	вайте экономить время.
	\n- После входа в холл данжа отклю
	чите тени\, Subsampling quality на
	 нормал\, миниму
	м частиц. Ни в кое
	м случае не заним
	айтесь этим во время рейда.\n- 
	На время рейда отключите Master Merchant\, Harvest Ma
	p\, RuESO.
DTSTART:20190421T180000Z
ATTENDEE;CN="Hoft";CUTYPE=INDIVIDUAL;PARTSTAT=ACCEPTED:web@b
	andits-clan.ru
ATTENDEE;CN="Semeckiy ";CUTYPE=INDIVIDUAL;PARTSTAT=ACCEPTED:
	web@bandits-clan.ru
ATTENDEE;CN="zelenin";CUTYPE=INDIVIDUAL;PARTSTAT=ACCEPTED:we
	b@bandits-clan.ru
ATTENDEE;CN="Bagira-Olga";CUTYPE=INDIVIDUAL;PARTSTAT=ACCEPTE
	D:web@bandits-clan.ru
ATTENDEE;CN="DemGruim ";CUTYPE=INDIVIDUAL;PARTSTAT=ACCEPTED:
	web@bandits-clan.ru
ATTENDEE;CN="Neuro-Mancer";CUTYPE=INDIVIDUAL;PARTSTAT=ACCEPT
	ED:web@bandits-clan.ru
ATTENDEE;CN="vincha";CUTYPE=INDIVIDUAL;PARTSTAT=ACCEPTED:web
	@bandits-clan.ru
ATTENDEE;CN="Gekkorus";CUTYPE=INDIVIDUAL;PARTSTAT=ACCEPTED:w
	eb@bandits-clan.ru
ATTENDEE;CN="Ragga-Max";CUTYPE=INDIVIDUAL;PARTSTAT=ACCEPTED:
	web@bandits-clan.ru
ATTENDEE;CN="vensik";CUTYPE=INDIVIDUAL;PARTSTAT=ACCEPTED:web
	@bandits-clan.ru
END:VEVENT
END:VCALENDAR
