BEGIN:VCALENDAR
VERSION:2.0
PRODID:-//InvisionCommunity Events 4.7.14//EN
METHOD:PUBLISH
CALSCALE:GREGORIAN
REFRESH-INTERVAL:PT15M
X-PUBLISHED-TTL:PT15M
X-WR-CALNAME:The Elder Scrolls Online
NAME:The Elder Scrolls Online
BEGIN:VTIMEZONE
TZID:Europe/London
TZURL:http://tzurl.org/zoneinfo/Europe/London
X-LIC-LOCATION:Europe/London
BEGIN:DAYLIGHT
TZOFFSETFROM:+0000
TZOFFSETTO:+0100
TZNAME:BST
DTSTART:20190331T020000Z
RRULE:FREQ=YEARLY;BYMONTH=3;BYDAY=-1SU
END:DAYLIGHT
BEGIN:STANDARD
TZOFFSETFROM:+0100
TZOFFSETTO:+0000
TZNAME:GMT
DTSTART:20191027T020000Z
RRULE:FREQ=YEARLY;BYMONTH=10;BYDAY=-1SU
END:STANDARD
END:VTIMEZONE
BEGIN:VEVENT
SUMMARY:Забег на фарм коробок (ивент 5лет
	ия TESO)
DTSTAMP:20190411T074346Z
SEQUENCE:2
UID:5308-1-afb15bc42254ad5fb0481ce5e9c8144d@forum.bandits-clan.ru
ORGANIZER;CN="Aquifolius":web@bandits-clan.ru
DESCRIPTION:Будем группой ф
	армить юбилейные к
	оробки\, которые с
	 11 по 17 апреля 
	будут дава
	ться в нагр
	аду при вы
	полнении д
	ейликов на
	 убийство мир
	овых боссов и
	 выполнение 
	заданий в вылаз
	ках. Локации\, в к
	оторых доступны так
	ие дейлики:\n- Саммерсет 
	(6 мировых боссов\, 6 вы
	лазок)\n- Вварденфел (6
	 мировых боссов\, 6 вылаз
	ок - Ординаторы)\n- Ротгар 
	(6 мировых боссов\, 6 выл
	азок)\n- Муркмайр (2 миров
	ых босса * 3 вариации з
	адания\, 2 вылазки * 3
	 вариации задания)\n- З
	олотой берег (2 мировы
	х босса\, 2 вылазки)\n-
	 Заводной Город 
	(2 мировых босса
	\, 2 вылазки)
	 Маршрут 
	и полнота 
	выполнения
	 дейликов б
	удет обгова
	риваться в уже
	 собранной гру
	ппе\, поскольку
	 количество зада
	ний велико\, а вр
	емя в сутках огр
	аниченно  Пока ч
	то\, прикидывая
	 профит с самих з
	аданий\, я скло
	няюсь к марш
	руту Саммерсет 
	- Муркмайр - о
	пционально Р
	отгар/Ввардефе
	л. Требования:\n
	- персонажи любог
	о уровня и любого ал
	ьянса\n- глава Саммерсе
	т\n- подписка ESO+ ил
	и купленные D
	LC Морровинд
	 (для возм
	ожности б
	рать задан
	ия Ординато
	ров требует
	ся герою пройт
	и сюжетную лин
	ию вплоть до гадани
	я в храме Вивека\, по вре
	мени это занимает минут 10
	\, не больше)\, DLC Орсиниум\, DLC
	 Тёмное Братство\, DLC М
	уркмайр\, DLC Заводной Город
	.\n- табард (гильдийская накидка\, см.: http://f
	orum.bandits-clan.ru/index.php?showtopic=62932 )\n- маунт
	\, в идеале прокачанный)))
DTSTART:20190417T150000Z
ATTENDEE;CN="Aquifolius";CUTYPE=INDIVIDUAL;PARTSTAT=ACCEPTED
	:web@bandits-clan.ru
ATTENDEE;CN="Oddiseeone";CUTYPE=INDIVIDUAL;PARTSTAT=ACCEPTED
	:web@bandits-clan.ru
ATTENDEE;CN="kent10";CUTYPE=INDIVIDUAL;PARTSTAT=ACCEPTED:web
	@bandits-clan.ru
ATTENDEE;CN="Damn vegan";CUTYPE=INDIVIDUAL;PARTSTAT=ACCEPTED
	:web@bandits-clan.ru
ATTENDEE;CN="Слава нск";CUTYPE=INDIVIDUAL;PARTSTAT=A
	CCEPTED:web@bandits-clan.ru
END:VEVENT
END:VCALENDAR
