BEGIN:VCALENDAR
VERSION:2.0
PRODID:-//InvisionCommunity Events 4.7.14//EN
METHOD:PUBLISH
CALSCALE:GREGORIAN
REFRESH-INTERVAL:PT15M
X-PUBLISHED-TTL:PT15M
X-WR-CALNAME:The Elder Scrolls Online
NAME:The Elder Scrolls Online
BEGIN:VTIMEZONE
TZID:Europe/London
TZURL:http://tzurl.org/zoneinfo/Europe/London
X-LIC-LOCATION:Europe/London
BEGIN:DAYLIGHT
TZOFFSETFROM:+0000
TZOFFSETTO:+0100
TZNAME:BST
DTSTART:20190331T020000Z
RRULE:FREQ=YEARLY;BYMONTH=3;BYDAY=-1SU
END:DAYLIGHT
BEGIN:STANDARD
TZOFFSETFROM:+0100
TZOFFSETTO:+0000
TZNAME:GMT
DTSTART:20191027T020000Z
RRULE:FREQ=YEARLY;BYMONTH=10;BYDAY=-1SU
END:STANDARD
END:VTIMEZONE
BEGIN:VEVENT
SUMMARY:[TESO] Cloudrest farm
DTSTAMP:20190401T135736Z
SEQUENCE:2
UID:5241-1-afb15bc42254ad5fb0481ce5e9c8144d@forum.bandits-clan.ru
ORGANIZER;CN="Hoft":web@bandits-clan.ru
DESCRIPTION:Если собере
	тся сильная ко
	манда то фармим 
	вет+1 иначе нор
	мал+3 Уточнени
	е: Это ФАРМОВОЕ 
	событие. На не
	го приходят опыт
	ные игроки. Если
	 вы еще не знает
	е Клаудрест \"н
	азубок\" то 
	ходите пож
	алуйста снач
	ала в обучающие
	 рейды. Фарм пред
	полагает быстры
	е заходы (на но
	рмале 10 мин макси
	мум) а не полут
	орачасовую возню. Требова
	ние: TS\, табард гильдии. Чемпионка: Ironclad 72
	\, Spell Shield 43\, Thik Skinned 66\, Hardy 0\, Elemental Defender 64\, 
	Остальное в Quick recovery (чтоб в
	ыжить под маркой). Оповещения:\nVol
	taic Overload in 3 - Через 3 
	секунды а
	ктивная панель бу
	дет перегружена есть время подс
	тавить бэк панель.\nVoltaic Overl
	oad 10\, кромка экрана 
	голубая - Убрать
	 перегруженное о
	ружие (свап)\, и 
	не возвращать его п
	ока тикает таймер и экран не станет
	 нормальным.\nRoaring Flare on [Name] 7 - Че
	рез 2 секунды на [Name
	] появится горе
	лка и потом рван
	ет через 5 секу
	нд. Если горе
	лка на сопартийц
	е то у вас будет ж
	елтая стрелка ук
	азывающая на \"же
	ртву\"\, к которо
	й нужно подбежа
	ть чтоб раздел
	ить с ним урон
	 от горелки. Если у вас
	 не установлена деби
	льная библиотека LibMa
	pPing (которая урод
	ует ряд важных
	 функций игры)
	 то вы так ж
	е будете в
	идеть расс
	тояние и к
	огда прибл
	изитесь дос
	таточно близк
	о то желтая ст
	релка сменит
	ся на красный 
	кружочек\, что будет зна
	чить что сейчас достанется
	 и вам тоже.\nHoarfrost 7\, кр
	омка экрана ста
	ла синей - Вы под
	няли ветер\, сб
	росить его мо
	жно будет чере
	з 7 секунд про
	жатием синерг
	ии. Экран буде
	т синим пока ве
	тер не будет сброше
	н. Теперь только даун пойдет в порт
	ал с ветерком.\nPortal to Shadow world: Group
	 1/2 - Через 2 секунды появится
	 портал. Группа 1/2 бежит в центр.\nC
	hilling Comet 2 - Через 2 секунды
	 на вас упадет комета. Расстак и блок
	.\nCrushing Darkness 10 - Через 3 секу
	нды на вас будет луч. Ка
	йтим его в течении последующих 7
	 секунд.\nScalding Sunder 2 - Хеви атака
	 Галенве. Ролл-додж/блок.\nShock
	ing Smash 2 - Хеви атака Си
	рории. Удар приход
	ится не в вас а в землю по
	д вами. БЛОК! В ролл-додже вас н
	акроет.\nRavaging Blow 2 - Хеви атака Р
	еликвин. Ролл-додж/блок.\nTalo
	n Slice 0.6 - Грифон цар
	апаеццо. Если до опов
	ещения не сделать ролл-додж то уже поз
	дно (650мс)...\nNocturnal's Favor 2 - З'м
	аджа даст хеви ата
	ку через 2сек+расст
	ояние. Танк не отпус
	кает блок\, дд - труп (на норм
	але блок спасает). Не доджится.\nBaneful Barb 
	1.6 - Yagra Monstrosity даст дебаф чер
	ез 1200мс. Ролл-додж (блок не помога
	ет).\nBaneful Mark 30\, кромка экра
	на стала малиновой
	 - Вы словили Barb 
	или получили
	 его из лично
	й симпатии З
	маджи на стади
	и добивания. Ур
	езан входящий
	 отхил\, ежесек
	ундно тикает по 
	2к урона. Повыш
	енная концентр
	ация\, смотрим п
	од ноги (на стади
	и добивания много
	 всего на землю п
	адает)\, вардуемя\
	, уповаем на хила. П
	роклятие будет снято 
	когда хил вас \"выта
	щит\" до \"фула\"\, 
	и только тогда пропадет
	 оповещение\, экран станет нормальным.\nCor
	pulence 2.6 - Yagra Monstrosity даст хеви а
	таку через 2600мс. Д
	ождаться когда та
	ймер будет на 1 и с
	делать ролл-додж
	\, ну или драпать от неё в ис
	терике (тоже помогает). Аддоны:\n- GroupLootNotif
	ier http://www.esoui.com...otNotifier.html. Для все
	х кто собирает сет\
	, особенно в триал
	ах. Очень \"легкий
	\" аддон\, миним
	альная нагру
	зка на память 
	и ресурсы. Кр
	айне информатив
	ен. Показывает к
	ому что упало (
	сразу с трейт
	ами)\, все кли
	кабельное. 
	Включайте 
	в настройка
	х последни
	й автофильтр 
	и из чата пропадет флуд 
	состоящий из говнотрейтового дропа.\n- Band
	its User Interface http://forum.bandits...showtopic=58009. Н
	аш гильдейс
	кий аддон. 
	По своим в
	озможност
	ям и низко
	й нагрузк
	е на вычис
	лительны
	е ресурсы н
	а сегодняш
	ний день п
	ревосходит
	 прочие адд
	оны интерф
	ейса. Хила
	м иметь об
	язательно 
	потому что
	 они получа
	ют своеврем
	енные оповещ
	ения о горне 
	или просадке
	 группы/танка по
	 ресурсам. Дает 
	крайне важные о
	повещения в три
	алах.\n- Для т
	анка: Вклю
	чить в раз
	деле наст
	роек цели Бан
	дитского инт
	ерфейса таунт тр
	екер. Чтобы сэкон
	омить время:\n- Пр
	ошу приходить за 15 
	минут до начала
	 события сразу в ка
	нал Триалы в ТС.
	\n- Правильно в
	ыставлять роли.
	\n- Заблаговреме
	нно скрафтить
	/попросить еду
	/банки.\n- Про
	сматривае
	м лут и дог
	овариваемс
	я о передаче 
	после убийства по
	следнего босса. Жела
	тельно в личку а не голосом в ТС.
	\n- Носите с собой Grand Repair
	 Kit (можно получит
	ь за крафтовые 
	дейлики\, приобретае
	тся у вендоров\, а л
	учше в гильд стор
	ах)\n- В ТС не флу
	дим. Только ко
	нструктивная ин
	формация («горн»\,
	 «внизу/ввурху»\, 
	«не вставай/встав
	ай»\, пр.). Обсужд
	аем то что вас
	 волнует толь
	ко во время п
	ерерывов. Не р
	ассказываем 
	как вам обидн
	о что упали/з
	атупили/лагну
	ло\, не оправ
	дываемся если Р
	Л отметил лично 
	вашу ошибку. Да
	вайте экономить время.
	\n- После входа в холл данжа отклю
	чите тени\, Subsampling quality на
	 нормал\, миниму
	м частиц. Ни в кое
	м случае не заним
	айтесь этим во время рейда.\n- 
	На время рейда отключите Master Merchant\, Harvest Ma
	p\, RuESO.
DTSTART:20190403T180000Z
ATTENDEE;CN="Hoft";CUTYPE=INDIVIDUAL;PARTSTAT=ACCEPTED:web@b
	andits-clan.ru
ATTENDEE;CN="Semeckiy ";CUTYPE=INDIVIDUAL;PARTSTAT=ACCEPTED:
	web@bandits-clan.ru
ATTENDEE;CN="Baltazar";CUTYPE=INDIVIDUAL;PARTSTAT=ACCEPTED:w
	eb@bandits-clan.ru
ATTENDEE;CN="ELEKTRIC322";CUTYPE=INDIVIDUAL;PARTSTAT=ACCEPTE
	D:web@bandits-clan.ru
ATTENDEE;CN="Bagira-Olga";CUTYPE=INDIVIDUAL;PARTSTAT=ACCEPTE
	D:web@bandits-clan.ru
ATTENDEE;CN="Neuro-Mancer";CUTYPE=INDIVIDUAL;PARTSTAT=ACCEPT
	ED:web@bandits-clan.ru
ATTENDEE;CN="feelgood";CUTYPE=INDIVIDUAL;PARTSTAT=ACCEPTED:w
	eb@bandits-clan.ru
ATTENDEE;CN="vensik";CUTYPE=INDIVIDUAL;PARTSTAT=ACCEPTED:web
	@bandits-clan.ru
ATTENDEE;CN="Gekkorus";CUTYPE=INDIVIDUAL;PARTSTAT=ACCEPTED:w
	eb@bandits-clan.ru
ATTENDEE;CN="Him";CUTYPE=INDIVIDUAL;PARTSTAT=ACCEPTED:web@ba
	ndits-clan.ru
ATTENDEE;CN="Heymexa";CUTYPE=INDIVIDUAL;PARTSTAT=ACCEPTED:we
	b@bandits-clan.ru
ATTENDEE;CN="GKS";CUTYPE=INDIVIDUAL;PARTSTAT=ACCEPTED:web@ba
	ndits-clan.ru
END:VEVENT
END:VCALENDAR
