BEGIN:VCALENDAR
VERSION:2.0
PRODID:-//InvisionCommunity Events 4.7.14//EN
METHOD:PUBLISH
CALSCALE:GREGORIAN
REFRESH-INTERVAL:PT15M
X-PUBLISHED-TTL:PT15M
X-WR-CALNAME:The Elder Scrolls Online
NAME:The Elder Scrolls Online
BEGIN:VTIMEZONE
TZID:Europe/London
TZURL:http://tzurl.org/zoneinfo/Europe/London
X-LIC-LOCATION:Europe/London
BEGIN:DAYLIGHT
TZOFFSETFROM:+0000
TZOFFSETTO:+0100
TZNAME:BST
DTSTART:20190331T020000Z
RRULE:FREQ=YEARLY;BYMONTH=3;BYDAY=-1SU
END:DAYLIGHT
BEGIN:STANDARD
TZOFFSETFROM:+0100
TZOFFSETTO:+0000
TZNAME:GMT
DTSTART:20191027T020000Z
RRULE:FREQ=YEARLY;BYMONTH=10;BYDAY=-1SU
END:STANDARD
END:VTIMEZONE
BEGIN:VEVENT
SUMMARY:[TESO] Обучающий vet Asylum Sanctorium (vAS)
DTSTAMP:20190331T134404Z
SEQUENCE:2
UID:5223-1-afb15bc42254ad5fb0481ce5e9c8144d@forum.bandits-clan.ru
ORGANIZER;CN="Neuro-Mancer":web@bandits-clan.ru
DESCRIPTION:Начало 20:00 мск Обучающи
	й ветеранский триал Asylum Sanct
	orium Сбор начинается в 19-50.
	 Если вы записались\, 
	но не пришли до 20-
	00\, ваше место за
	ймет любой желающий из чата
	. Требования:\n- Наличие гл
	авы Clockwork City(Заводной Город) или 
	подписки\n- Звание от Bandit / G
	uard и выше\n- Подтвержденный Д
	ПС 30к+ для дд\n- Аттестация VETERAN
	 на танке\n- Табард гильдии\
	n- TeamSpeak\n- Отметка о
	 прохождении нор
	мал версии триал
	а с гильдией (и
	ли\, как минимум\, зна
	ние базовых механик босс
	ов) Требуются: - 1 танк\
	, 2 хила\, 9 дд\nУ хилов до
	лжна быть изученна
	 способность Purge\, У мана
	 дд должна быть изученна
	 способность Crushing Sh
	ock из ветки д
	естро посоха
	 без исключен
	ий. Набор по По
	дтверждению участия
	. Т.е. нажимаем кно
	пку ПОЙДУ.\nПи
	шите свой ID и ро
	ль в теме события Про
	должительность события
	 - не более 2.5 часов. Т.
	е. 22:30 событие
	 оканчиваетс
	я в независим
	ости от стадии п
	рохождения. С собой взять банки
	\, рем комплекты\, еду и камни душ.
DTSTART:20190402T170000Z
ATTENDEE;CN="Neuro-Mancer";CUTYPE=INDIVIDUAL;PARTSTAT=ACCEPT
	ED:web@bandits-clan.ru
ATTENDEE;CN="EternalNT";CUTYPE=INDIVIDUAL;PARTSTAT=ACCEPTED:
	web@bandits-clan.ru
ATTENDEE;CN="asnya911";CUTYPE=INDIVIDUAL;PARTSTAT=ACCEPTED:w
	eb@bandits-clan.ru
ATTENDEE;CN="Wardanahan";CUTYPE=INDIVIDUAL;PARTSTAT=ACCEPTED
	:web@bandits-clan.ru
ATTENDEE;CN="Woruto";CUTYPE=INDIVIDUAL;PARTSTAT=ACCEPTED:web
	@bandits-clan.ru
ATTENDEE;CN="Torin";CUTYPE=INDIVIDUAL;PARTSTAT=ACCEPTED:web@
	bandits-clan.ru
ATTENDEE;CN="Canis";CUTYPE=INDIVIDUAL;PARTSTAT=ACCEPTED:web@
	bandits-clan.ru
END:VEVENT
END:VCALENDAR
