BEGIN:VCALENDAR
VERSION:2.0
PRODID:-//InvisionCommunity Events 4.7.14//EN
METHOD:PUBLISH
CALSCALE:GREGORIAN
REFRESH-INTERVAL:PT15M
X-PUBLISHED-TTL:PT15M
X-WR-CALNAME:The Elder Scrolls Online
NAME:The Elder Scrolls Online
BEGIN:VTIMEZONE
TZID:Europe/London
TZURL:http://tzurl.org/zoneinfo/Europe/London
X-LIC-LOCATION:Europe/London
BEGIN:DAYLIGHT
TZOFFSETFROM:+0000
TZOFFSETTO:+0100
TZNAME:BST
DTSTART:20190331T020000Z
RRULE:FREQ=YEARLY;BYMONTH=3;BYDAY=-1SU
END:DAYLIGHT
BEGIN:STANDARD
TZOFFSETFROM:+0100
TZOFFSETTO:+0000
TZNAME:GMT
DTSTART:20191027T020000Z
RRULE:FREQ=YEARLY;BYMONTH=10;BYDAY=-1SU
END:STANDARD
END:VTIMEZONE
BEGIN:VEVENT
SUMMARY:[TESO] Обучающий vHoF
DTSTAMP:20190326T081018Z
SEQUENCE:2
UID:5213-1-afb15bc42254ad5fb0481ce5e9c8144d@forum.bandits-clan.ru
ORGANIZER;CN="mrachny":web@bandits-clan.ru
DESCRIPTION:Обучающий ветеранский триа
	л Halls of Fabrication\nНачало события 2
	0-00 по МСК\nСбор начинает
	ся в 19-50. Если вы записалис
	ь\, но не пришли до 20
	-00\, ваше место мо
	жет занять любой желающ
	ий из чата. Требования:\n-
	 Наличие главы Morrowind или подписки\
	n- Звание от Bandit / Guard и выше\n
	- Подтвержденный ДПС 30к+ дл
	я дд\n- Аттестация VETERAN на танке\n
	- Табард гильдии\n- TeamS
	peak\n- Отметка о про
	хождении нормал
	 версии триала с
	 гильдией (или\
	, как минимум\, зн
	ание базовых механик бос
	сов) Нам потребуются:\n- 
	2 танка\n- 2 хила\n- 8 дд\
	nИзученная спосо
	бность Purge обя
	зательна для
	 всех! Видео-гайд на ру
	сском языке обязателен к ознакомлению htt
	p://forum.bandits-clan.ru/index.php?showtopic=65748 Чтоб
	ы попасть в рейд:\n1. Н
	аписать в коммента
	риях свою роль (и id\, 
	если он отличается от
	 ника на форуме)\n2. На
	жать кнопку \"ПО
	ЙДУ\" справа. К
	омментарий 
	из п.1 не я
	вляется по
	дтверждением
	 записи на событие
	! Продолжительность
	 события - не более 3 ча
	сов. \nСбор\, перекуры\
	, перекусы и т.д. та
	кже входят в ука
	занные 3 часа\,
	 так что про
	шу всех прих
	одить вовремя
	 и подготовлен
	ными на все слу
	чаи жизни)\nПо
	жалуйста\, вн
	имательно читайт
	е требования\, не тратьте понапрасну
	 свое и чужое время)
DTSTART:20190329T170000Z
ATTENDEE;CN="mrachny";CUTYPE=INDIVIDUAL;PARTSTAT=ACCEPTED:we
	b@bandits-clan.ru
ATTENDEE;CN="DemGruim ";CUTYPE=INDIVIDUAL;PARTSTAT=ACCEPTED:
	web@bandits-clan.ru
ATTENDEE;CN="Zym";CUTYPE=INDIVIDUAL;PARTSTAT=ACCEPTED:web@ba
	ndits-clan.ru
ATTENDEE;CN="Necroblaster";CUTYPE=INDIVIDUAL;PARTSTAT=ACCEPT
	ED:web@bandits-clan.ru
ATTENDEE;CN="ELEKTRIC322";CUTYPE=INDIVIDUAL;PARTSTAT=ACCEPTE
	D:web@bandits-clan.ru
ATTENDEE;CN="Dimitique";CUTYPE=INDIVIDUAL;PARTSTAT=ACCEPTED:
	web@bandits-clan.ru
ATTENDEE;CN="Harrin";CUTYPE=INDIVIDUAL;PARTSTAT=ACCEPTED:web
	@bandits-clan.ru
ATTENDEE;CN="mistercos1";CUTYPE=INDIVIDUAL;PARTSTAT=ACCEPTED
	:web@bandits-clan.ru
ATTENDEE;CN="Aabsolute";CUTYPE=INDIVIDUAL;PARTSTAT=ACCEPTED:
	web@bandits-clan.ru
ATTENDEE;CN="Wardanahan";CUTYPE=INDIVIDUAL;PARTSTAT=ACCEPTED
	:web@bandits-clan.ru
ATTENDEE;CN="Bagira-Olga";CUTYPE=INDIVIDUAL;PARTSTAT=ACCEPTE
	D:web@bandits-clan.ru
ATTENDEE;CN="botannik";CUTYPE=INDIVIDUAL;PARTSTAT=ACCEPTED:w
	eb@bandits-clan.ru
ATTENDEE;CN="MinaevNaKone";CUTYPE=INDIVIDUAL;PARTSTAT=ACCEPT
	ED:web@bandits-clan.ru
ATTENDEE;CN="@K0RVINUS";CUTYPE=INDIVIDUAL;PARTSTAT=ACCEPTED:
	web@bandits-clan.ru
ATTENDEE;CN="KNJAZ";CUTYPE=INDIVIDUAL;PARTSTAT=ACCEPTED:web@
	bandits-clan.ru
ATTENDEE;CN="Neuro-Mancer";CUTYPE=INDIVIDUAL;PARTSTAT=ACCEPT
	ED:web@bandits-clan.ru
ATTENDEE;CN="Dolphin";CUTYPE=INDIVIDUAL;PARTSTAT=ACCEPTED:we
	b@bandits-clan.ru
ATTENDEE;CN="Adellface";CUTYPE=INDIVIDUAL;PARTSTAT=ACCEPTED:
	web@bandits-clan.ru
ATTENDEE;CN="zelenin";CUTYPE=INDIVIDUAL;PARTSTAT=ACCEPTED:we
	b@bandits-clan.ru
ATTENDEE;CN="bonart";CUTYPE=INDIVIDUAL;PARTSTAT=ACCEPTED:web
	@bandits-clan.ru
END:VEVENT
END:VCALENDAR
