BEGIN:VCALENDAR
VERSION:2.0
PRODID:-//InvisionCommunity Events 4.7.14//EN
METHOD:PUBLISH
CALSCALE:GREGORIAN
REFRESH-INTERVAL:PT15M
X-PUBLISHED-TTL:PT15M
X-WR-CALNAME:The Elder Scrolls Online
NAME:The Elder Scrolls Online
BEGIN:VTIMEZONE
TZID:Europe/London
TZURL:http://tzurl.org/zoneinfo/Europe/London
X-LIC-LOCATION:Europe/London
BEGIN:DAYLIGHT
TZOFFSETFROM:+0000
TZOFFSETTO:+0100
TZNAME:BST
DTSTART:20190331T020000Z
RRULE:FREQ=YEARLY;BYMONTH=3;BYDAY=-1SU
END:DAYLIGHT
BEGIN:STANDARD
TZOFFSETFROM:+0100
TZOFFSETTO:+0000
TZNAME:GMT
DTSTART:20191027T020000Z
RRULE:FREQ=YEARLY;BYMONTH=10;BYDAY=-1SU
END:STANDARD
END:VTIMEZONE
BEGIN:VEVENT
SUMMARY:[TESO] Ночной триал (nHoF)\, обучающий
DTSTAMP:20190325T205140Z
SEQUENCE:2
UID:5209-1-afb15bc42254ad5fb0481ce5e9c8144d@forum.bandits-clan.ru
ORGANIZER;CN="Tykot":web@bandits-clan.ru
DESCRIPTION:Куда идём? В 23-00 по МСК
	 проходим normal версию триала The Hal
	ls of Fabrication Что получим? Вещи из топов
	ых сетов - War Machine\, Master Architect
	 и других\nО
	тметку о 
	прохождении т
	риала для повышения зва
	ния в гильдии Требования: Звани
	е Thief\, Soldier или выше\n160 cp\nГильдей
	ский табард\nTeam Speak\nНаличие гл
	авы Morrowind Нам нужны: 2 т
	анка\, 2 хила\, 8 дд
	 Кто идет хилом 
	или танком\, пиш
	ите в комментари
	ях свою роль\, чтобы 
	у нас не получилось 
	на старте 5 хилов и 4 
	танка.\nПриходит
	е заранее\, в то
	м числе в тимспи
	к\, вместо опозд
	авших наберем ж
	елающих из чата.\
	nЕсли ваш ник в
	 игре отличает
	ся от ника на фо
	руме\, укажит
	е в коммента
	риях свой игро
	вой ник.\nЧело
	век считаетс
	я записавшим
	ся на событие то
	гда\, когда он подт
	верждает своё уч
	астие кнопкой \"Пой
	ду\" (справа).\nК
	омментарии не
	 являются запи
	сью\, они служат дл
	я распределения ролей\, обсужде
	ния сетов и так далее.
DTSTART:20190330T200000Z
ATTENDEE;CN="Tykot";CUTYPE=INDIVIDUAL;PARTSTAT=ACCEPTED:web@
	bandits-clan.ru
ATTENDEE;CN="zelenin";CUTYPE=INDIVIDUAL;PARTSTAT=ACCEPTED:we
	b@bandits-clan.ru
ATTENDEE;CN="DemGruim ";CUTYPE=INDIVIDUAL;PARTSTAT=ACCEPTED:
	web@bandits-clan.ru
ATTENDEE;CN="Orcoholist";CUTYPE=INDIVIDUAL;PARTSTAT=ACCEPTED
	:web@bandits-clan.ru
ATTENDEE;CN="saksanoid";CUTYPE=INDIVIDUAL;PARTSTAT=ACCEPTED:
	web@bandits-clan.ru
ATTENDEE;CN="murder_face";CUTYPE=INDIVIDUAL;PARTSTAT=ACCEPTE
	D:web@bandits-clan.ru
ATTENDEE;CN="angelflame666";CUTYPE=INDIVIDUAL;PARTSTAT=ACCEP
	TED:web@bandits-clan.ru
ATTENDEE;CN="Shaber";CUTYPE=INDIVIDUAL;PARTSTAT=ACCEPTED:web
	@bandits-clan.ru
ATTENDEE;CN="Babayka";CUTYPE=INDIVIDUAL;PARTSTAT=ACCEPTED:we
	b@bandits-clan.ru
ATTENDEE;CN="kagarik";CUTYPE=INDIVIDUAL;PARTSTAT=ACCEPTED:we
	b@bandits-clan.ru
ATTENDEE;CN="Adellface";CUTYPE=INDIVIDUAL;PARTSTAT=ACCEPTED:
	web@bandits-clan.ru
ATTENDEE;CN="firimar";CUTYPE=INDIVIDUAL;PARTSTAT=ACCEPTED:we
	b@bandits-clan.ru
ATTENDEE;CN="@K0RVINUS";CUTYPE=INDIVIDUAL;PARTSTAT=ACCEPTED:
	web@bandits-clan.ru
ATTENDEE;CN="Barbarblade";CUTYPE=INDIVIDUAL;PARTSTAT=ACCEPTE
	D:web@bandits-clan.ru
END:VEVENT
END:VCALENDAR
